{"text_format":"1","workbook":"xlsx","n_sheets":8,"sheets":["Tarifierung","Tarifgruppen","Tarifgruppe S","Tarif URP","Werte","Mapping für KRisk","Maklertarif","V-Tarif"],"not_rendered":{"charts":0,"images":0,"macros":1,"external_links":2,"defined_names":295,"comments":0,"pivot_tables":0},"unopened":[],"bounds":{"document_bytes":16777216,"sheet_cells":100000,"rows_first":2000,"rows_last":500,"rows_between":2000,"halvings":0,"cell_chars":16384,"cell_head_chars":4096},"cells_cut":0,"cells_raw":0,"read":"whole","date_system":"1900"}

{"sheet":"Tarifierung","index":0,"n_rows":32,"n_cols":19,"rows_kept":32,"cut":false,"hidden":false,"merged":[]}
["V-Jahr",2080,2018,51,null,null,"VP2",null,5,null,null,"VP3",null,1,null,null,"VP4",null,1]
["Dynamik",0.05,"V-Beginn","Alter Vbeginn",null,null,null,null,"Alter Vbeginn",null,null,null,null,"Alter Vbeginn",null,null,null,null,"Alter Vbeginn"]
["Raucher","nein",null,null,null,"Raucher","nein",null,null,null,"Raucher","nein",null,null,null,"Raucher","nein"]
["Risikozuschlag URP",0,null,null,null,"Risikozuschlag URP",0,null,null,null,"Risikozuschlag URP",0,null,null,null,"Risikozuschlag URP",0]
["Alter zum V-Beginn",{"$f":"VJahr-(C1-D1)","v":113},null,null,null,"Alter zum V-Beginn",{"$f":"VJahr-(C1-I1)","v":67},null,null,null,"Alter zum V-Beginn",{"$f":"VJahr-(C1-N1)","v":63},null,null,null,"Alter zum V-Beginn",{"$f":"VJahr-(C1-S1)","v":63}]
["Gefahrengruppe","S",null,null,null,"Gefahrengruppe","S",null,null,null,"Gefahrengruppe","A",null,null,null,"Gefahrengruppe","A"]
["Integralfranchise","nein","BS","Nettobeitrag",null,"Integralfranchise","nein","BS","Nettobeitrag",null,"nein","nein","BS","Nettobeitrag",null,"Integralfranchise","nein","BS","Nettobeitrag"]
["Invalidität 600",335000,13.01,{"$f":"(B8/1000)*C8","v":4358.3500000000004},null,"Invalidität 350",575000,1.1200000000000001,{"$f":"(G8/1000)*H8","v":644.00000000000011},null,"Invalidität",0,0,{"$f":"(L8/1000)*M8","v":0},null,"Invalidität",0,0,{"$f":"(Q8/1000)*R8","v":0}]
["verb. GT Ärzte",0,0,{"$f":"(B9/1000)*C9","v":0},null,"verb. GT Ärzte",0,0,{"$f":"(G9/1000)*H9","v":0},null,"verb. GT Ärzte",0,0,{"$f":"(L9/1000)*M9","v":0},null,"verb. GT Ärzte",0,0,{"$f":"(Q9/1000)*R9","v":0}]
["Todesfallsumme",474000,5.89,{"$f":"(B10/1000)*C10","v":2791.8599999999997},null,"Todesfallsumme",607000,0.62,{"$f":"(G10/1000)*H10","v":376.34},null,"Todesfallsumme",0,0,{"$f":"(L10/1000)*M10","v":0},null,"Todesfallsumme",0,0,{"$f":"(Q10/1000)*R10","v":0}]
["UKTG",200,3.95,{"$f":"B11*C11","v":790},null,"UKTG",200,0.42,{"$f":"G11*H11","v":84},null,"UKTG",0,0,{"$f":"L11*M11","v":0},null,"UKTG",0,0,{"$f":"Q11*R11","v":0}]
["Genesungsgeld",0,0,{"$f":"B12*C12","v":0},null,"Genesungsgeld",0,0,{"$f":"G12*H12","v":0},null,"Genesungsgeld",0,0,{"$f":"L12*M12","v":0},null,"Genesungsgeld",0,0,{"$f":"Q12*R12","v":0}]
["TG ab 8. Tag",0,0,{"$f":"C13*B13","v":0},null,"TG ab 8. Tag",0,0,{"$f":"H13*G13","v":0},null,"TG ab 8. Tag",0,0,{"$f":"M13*L13","v":0},null,"TG ab 8. Tag",0,0,{"$f":"R13*Q13","v":0}]
["Tagegeld spezial",0,0,{"$f":"C14*B14","v":0},null,"Tagegeld spezial",0,0,{"$f":"H14*G14","v":0},null,"Tagegeld spezial",0,0,{"$f":"M14*L14","v":0},null,"Tagegeld spezial",0,0,{"$f":"R14*Q14","v":0}]
["KOP",50000,0,{"$f":"IF(B22=\"Basis\",((B15-15000)/5000)*C15,(IF(B22=\"Plus\",((B15-25000)/5000)*C15,((B15-50000)/5000)*C15)))","v":0},null,"KOP",25000,6.7,{"$f":"IF(G22=\"Basis\",((G15-15000)/5000)*H15,(IF(G22=\"Plus\",((G15-25000)/5000)*H15,((G15-50000)/5000)*H15)))","v":0},null,"KOP",15000,6.7,{"$f":"IF(L22=\"Basis\",((L15-15000)/5000)*M15,(IF(L22=\"Plus\",((L15-25000)/5000)*M15,((L15-50000)/5000)*M15)))","v":0},null,"KOP",15000,6.7,{"$f":"IF(Q22=\"Basis\",((Q15-15000)/5000)*R15,(IF(Q22=\"Plus\",((Q15-25000)/5000)*R15,((Q15-50000)/5000)*R15)))","v":0}]
["Bergungskosten",50000,0,{"$f":"IF(B22=\"Basis\",((B16-15000)/5000)*C16,(IF(B22=\"Plus\",((B16-25000)/5000)*C16,((B16-50000)/5000)*C16)))","v":0},null,"Bergungskosten",25000,4.8,{"$f":"IF(G22=\"Basis\",((G16-15000)/5000)*H16,(IF(G22=\"Plus\",((G16-25000)/5000)*H16,((G16-50000)/5000)*H16)))","v":0},null,"Bergungskosten",15000,4.8,{"$f":"IF(L22=\"Basis\",((L16-15000)/5000)*M16,(IF(L22=\"Plus\",((L16-25000)/5000)*M16,((L16-50000)/5000)*M16)))","v":0},null,"Bergungskosten",15000,4.8,{"$f":"IF(Q22=\"Basis\",((Q16-15000)/5000)*R16,(IF(Q22=\"Plus\",((Q16-25000)/5000)*R16,((Q16-50000)/5000)*R16)))","v":0}]
["UIR",0,0,{"$f":"B17/10*C17","v":0},null,"UIR",0,0,{"$f":"G17/10*H17","v":0},null,"UIR",0,0,{"$f":"L17/10*M17","v":0},null,"UIR",0,0,{"$f":"Q17/10*R17","v":0}]
["URP",0,0,{"$f":"IF(B3=\"nein\",B18/10*C18,B18/10*C18*(1+Werte!$B$14))","v":0},null,"URP 67 K",0,0,{"$f":"IF(G3=\"nein\",G18/10*H18,G18/10*H18*(1+Werte!$B$14))","v":0},null,"URP",0,0,{"$f":"IF(L3=\"nein\",L18/10*M18,L18/10*M18*(1+Werte!$B$14))","v":0},null,"URP",0,0,{"$f":"IF(Q3=\"nein\",Q18/10*R18,Q18/10*R18*(1+Werte!$B$14))","v":0}]
["Kinderzusatzschutz","nein",0,{"$f":"VP1_KiMo_BS","v":0},null,"Kinderzusatzschutz","nein",0,{"$f":"VP2_KiMo_BS","v":0},null,"Kinderzusatzschutz","nein",0,{"$f":"VP3_KiMo_BS","v":0},null,"Kinderzusatzschutz","nein",0,{"$f":"VP4_KiMo_BS","v":0}]
["Körpermodul","nein",null,null,null,"Körpermodul","nein",null,null,null,"Körpermodul","nein",null,null,null,"Körpermodul","nein"]
["CuraPlus","nein",0,{"$f":"C21","v":0},null,"CuraPlus","nein",0,{"$f":"H21","v":0},null,"CuraPlus","nein",0,{"$f":"M21","v":0},null,"CuraPlus","nein",0,{"$f":"R21","v":0}]
["Produktlinie","Premium",1.4319999999999999,{"$f":"(SUM(D8:D17)+D18*(1+B4)+SUM(D19:D21))*C22","v":11370.380719999999},null,"Produktlinie","Plus",1.268,{"$f":"(SUM(I8:I17)+I18*(1+G4)+SUM(I19:I21))*H22","v":1400.3031200000003},null,"Produktlinie","Basis",1,{"$f":"(SUM(N8:N17)+N18*(1+L4)+SUM(N19:N21))*M22","v":0},null,"Produktlinie","Basis",1,{"$f":"(SUM(S8:S17)+S18*(1+Q4)+SUM(S19:S21))*R22","v":0}]
[]
["abzgl. SHU-Quote",0.2,null,{"$f":"ROUND((1-B$24)*D22,2)","v":9096.2999999999993},null,"abzgl. SHU-Quote",0.2,null,{"$f":"ROUND((1-G$24)*I22,2)","v":1120.24},null,"abzgl. SHU-Quote",0,null,{"$f":"ROUND((1-L$24)*N22,2)","v":0},null,"abzgl. SHU-Quote",0,null,{"$f":"ROUND((1-Q$24)*S22,2)","v":0}]
["abzgl. DN",0.05,null,{"$f":"ROUND((1-B$25)*D24,2)","v":8641.49},null,"abzgl. DN",{"$f":"VP1_DN","v":0.05},null,{"$f":"ROUND((1-G$25)*I24,2)","v":1064.23},null,"abzgl. DN",{"$f":"VP1_DN","v":0.05},null,{"$f":"ROUND((1-L$25)*N24,2)","v":0},null,"abzgl. DN",{"$f":"VP1_DN","v":0.05},null,{"$f":"ROUND((1-Q$25)*S24,2)","v":0}]
["Bruttobeitrag",null,null,{"$f":"ROUND(D25*(1+Werte!$B$27),2)","v":10283.370000000001},null,"Bruttobeitrag",null,null,{"$f":"ROUND(I25*(1+Werte!$B$27),2)","v":1266.43},null,"Bruttobeitrag",null,null,{"$f":"ROUND(N25*(1+Werte!$B$27),2)","v":0},null,"Bruttobeitrag",null,null,{"$f":"ROUND(S25*(1+Werte!$B$27),2)","v":0}]
[]
["Gesamtbeitrag (netto)",{"$f":"D25+I25+N25+S25","v":9705.7199999999993}]
["jährlich (brutto)",{"$f":"B28*(1+Werte!B27)","v":11549.806799999998}]
["halbjährlich (brutto)",{"$f":"ROUND(B29*Werte!B23,2)","v":5948.15}]
["vierteljährlich (brutto)",{"$f":"ROUND(B29*Werte!B24,2)","v":3031.82}]
["monatlich (brutto)",{"$f":"ROUND(B29*Werte!B25,2)","v":1029.8599999999999}]

{"sheet":"Tarifgruppen","index":1,"n_rows":22,"n_cols":10,"rows_kept":22,"cut":false,"hidden":true,"merged":[]}
["Spalte 1","Spalte 2","Spalte 3","Spalte 4","Spalte 5","Spalte 6","Spalte 7","Spalte 8","Spalte 9","Spalte 10"]
[null,"Leistungsarten Erwachsene Kinder",null,"A","B1","B2","B3","B4","K","S"]
["Progression","ohne","je 1.000 ",0.66,0.93,1,1.2,1.46,0.32,"siehe Tarifgruppe S"]
["Progression",3.5,"je 1.000 ",0.93,1.34,1.44,1.73,2.11,0.42,"siehe Tarifgruppe S"]
["Progression",6,"je 1.000 ",1.1499999999999999,1.67,1.79,2.15,2.63,0.47,"siehe Tarifgruppe S"]
[null,"mit verbesserter Gliedertaxe für Ärzte UIVGT","je 1.000 ",1.36,0,0,0,0,0,"-"]
[null,"mit verbesserter Gliedertaxe für Ärzte mit UIVGP 350%","je 1.000 ",2.92,0,0,0,0,0,"-"]
[null,"Invaliditätsrente 0 – 59 Jahre UIR 65","je 10 ",0.44,0.82,0.86,0.91,1.1000000000000001,0.31,"-"]
[null,"Invaliditätsrente 0 – 59 Jahre UIR (ein Leben lang)","je 10 ",0.79,1.29,1.37,1.44,1.75,0.36]
[null,null,null,0,0,0,0,0,0]
[null,"Tod UT","je 1.000 ",0.52,0.66,0.66,0.66,0.66,0.34,0.34]
[null,"Unfallkrankenhaustagegeld UKT","je 1",0.35,0.46,0.46,0.46,0.46,0.21,0.21]
[null,"Genesungsgeld GG ","je 1",0.34,0.45,0.45,0.45,0.45,0.2,0.2]
["Tagegeld","ab 8. Tag","je 1",4.46,6.94,6.94,6.94,6.94,0,"-"]
["Tagegeld","ab 15. Tag","je 1",4.07,5.16,5.16,5.16,5.16,0,"-"]
["Tagegeld","ab 29. Tag","je 1",2.95,4.38,4.38,4.38,4.38,0,"-"]
["Tagegeld","ab 43. Tag","je 1",2.79,4.1100000000000003,4.1100000000000003,4.1100000000000003,4.1100000000000003,0,"-"]
[null,"Tagegeld Spezial TGsp","je 1",4.07,5.16,5.16,5.16,5.16,3.88,"siehe Tarifgruppe S"]
[null,"Kosmetische Operationen KOP","je 5.000",6.7,6.7,6.7,6.7,6.7,3.35,6.7]
[null,"Bergungskosten BK bis 10.000 beitragsfrei","je 5.000",4.8,4.8,4.8,4.8,4.8,2.4,4.8]
[null,"Baustein CuraPlus",null,60,60,60,60,60,15,120]
[null,"Kinderzusatzschutz",null,0,0,0,0,0,50.76]

{"sheet":"Tarifgruppe S","index":2,"n_rows":75,"n_cols":15,"rows_kept":75,"cut":false,"hidden":true,"merged":[[11,1,11,7],[11,8,11,14]]}
["Mappingzeile für Makro \"BS_Invalidität\""]
["Spalte 1","Spalte 2","Spalte 3","Spalte 4","Spalte 5","Spalte 6","Spalte 7","Spalte 8","Spalte 9","Spalte 10","Spalte 11","Spalte 12","Spalte 13","Spalte 14","Spalte 15"]
["VP1",{"$f":"ROUND(VLOOKUP(Tarifierung!$B$5,$A$13:$O$75,2,FALSE),2)","v":7.49},{"$f":"ROUND(VLOOKUP(Tarifierung!$B$5,$A$13:$O$75,3,FALSE),2)","v":10.54},{"$f":"ROUND(VLOOKUP(Tarifierung!$B$5,$A$13:$O$75,4,FALSE),2)","v":13.01},{"$f":"ROUND(VLOOKUP(Tarifierung!$B$5,$A$13:$O$75,5,FALSE),2)","v":5.89},{"$f":"ROUND(VLOOKUP(Tarifierung!$B$5,$A$13:$O$75,6,FALSE),2)","v":3.95},{"$f":"ROUND(VLOOKUP(Tarifierung!$B$5,$A$13:$O$75,7,FALSE),2)","v":3.85},{"$f":"ROUND(VLOOKUP(Tarifierung!$B$5,$A$13:$O$75,8,FALSE),2)","v":46.08},{"$f":"ROUND(VLOOKUP(Tarifierung!$B$5,$A$13:$O$75,9,FALSE),2)","v":6.24},{"$f":"ROUND(VLOOKUP(Tarifierung!$B$5,$A$13:$O$75,10,FALSE),2)","v":8.7799999999999994},{"$f":"ROUND(VLOOKUP(Tarifierung!$B$5,$A$13:$O$75,11,FALSE),2)","v":10.84},{"$f":"ROUND(VLOOKUP(Tarifierung!$B$5,$A$13:$O$75,12,FALSE),2)","v":4.91},{"$f":"ROUND(VLOOKUP(Tarifierung!$B$5,$A$13:$O$75,13,FALSE),2)","v":3.29},{"$f":"ROUND(VLOOKUP(Tarifierung!$B$5,$A$13:$O$75,14,FALSE),2)","v":3.21},{"$f":"ROUND(VLOOKUP(Tarifierung!$B$5,$A$13:$O$75,15,FALSE),2)","v":38.4}]
["VP2",{"$f":"ROUND(VLOOKUP(Tarifierung!$G$5,$A$13:$O$75,2,FALSE),2)","v":0.79},{"$f":"ROUND(VLOOKUP(Tarifierung!$G$5,$A$13:$O$75,3,FALSE),2)","v":1.1200000000000001},{"$f":"ROUND(VLOOKUP(Tarifierung!$G$5,$A$13:$O$75,4,FALSE),2)","v":1.38},{"$f":"ROUND(VLOOKUP(Tarifierung!$G$5,$A$13:$O$75,5,FALSE),2)","v":0.62},{"$f":"ROUND(VLOOKUP(Tarifierung!$G$5,$A$13:$O$75,6,FALSE),2)","v":0.42},{"$f":"ROUND(VLOOKUP(Tarifierung!$G$5,$A$13:$O$75,7,FALSE),2)","v":0.41},{"$f":"ROUND(VLOOKUP(Tarifierung!$G$5,$A$13:$O$75,8,FALSE),2)","v":4.88},{"$f":"ROUND(VLOOKUP(Tarifierung!$G$5,$A$13:$O$75,9,FALSE),2)","v":0.66},{"$f":"ROUND(VLOOKUP(Tarifierung!$G$5,$A$13:$O$75,10,FALSE),2)","v":0.93},{"$f":"ROUND(VLOOKUP(Tarifierung!$G$5,$A$13:$O$75,11,FALSE),2)","v":1.1499999999999999},{"$f":"ROUND(VLOOKUP(Tarifierung!$G$5,$A$13:$O$75,12,FALSE),2)","v":0.52},{"$f":"ROUND(VLOOKUP(Tarifierung!$G$5,$A$13:$O$75,13,FALSE),2)","v":0.35},{"$f":"ROUND(VLOOKUP(Tarifierung!$G$5,$A$13:$O$75,14,FALSE),2)","v":0.34},{"$f":"ROUND(VLOOKUP(Tarifierung!$G$5,$A$13:$O$75,15,FALSE),2)","v":4.07}]
["VP3",{"$f":"ROUND(VLOOKUP(Tarifierung!$L$5,$A$13:$O$75,2,FALSE),2)","v":{"$error":"#N/A"}},{"$f":"ROUND(VLOOKUP(Tarifierung!$L$5,$A$13:$O$75,3,FALSE),2)","v":{"$error":"#N/A"}},{"$f":"ROUND(VLOOKUP(Tarifierung!$L$5,$A$13:$O$75,4,FALSE),2)","v":{"$error":"#N/A"}},{"$f":"ROUND(VLOOKUP(Tarifierung!$L$5,$A$13:$O$75,5,FALSE),2)","v":{"$error":"#N/A"}},{"$f":"ROUND(VLOOKUP(Tarifierung!$L$5,$A$13:$O$75,6,FALSE),2)","v":{"$error":"#N/A"}},{"$f":"ROUND(VLOOKUP(Tarifierung!$L$5,$A$13:$O$75,7,FALSE),2)","v":{"$error":"#N/A"}},{"$f":"ROUND(VLOOKUP(Tarifierung!$L$5,$A$13:$O$75,8,FALSE),2)","v":{"$error":"#N/A"}},{"$f":"ROUND(VLOOKUP(Tarifierung!$L$5,$A$13:$O$75,9,FALSE),2)","v":{"$error":"#N/A"}},{"$f":"ROUND(VLOOKUP(Tarifierung!$L$5,$A$13:$O$75,10,FALSE),2)","v":{"$error":"#N/A"}},{"$f":"ROUND(VLOOKUP(Tarifierung!$L$5,$A$13:$O$75,11,FALSE),2)","v":{"$error":"#N/A"}},{"$f":"ROUND(VLOOKUP(Tarifierung!$L$5,$A$13:$O$75,12,FALSE),2)","v":{"$error":"#N/A"}},{"$f":"ROUND(VLOOKUP(Tarifierung!$L$5,$A$13:$O$75,13,FALSE),2)","v":{"$error":"#N/A"}},{"$f":"ROUND(VLOOKUP(Tarifierung!$L$5,$A$13:$O$75,14,FALSE),2)","v":{"$error":"#N/A"}},{"$f":"ROUND(VLOOKUP(Tarifierung!$L$5,$A$13:$O$75,15,FALSE),2)","v":{"$error":"#N/A"}}]
["VP4",{"$f":"ROUND(VLOOKUP(Tarifierung!$Q$5,$A$13:$O$75,2,FALSE),2)","v":{"$error":"#N/A"}},{"$f":"ROUND(VLOOKUP(Tarifierung!$Q$5,$A$13:$O$75,3,FALSE),2)","v":{"$error":"#N/A"}},{"$f":"ROUND(VLOOKUP(Tarifierung!$Q$5,$A$13:$O$75,4,FALSE),2)","v":{"$error":"#N/A"}},{"$f":"ROUND(VLOOKUP(Tarifierung!$Q$5,$A$13:$O$75,5,FALSE),2)","v":{"$error":"#N/A"}},{"$f":"ROUND(VLOOKUP(Tarifierung!$Q$5,$A$13:$O$75,6,FALSE),2)","v":{"$error":"#N/A"}},{"$f":"ROUND(VLOOKUP(Tarifierung!$Q$5,$A$13:$O$75,7,FALSE),2)","v":{"$error":"#N/A"}},{"$f":"ROUND(VLOOKUP(Tarifierung!$Q$5,$A$13:$O$75,8,FALSE),2)","v":{"$error":"#N/A"}},{"$f":"ROUND(VLOOKUP(Tarifierung!$Q$5,$A$13:$O$75,9,FALSE),2)","v":{"$error":"#N/A"}},{"$f":"ROUND(VLOOKUP(Tarifierung!$Q$5,$A$13:$O$75,10,FALSE),2)","v":{"$error":"#N/A"}},{"$f":"ROUND(VLOOKUP(Tarifierung!$Q$5,$A$13:$O$75,11,FALSE),2)","v":{"$error":"#N/A"}},{"$f":"ROUND(VLOOKUP(Tarifierung!$Q$5,$A$13:$O$75,12,FALSE),2)","v":{"$error":"#N/A"}},{"$f":"ROUND(VLOOKUP(Tarifierung!$Q$5,$A$13:$O$75,13,FALSE),2)","v":{"$error":"#N/A"}},{"$f":"ROUND(VLOOKUP(Tarifierung!$Q$5,$A$13:$O$75,14,FALSE),2)","v":{"$error":"#N/A"}},{"$f":"ROUND(VLOOKUP(Tarifierung!$Q$5,$A$13:$O$75,15,FALSE),2)","v":{"$error":"#N/A"}}]
[]
[]
[]
["Unfallkalkulation: Senioren"]
[]
[null,"ohne Integralfranchise",null,null,null,null,null,null,"mit Integralfranchise"]
["Alter","ohne Progression","350 Progression","600 Progression","Unfalltod","KHTG","GG","TG spez","ohne Progression","350 Progression","600 Progression","Unfalltod","KHTG","GG","TG spez"]
["Basis"]
[]
[]
[67,0.79,1.1200000000000001,1.38,0.62,0.42,0.41,4.88,0.66,0.93,1.1499999999999999,0.52,0.35,0.34,4.07]
[68,0.83,1.17,1.45,0.66,0.44,0.43,5.13,0.69,0.98,1.21,0.55000000000000004,0.37,0.36,4.2699999999999996]
[69,0.87,1.23,1.52,0.69,0.46,0.45,5.38,0.73,1.03,1.27,0.56999999999999995,0.38,0.37,4.49]
[70,0.92,1.29,1.6,0.72,0.48,0.47,5.65,0.77,1.08,1.33,0.6,0.4,0.39,4.71]
[71,0.96,1.36,1.68,0.76,0.51,0.5,5.94,0.8,1.1299999999999999,1.4,0.63,0.42,0.41,4.95]
[72,1.01,1.43,1.76,0.8,0.53,0.52,6.23,0.84,1.19,1.47,0.66,0.44,0.43,5.19]
[73,1.06,1.5,1.85,0.84,0.56000000000000005,0.55000000000000004,6.55,0.89,1.25,1.54,0.7,0.47,0.46,5.45]
[74,1.1200000000000001,1.57,1.94,0.88,0.59,0.56999999999999995,6.87,0.93,1.31,1.62,0.73,0.49,0.48,5.73]
[75,1.17,1.65,2.04,0.92,0.62,0.6,7.22,0.98,1.38,1.7,0.77,0.51,0.5,6.01]
[76,1.23,1.73,2.14,0.97,0.65,0.63,7.58,1.03,1.44,1.78,0.81,0.54,0.53,6.31]
[77,1.29,1.82,2.25,1.02,0.68,0.66,7.96,1.08,1.52,1.87,0.85,0.56999999999999995,0.55000000000000004,6.63]
[78,1.36,1.91,2.36,1.07,0.72,0.7,8.35,1.1299999999999999,1.59,1.96,0.89,0.6,0.57999999999999996,6.96]
[79,1.42,2.0099999999999998,2.48,1.1200000000000001,0.75,0.73,8.77,1.19,1.67,2.06,0.93,0.63,0.61,7.31]
[80,1.5,2.11,2.6,1.18,0.79,0.77,9.2100000000000009,1.25,1.76,2.17,0.98,0.66,0.64,7.67]
[81,1.57,2.21,2.73,1.24,0.83,0.81,9.67,1.31,1.84,2.27,1.03,0.69,0.67,8.06]
[82,1.65,2.3199999999999998,2.87,1.3,0.87,0.85,10.15,1.37,1.94,2.39,1.08,0.72,0.71,8.4600000000000009]
[83,1.73,2.44,3.01,1.36,0.91,0.89,10.66,1.44,2.0299999999999998,2.5099999999999998,1.1399999999999999,0.76,0.74,8.8800000000000008]
[84,1.82,2.56,3.16,1.43,0.96,0.94,11.19,1.52,2.13,2.63,1.19,0.8,0.78,9.33]
[85,1.91,2.69,3.32,1.5,1.01,0.98,11.75,1.59,2.2400000000000002,2.76,1.25,0.84,0.82,9.7899999999999991]
[86,2,2.82,3.48,1.58,1.06,1.03,12.34,1.67,2.35,2.9,1.31,0.88,0.86,10.28]
[87,2.11,2.96,3.66,1.66,1.1100000000000001,1.08,12.96,1.75,2.4700000000000002,3.05,1.38,0.92,0.9,10.8]
[88,2.21,3.11,3.84,1.74,1.17,1.1399999999999999,13.61,1.84,2.59,3.2,1.45,0.97,0.95,11.34]
[89,2.3199999999999998,3.27,4.03,1.83,1.22,1.19,14.29,1.93,2.72,3.36,1.52,1.02,0.99,11.91]
[90,2.44,3.43,4.2300000000000004,1.92,1.28,1.25,15,2.0299999999999998,2.86,3.53,1.6,1.07,1.04,12.5]
[91,2.56,3.6,4.45,2.0099999999999998,1.35,1.32,15.75,2.13,3,3.7,1.68,1.1200000000000001,1.1000000000000001,13.13]
[92,2.69,3.78,4.67,2.11,1.42,1.38,16.54,2.2400000000000002,3.15,3.89,1.76,1.18,1.1499999999999999,13.78]
[93,2.82,3.97,4.9000000000000004,2.2200000000000002,1.49,1.45,17.37,2.35,3.31,4.08,1.85,1.24,1.21,14.47]
[94,2.96,4.17,5.15,2.33,1.56,1.52,18.23,2.4700000000000002,3.48,4.29,1.94,1.3,1.27,15.2]
[95,3.11,4.38,5.4,2.4500000000000002,1.64,1.6,19.149999999999999,2.59,3.65,4.5,2.04,1.37,1.33,15.95]
[96,3.27,4.5999999999999996,5.67,2.57,1.72,1.68,20.100000000000001,2.72,3.83,4.7300000000000004,2.14,1.43,1.4,16.75]
[97,3.43,4.83,5.96,2.7,1.81,1.76,21.11,2.86,4.0199999999999996,4.97,2.25,1.51,1.47,17.59]
[98,3.6,5.07,6.26,2.83,1.9,1.85,22.16,3,4.22,5.21,2.36,1.58,1.54,18.47]
[99,3.78,5.32,6.57,2.97,1.99,1.94,23.27,3.15,4.4400000000000004,5.47,2.48,1.66,1.62,19.39]
[100,3.97,5.59,6.9,3.12,2.09,2.04,24.44,3.31,4.66,5.75,2.6,1.74,1.7,20.36]
[101,4.17,5.87,7.24,3.28,2.2000000000000002,2.14,25.66,3.47,4.8899999999999997,6.04,2.73,1.83,1.79,21.38]
[102,4.38,6.16,7.6,3.44,2.31,2.25,26.94,3.65,5.14,6.34,2.87,1.92,1.88,22.45]
[103,4.5999999999999996,6.47,7.98,3.61,2.42,2.36,28.29,3.83,5.39,6.65,3.01,2.02,1.97,23.57]
[104,4.83,6.79,8.3800000000000008,3.79,2.54,2.48,29.7,4.0199999999999996,5.66,6.99,3.16,2.12,2.0699999999999998,24.75]
[105,5.07,7.13,8.8000000000000007,3.98,2.67,2.61,31.19,4.22,5.94,7.34,3.32,2.23,2.17,25.99]
[106,5.32,7.49,9.24,4.18,2.8,2.74,32.75,4.43,6.24,7.7,3.49,2.34,2.2799999999999998,27.29]
[107,5.59,7.86,9.7100000000000009,4.3899999999999997,2.94,2.87,34.380000000000003,4.6500000000000004,6.55,8.09,3.66,2.4500000000000002,2.39,28.65]
[108,5.87,8.26,10.19,4.6100000000000003,3.09,3.02,36.1,4.8899999999999997,6.88,8.49,3.84,2.58,2.5099999999999998,30.09]
[109,6.16,8.67,10.7,4.84,3.25,3.17,37.909999999999997,5.13,7.23,8.92,4.04,2.7,2.64,31.59]
[110,6.47,9.1,11.23,5.09,3.41,3.33,39.799999999999997,5.39,7.59,9.36,4.24,2.84,2.77,33.17]
[111,6.79,9.56,11.8,5.34,3.58,3.49,41.79,5.66,7.97,9.83,4.45,2.98,2.91,34.83]
[112,7.13,10.039999999999999,12.39,5.61,3.76,3.67,43.88,5.94,8.36,10.32,4.67,3.13,3.05,36.57]
[113,7.49,10.54,13.01,5.89,3.95,3.85,46.08,6.24,8.7799999999999994,10.84,4.91,3.29,3.21,38.4]
[114,7.86,11.07,13.66,6.18,4.1399999999999997,4.04,48.38,6.55,9.2200000000000006,11.38,5.15,3.45,3.37,40.32]
[115,8.25,11.62,14.34,6.49,4.3499999999999996,4.24,50.8,6.88,9.68,11.95,5.41,3.62,3.54,42.33]
[116,8.67,12.2,15.06,6.81,4.57,4.46,53.34,7.22,10.17,12.55,5.68,3.81,3.71,44.45]
[117,9.1,12.81,15.81,7.16,4.8,4.68,56.01,7.58,10.68,13.17,5.96,4,3.9,46.67]
[118,9.5500000000000007,13.45,16.600000000000001,7.51,5.04,4.91,58.81,7.96,11.21,13.83,6.26,4.2,4.09,49.01]
[119,10.029999999999999,14.12,17.43,7.89,5.29,5.16,61.75,8.36,11.77,14.52,6.57,4.41,4.3,51.46]
[120,10.53,14.83,18.3,8.2799999999999994,5.55,5.42,64.83,8.7799999999999994,12.36,15.25,6.9,4.63,4.51,54.03]
[121,11.06,15.57,19.22,8.6999999999999993,5.83,5.69,68.08,9.2200000000000006,12.98,16.010000000000002,7.25,4.8600000000000003,4.74,56.73]
[122,11.61,16.350000000000001,20.18,9.1300000000000008,6.12,5.97,71.48,9.68,13.62,16.809999999999999,7.61,5.0999999999999996,4.9800000000000004,59.57]
[123,12.19,17.170000000000002,21.18,9.59,6.43,6.27,75.05,10.16,14.31,17.649999999999999,7.99,5.36,5.22,62.55]
[124,12.8,18.03,22.24,10.07,6.75,6.58,78.81,10.67,15.02,18.54,8.39,5.62,5.49,65.67]
[125,13.44,18.93,23.36,10.57,7.09,6.91,82.75,11.2,15.77,19.46,8.81,5.9,5.76,68.959999999999994]

{"sheet":"Tarif URP","index":3,"n_rows":75,"n_cols":7,"rows_kept":75,"cut":false,"hidden":true,"merged":[[7,1,7,2],[7,3,7,4],[7,5,7,6]]}
["Beitragssätze aus Datei \"Beiträge_Unfallrente_Plus_Stand_130930_send.xls\""]
["VP1",{"$f":"VLOOKUP(Tarifierung!$B$5,$A$9:$G$75,2,FALSE)","v":{"$error":"#N/A"}},{"$f":"VLOOKUP(Tarifierung!$B$5,$A$9:$G$75,3,FALSE)","v":{"$error":"#N/A"}},{"$f":"VLOOKUP(Tarifierung!$B$5,$A$9:$G$75,4,FALSE)","v":{"$error":"#N/A"}},{"$f":"VLOOKUP(Tarifierung!$B$5,$A$9:$G$75,5,FALSE)","v":{"$error":"#N/A"}},{"$f":"VLOOKUP(Tarifierung!$B$5,$A$9:$G$75,6,FALSE)","v":{"$error":"#N/A"}},{"$f":"VLOOKUP(Tarifierung!$B$5,$A$9:$G$75,7,FALSE)","v":{"$error":"#N/A"}}]
["VP2",{"$f":"VLOOKUP(Tarifierung!$G$5,$A$9:$G$75,2,FALSE)","v":{"$error":"#N/A"}},{"$f":"VLOOKUP(Tarifierung!$G$5,$A$9:$G$75,3,FALSE)","v":{"$error":"#N/A"}},{"$f":"VLOOKUP(Tarifierung!$G$5,$A$9:$G$75,4,FALSE)","v":{"$error":"#N/A"}},{"$f":"VLOOKUP(Tarifierung!$G$5,$A$9:$G$75,5,FALSE)","v":{"$error":"#N/A"}},{"$f":"VLOOKUP(Tarifierung!$G$5,$A$9:$G$75,6,FALSE)","v":{"$error":"#N/A"}},{"$f":"VLOOKUP(Tarifierung!$G$5,$A$9:$G$75,7,FALSE)","v":{"$error":"#N/A"}}]
["VP3",{"$f":"VLOOKUP(Tarifierung!$L$5,$A$9:$G$75,2,FALSE)","v":0},{"$f":"VLOOKUP(Tarifierung!$L$5,$A$9:$G$75,3,FALSE)","v":0},{"$f":"VLOOKUP(Tarifierung!$L$5,$A$9:$G$75,4,FALSE)","v":19.13},{"$f":"VLOOKUP(Tarifierung!$L$5,$A$9:$G$75,5,FALSE)","v":20.92},{"$f":"VLOOKUP(Tarifierung!$L$5,$A$9:$G$75,6,FALSE)","v":8.52},{"$f":"VLOOKUP(Tarifierung!$L$5,$A$9:$G$75,7,FALSE)","v":8.52}]
["VP4",{"$f":"VLOOKUP(Tarifierung!$Q$5,$A$9:$G$75,2,FALSE)","v":0},{"$f":"VLOOKUP(Tarifierung!$Q$5,$A$9:$G$75,3,FALSE)","v":0},{"$f":"VLOOKUP(Tarifierung!$Q$5,$A$9:$G$75,4,FALSE)","v":19.13},{"$f":"VLOOKUP(Tarifierung!$Q$5,$A$9:$G$75,5,FALSE)","v":20.92},{"$f":"VLOOKUP(Tarifierung!$Q$5,$A$9:$G$75,6,FALSE)","v":8.52},{"$f":"VLOOKUP(Tarifierung!$Q$5,$A$9:$G$75,7,FALSE)","v":8.52}]
[]
[]
[null,"URP 60",null,"URP lebenslang",null,"URP 67 K"]
["Alter","ohne Passivdynamik","mit Passivdynamik","ohne Passivdynamik","mit Passivdynamik","ohne Passivdynamik","mit Passivdynamik"]
[1,1.07,1.45,1.24,1.84,1.2,1.76]
[2,1.07,1.45,1.24,1.84,1.2,1.76]
[3,1.07,1.45,1.24,1.84,1.2,1.76]
[4,1.07,1.45,1.24,1.84,1.2,1.76]
[5,1.07,1.45,1.24,1.84,1.2,1.76]
[6,1.07,1.45,1.24,1.84,1.2,1.76]
[7,1.07,1.45,1.24,1.84,1.2,1.76]
[8,1.07,1.45,1.24,1.84,1.2,1.76]
[9,1.07,1.45,1.24,1.84,1.2,1.76]
[10,1.07,1.45,1.24,1.84,1.2,1.76]
[11,1.07,1.45,1.24,1.84,1.2,1.76]
[12,1.07,1.45,1.24,1.84,1.2,1.76]
[13,1.07,1.45,1.24,1.84,1.2,1.76]
[14,1.07,1.45,1.24,1.84,1.2,1.76]
[15,1.07,1.45,1.24,1.84,1.2,1.76]
[16,1.07,1.45,1.24,1.84,1.2,1.76]
[17,1.07,1.45,1.24,1.84,1.2,1.76]
[18,1.49,1.82,1.84,2.63,1.84,2.36]
[19,1.49,1.82,1.84,2.63,1.84,2.36]
[20,1.49,1.82,1.84,2.63,1.84,2.36]
[21,1.49,1.82,1.84,2.63,1.84,2.36]
[22,1.49,1.82,1.84,2.63,1.84,2.36]
[23,1.49,1.82,1.84,2.63,1.84,2.36]
[24,1.49,1.82,1.84,2.63,1.84,2.36]
[25,1.49,1.82,1.84,2.63,1.84,2.36]
[26,1.49,1.82,1.84,2.63,1.84,2.36]
[27,1.49,1.82,1.84,2.63,1.85,2.36]
[28,1.49,1.82,1.84,2.63,1.85,2.36]
[29,1.49,1.82,1.84,2.63,1.85,2.36]
[30,1.49,1.82,1.84,2.63,1.85,2.36]
[31,1.49,1.82,1.84,2.63,1.85,2.36]
[32,1.49,1.82,1.84,2.63,1.85,2.36]
[33,1.49,1.82,1.85,2.63,1.85,2.36]
[34,1.49,1.82,1.99,2.63,1.85,2.36]
[35,1.52,1.82,2.09,2.63,1.88,2.36]
[36,1.62,1.82,2.2599999999999998,2.82,2.0299999999999998,2.39]
[37,1.73,1.89,2.4300000000000002,3.01,2.17,2.54]
[38,1.83,2,2.61,3.22,2.3199999999999998,2.7]
[39,1.94,2.1,2.79,3.42,2.4700000000000002,2.85]
[40,1.99,2.15,2.91,3.53,2.56,2.93]
[41,2.12,2.27,3.13,3.79,2.74,3.13]
[42,2.2599999999999998,2.4,3.38,4.0599999999999996,2.95,3.33]
[43,2.4,2.5299999999999998,3.66,4.37,3.16,3.56]
[44,2.54,2.68,3.97,4.72,3.4,3.81]
[45,2.64,2.76,4.2,4.96,3.58,3.97]
[46,2.8,2.9,4.5599999999999996,5.36,3.85,4.25]
[47,2.95,3.05,4.96,5.8,4.1399999999999997,4.55]
[48,3.12,3.21,5.41,6.3,4.47,4.87]
[49,3.29,3.36,5.9,6.84,4.82,5.22]
[50,3.38,3.43,6.27,7.22,5.08,5.47]
[51,3.51,3.55,6.83,7.82,5.45,5.83]
[52,3.6,3.61,7.39,8.43,5.79,6.16]
[53,3.64,3.64,8,9.09,6.13,6.48]
[54,3.64,3.62,8.67,9.82,6.48,6.81]
[55,3.55,3.51,9.15,10.29,6.72,7.02]
[56,3.45,3.4,9.99,11.2,7.11,7.38]
[57,3.26,3.2,10.98,12.26,7.52,7.77]
[58,2.37,2.3199999999999998,12.15,13.53,7.97,8.18]
[59,0.95,0.93,13.48,14.96,8.39,8.56]
[60,null,null,14.41,15.87,8.6,8.73]
[61,null,null,15.96,17.53,8.82,8.91]
[62,null,null,17.559999999999999,19.239999999999998,8.81,8.85]
[63,null,null,19.13,20.92,8.52,8.52]
[64,null,null,20.75,22.64,7.9,7.87]
[65,null,null,21.58,23.38,5.55,5.51]
[66,null,null,23.22,25.1,2.23,2.21]

{"sheet":"Werte","index":4,"n_rows":349,"n_cols":16,"rows_kept":349,"cut":false,"hidden":true,"merged":[]}
[]
[]
[]
["Progression","nein",3.5,6]
["Gliedertaxe Ärzte","nein","ohne Progression","350 Progression"]
["Tagegeld","TG ab 8. Tag","TG ab 15. Tag","TG ab 29. Tag","TG ab 43. Tag"]
["Tagegeld spezial"]
["KOP",15000,20000,25000,30000,35000,40000,45000,50000,55000,60000]
["Bergungskosten",15000,20000,25000,30000,35000,40000,45000,50000,55000,60000]
["Invaliditätsrente"]
["Kinder-Rente",100,200,300,400,500,600,700,800,900,1000,1100,1200,1300,1400,1500]
["UnfallRente Plus"]
["Deckungsumfang","Basis","Plus","Premium"]
["Raucherzuschlag",0.2]
[]
["Nachlässe"]
["DN",0,0.05]
["V-Tarif",0.5]
["Maklertarif Unfall",0.05,null,null,"Zuschlag\nPlus","Zuschlag\nPremium","Zuschlag Premium & KöMo"]
["Maklertarif Top & PD",0.14499999999999999,0.24,"nur Einzelunfall",1.268,1.4319999999999999,1.6890000000000001]
[null,null,null,"nur URP",1.208,1.246]
["Faktoren Zahlweise",null,null,"Einzelunfall & URP",1.232,1.319,1.42]
["1/2-jährl.",0.51500000000000001]
["1/4-jährl.",0.26250000000000001]
["monatl.",8.9166999999999996E-2]
[]
["Versicherungssteuer",0.19]
[]
[]
[]
["mit verbesserter Gliedertaxe für Ärzte mit UIVGP 350%"]
[]
[]
[]
["Entschädigungsgrenzen"]
["EG_Tagegeld",{"$f":"IF(Tarifierung!B8>(50000/3),\"50\",(Tarifierung!B8/1000)*3)","v":"50"}]
[]
[]
["Gefahrengruppen"]
["A",5]
["B",6]
["K",14]
["S",8]
[]
[]
[]
[]
[null,"UIR","URP"]
[null,0,0]
[null,10,10]
[null,20,20]
[null,30,30]
[null,40,40]
[null,50,50]
[null,60,60]
[null,70,70]
[null,80,80]
[null,90,90]
[null,100,100]
[null,110,110]
[null,120,120]
[null,130,130]
[null,140,140]
[null,150,150]
[null,160,160]
[null,170,170]
[null,180,180]
[null,190,190]
[null,200,200]
[null,210,210]
[null,220,220]
[null,230,230]
[null,240,240]
[null,250,250]
[null,260,260]
[null,270,270]
[null,280,280]
[null,290,290]
[null,300,300]
[null,310,310]
[null,320,320]
[null,330,330]
[null,340,340]
[null,350,350]
[null,360,360]
[null,370,370]
[null,380,380]
[null,390,390]
[null,400,400]
[null,410,410]
[null,420,420]
[null,430,430]
[null,440,440]
[null,450,450]
[null,460,460]
[null,470,470]
[null,480,480]
[null,490,490]
[null,500,500]
[null,510,510]
[null,520,520]
[null,530,530]
[null,540,540]
[null,550,550]
[null,560,560]
[null,570,570]
[null,580,580]
[null,590,590]
[null,600,600]
[null,610,610]
[null,620,620]
[null,630,630]
[null,640,640]
[null,650,650]
[null,660,660]
[null,670,670]
[null,680,680]
[null,690,690]
[null,700,700]
[null,710,710]
[null,720,720]
[null,730,730]
[null,740,740]
[null,750,750]
[null,760,760]
[null,770,770]
[null,780,780]
[null,790,790]
[null,800,800]
[null,810,810]
[null,820,820]
[null,830,830]
[null,840,840]
[null,850,850]
[null,860,860]
[null,870,870]
[null,880,880]
[null,890,890]
[null,900,900]
[null,910,910]
[null,920,920]
[null,930,930]
[null,940,940]
[null,950,950]
[null,960,960]
[null,970,970]
[null,980,980]
[null,990,990]
[null,1000,1000]
[null,1010,1010]
[null,1020,1020]
[null,1030,1030]
[null,1040,1040]
[null,1050,1050]
[null,1060,1060]
[null,1070,1070]
[null,1080,1080]
[null,1090,1090]
[null,1100,1100]
[null,1110,1110]
[null,1120,1120]
[null,1130,1130]
[null,1140,1140]
[null,1150,1150]
[null,1160,1160]
[null,1170,1170]
[null,1180,1180]
[null,1190,1190]
[null,1200,1200]
[null,1210,1210]
[null,1220,1220]
[null,1230,1230]
[null,1240,1240]
[null,1250,1250]
[null,1260,1260]
[null,1270,1270]
[null,1280,1280]
[null,1290,1290]
[null,1300,1300]
[null,1310,1310]
[null,1320,1320]
[null,1330,1330]
[null,1340,1340]
[null,1350,1350]
[null,1360,1360]
[null,1370,1370]
[null,1380,1380]
[null,1390,1390]
[null,1400,1400]
[null,1410,1410]
[null,1420,1420]
[null,1430,1430]
[null,1440,1440]
[null,1450,1450]
[null,1460,1460]
[null,1470,1470]
[null,1480,1480]
[null,1490,1490]
[null,1500,1500]
[null,null,1510]
[null,null,1520]
[null,null,1530]
[null,null,1540]
[null,null,1550]
[null,null,1560]
[null,null,1570]
[null,null,1580]
[null,null,1590]
[null,null,1600]
[null,null,1610]
[null,null,1620]
[null,null,1630]
[null,null,1640]
[null,null,1650]
[null,null,1660]
[null,null,1670]
[null,null,1680]
[null,null,1690]
[null,null,1700]
[null,null,1710]
[null,null,1720]
[null,null,1730]
[null,null,1740]
[null,null,1750]
[null,null,1760]
[null,null,1770]
[null,null,1780]
[null,null,1790]
[null,null,1800]
[null,null,1810]
[null,null,1820]
[null,null,1830]
[null,null,1840]
[null,null,1850]
[null,null,1860]
[null,null,1870]
[null,null,1880]
[null,null,1890]
[null,null,1900]
[null,null,1910]
[null,null,1920]
[null,null,1930]
[null,null,1940]
[null,null,1950]
[null,null,1960]
[null,null,1970]
[null,null,1980]
[null,null,1990]
[null,null,2000]
[null,null,2010]
[null,null,2020]
[null,null,2030]
[null,null,2040]
[null,null,2050]
[null,null,2060]
[null,null,2070]
[null,null,2080]
[null,null,2090]
[null,null,2100]
[null,null,2110]
[null,null,2120]
[null,null,2130]
[null,null,2140]
[null,null,2150]
[null,null,2160]
[null,null,2170]
[null,null,2180]
[null,null,2190]
[null,null,2200]
[null,null,2210]
[null,null,2220]
[null,null,2230]
[null,null,2240]
[null,null,2250]
[null,null,2260]
[null,null,2270]
[null,null,2280]
[null,null,2290]
[null,null,2300]
[null,null,2310]
[null,null,2320]
[null,null,2330]
[null,null,2340]
[null,null,2350]
[null,null,2360]
[null,null,2370]
[null,null,2380]
[null,null,2390]
[null,null,2400]
[null,null,2410]
[null,null,2420]
[null,null,2430]
[null,null,2440]
[null,null,2450]
[null,null,2460]
[null,null,2470]
[null,null,2480]
[null,null,2490]
[null,null,2500]
[null,null,2510]
[null,null,2520]
[null,null,2530]
[null,null,2540]
[null,null,2550]
[null,null,2560]
[null,null,2570]
[null,null,2580]
[null,null,2590]
[null,null,2600]
[null,null,2610]
[null,null,2620]
[null,null,2630]
[null,null,2640]
[null,null,2650]
[null,null,2660]
[null,null,2670]
[null,null,2680]
[null,null,2690]
[null,null,2700]
[null,null,2710]
[null,null,2720]
[null,null,2730]
[null,null,2740]
[null,null,2750]
[null,null,2760]
[null,null,2770]
[null,null,2780]
[null,null,2790]
[null,null,2800]
[null,null,2810]
[null,null,2820]
[null,null,2830]
[null,null,2840]
[null,null,2850]
[null,null,2860]
[null,null,2870]
[null,null,2880]
[null,null,2890]
[null,null,2900]
[null,null,2910]
[null,null,2920]
[null,null,2930]
[null,null,2940]
[null,null,2950]
[null,null,2960]
[null,null,2970]
[null,null,2980]
[null,null,2990]
[null,null,3000]

{"sheet":"Mapping für KRisk","index":5,"n_rows":2,"n_cols":43,"rows_kept":2,"cut":false,"hidden":true,"merged":[]}
["Alter","Gefahrengruppe","Integralfranchise","Progression","UI/UIP Vsu","BS UI/UIP","UIVGT/UIVGP","UIVGT/UIVGP Vsu","BS UIVGT","UT-Summe","BS UT","UKTG","BS UKTG","GG","BS GG","TG ab","TG Vsu","BS Tagegeld","TG spez","BS TG spez","KOP","BS KOP","BK","BS BK","UIR/UIR 67","UIR Vsu","BS UIR/UIR 67","URP","URP Vsu","BS URP","Kindermodul","Beitrag Kindermodul","Körpermodul","CuraPlus","BS CuraPlus","Produktlinie","Zuschlag Produktlinie","SHU-Quote","Laufzeit","jährlich","halbjährlich","vierteljährlich","monatlich"]
[{"$f":"Tarifierung!B5","v":113},{"$f":"VP1_Gruppe","v":"S"},{"$f":"Tarifierung!B7","v":"nein"},{"$f":"VP1_UI","v":"Invalidität 600"},{"$f":"Tarifierung!B8","v":335000},{"$f":"Tarifierung!C8","v":13.01},{"$f":"Tarifierung!A9","v":"verb. GT Ärzte"},{"$f":"VP1_UIVGT_VSu","v":0},{"$f":"Tarifierung!C9","v":0},{"$f":"Tarifierung!B10","v":474000},{"$f":"Tarifierung!C10","v":5.89},{"$f":"Tarifierung!B11","v":200},{"$f":"Tarifierung!C11","v":3.95},{"$f":"Tarifierung!B12","v":0},{"$f":"Tarifierung!C12","v":0},{"$f":"Tarifierung!A13","v":"TG ab 8. Tag"},{"$f":"Tarifierung!B13","v":0},{"$f":"Tarifierung!C13","v":0},{"$f":"Tarifierung!B14","v":0},{"$f":"Tarifierung!C14","v":0},{"$f":"Tarifierung!B15","v":50000},{"$f":"Tarifierung!C15","v":0},{"$f":"Tarifierung!B16","v":50000},{"$f":"Tarifierung!C16","v":0},{"$f":"Tarifierung!A17","v":"UIR"},{"$f":"Tarifierung!B17","v":0},{"$f":"Tarifierung!C17","v":0},{"$f":"Tarifierung!A18","v":"URP"},{"$f":"Tarifierung!B18","v":0},{"$f":"Tarifierung!C18","v":0},{"$f":"VP1_KiMo","v":"nein"},{"$f":"VP1_KiMo_BS","v":0},{"$f":"VP1_KöMo","v":"nein"},{"$f":"Tarifierung!B21","v":"nein"},{"$f":"Tarifierung!C21","v":0},{"$f":"Tarifierung!B22","v":"Premium"},{"$f":"Tarifierung!C22","v":1.4319999999999999},{"$f":"Tarifierung!B24","v":0.2},{"$f":"IF(Tarifierung!B25=0,1,5)","v":5},{"$f":"Tarifierung!B29","v":11549.806799999998},{"$f":"Tarifierung!B30","v":5948.15},{"$f":"Tarifierung!B31","v":3031.82},{"$f":"Tarifierung!B32","v":1029.8599999999999}]

{"sheet":"Maklertarif","index":6,"n_rows":94,"n_cols":21,"rows_kept":94,"cut":false,"hidden":true,"merged":[[26,17,26,18],[26,19,26,20],[26,1,26,7],[26,8,26,14]]}
[null,null,null,null,null,null,null,null,"Nachlass",0.05]
[null,"Gefahrengruppe A, B, K für Einzelunfall"]
[null,"Leistungsarten Erwachsene Kinder",null,"A","B","K","S"]
["Progression","ohne","je 1.000 ",{"$f":"ROUND(Tarifgruppen!D3*(1-Maklertarif!$J$1),3)","v":0.627},{"$f":"ROUND(Tarifgruppen!E3*(1-Maklertarif!$J$1),3)","v":0.88400000000000001},{"$f":"ROUND(Tarifgruppen!I3*(1-Maklertarif!$J$1),3)","v":0.30399999999999999}]
["Progression",3.5,"je 1.000 ",{"$f":"ROUND(Tarifgruppen!D4*(1-Maklertarif!$J$1),3)","v":0.88400000000000001},{"$f":"ROUND(Tarifgruppen!E4*(1-Maklertarif!$J$1),3)","v":1.2729999999999999},{"$f":"ROUND(Tarifgruppen!I4*(1-Maklertarif!$J$1),3)","v":0.39900000000000002}]
["Progression",6,"je 1.000 ",{"$f":"ROUND(Tarifgruppen!D5*(1-Maklertarif!$J$1),3)","v":1.093},{"$f":"ROUND(Tarifgruppen!E5*(1-Maklertarif!$J$1),3)","v":1.587},{"$f":"ROUND(Tarifgruppen!I5*(1-Maklertarif!$J$1),3)","v":0.44700000000000001}]
[null,"mit verbesserter Gliedertaxe für Ärzte UIVGT","je 1.000 ",{"$f":"ROUND(Tarifgruppen!D6*(1-Maklertarif!$J$1),3)","v":1.292}]
[null,"mit verbesserter Gliedertaxe für Ärzte mit UIVGP 350%","je 1.000 ",{"$f":"ROUND(Tarifgruppen!D7*(1-Maklertarif!$J$1),3)","v":2.774}]
[null,"Invaliditätsrente 0 – 59 Jahre UIR 65","je 10 ",{"$f":"ROUND(Tarifgruppen!D8*(1-Maklertarif!$J$1),3)","v":0.41799999999999998},{"$f":"ROUND(Tarifgruppen!E8*(1-Maklertarif!$J$1),3)","v":0.77900000000000003},{"$f":"ROUND(Tarifgruppen!I8*(1-Maklertarif!$J$1),3)","v":0.29499999999999998}]
[null,"Invaliditätsrente 0 – 59 Jahre UIR (ein Leben lang)","je 10 ",{"$f":"ROUND(Tarifgruppen!D9*(1-Maklertarif!$J$1),3)","v":0.751},{"$f":"ROUND(Tarifgruppen!E9*(1-Maklertarif!$J$1),3)","v":1.226},{"$f":"ROUND(Tarifgruppen!I9*(1-Maklertarif!$J$1),3)","v":0.34200000000000003},{"$f":"ROUND(Tarifgruppen!J9*(1-Maklertarif!$J$1),3)","v":0}]
[null,null,null,{"$f":"ROUND(Tarifgruppen!D10*(1-Maklertarif!$J$1),3)","v":0},{"$f":"ROUND(Tarifgruppen!E10*(1-Maklertarif!$J$1),3)","v":0},{"$f":"ROUND(Tarifgruppen!I10*(1-Maklertarif!$J$1),3)","v":0},{"$f":"ROUND(Tarifgruppen!J10*(1-Maklertarif!$J$1),3)","v":0}]
[null,"Tod UT","je 1.000 ",{"$f":"ROUND(Tarifgruppen!D11*(1-Maklertarif!$J$1),3)","v":0.49399999999999999},{"$f":"ROUND(Tarifgruppen!E11*(1-Maklertarif!$J$1),3)","v":0.627},{"$f":"ROUND(Tarifgruppen!J11*(1-Maklertarif!$J$1),3)","v":0.32300000000000001}]
[null,"Unfallkrankenhaustagegeld UKT","je 1",{"$f":"ROUND(Tarifgruppen!D12*(1-Maklertarif!$J$1),3)","v":0.33300000000000002},{"$f":"ROUND(Tarifgruppen!E12*(1-Maklertarif!$J$1),3)","v":0.437},{"$f":"ROUND(Tarifgruppen!J12*(1-Maklertarif!$J$1),3)","v":0.2}]
[null,"Genesungsgeld GG ","je 1",{"$f":"ROUND(Tarifgruppen!D13*(1-Maklertarif!$J$1),3)","v":0.32300000000000001},{"$f":"ROUND(Tarifgruppen!E13*(1-Maklertarif!$J$1),3)","v":0.42799999999999999},{"$f":"ROUND(Tarifgruppen!J13*(1-Maklertarif!$J$1),3)","v":0.19}]
["Tagegeld","ab 8. Tag","je 1",{"$f":"ROUND(Tarifgruppen!D14*(1-Maklertarif!$J$1),3)","v":4.2370000000000001},{"$f":"ROUND(Tarifgruppen!E14*(1-Maklertarif!$J$1),3)","v":6.593}]
["Tagegeld","ab 15. Tag","je 1",{"$f":"ROUND(Tarifgruppen!D15*(1-Maklertarif!$J$1),3)","v":3.867},{"$f":"ROUND(Tarifgruppen!E15*(1-Maklertarif!$J$1),3)","v":4.9020000000000001}]
["Tagegeld","ab 29. Tag","je 1",{"$f":"ROUND(Tarifgruppen!D16*(1-Maklertarif!$J$1),3)","v":2.8029999999999999},{"$f":"ROUND(Tarifgruppen!E16*(1-Maklertarif!$J$1),3)","v":4.1609999999999996}]
["Tagegeld","ab 43. Tag","je 1",{"$f":"ROUND(Tarifgruppen!D17*(1-Maklertarif!$J$1),3)","v":2.6509999999999998},{"$f":"ROUND(Tarifgruppen!E17*(1-Maklertarif!$J$1),3)","v":3.9049999999999998}]
[null,"Tagegeld Spezial TGsp","je 1",{"$f":"ROUND(Tarifgruppen!D18*(1-Maklertarif!$J$1),3)","v":3.867},{"$f":"ROUND(Tarifgruppen!E18*(1-Maklertarif!$J$1),3)","v":4.9020000000000001},{"$f":"ROUND(Tarifgruppen!I18*(1-Maklertarif!$J$1),3)","v":3.6859999999999999}]
[null,"Kosmetische Operationen KOP","je 5.000",{"$f":"ROUND(Tarifgruppen!D19*(1-Maklertarif!$J$1),3)","v":6.3650000000000002},{"$f":"ROUND(Tarifgruppen!E19*(1-Maklertarif!$J$1),3)","v":6.3650000000000002},{"$f":"ROUND(Tarifgruppen!I19*(1-Maklertarif!$J$1),3)","v":3.1829999999999998},{"$f":"ROUND(Tarifgruppen!J19*(1-Maklertarif!$J$1),3)","v":6.3650000000000002}]
[null,"Bergungskosten BK bis 10.000 beitragsfrei","je 5.000",{"$f":"ROUND(Tarifgruppen!D20*(1-Maklertarif!$J$1),3)","v":4.5599999999999996},{"$f":"ROUND(Tarifgruppen!E20*(1-Maklertarif!$J$1),3)","v":4.5599999999999996},{"$f":"ROUND(Tarifgruppen!I20*(1-Maklertarif!$J$1),3)","v":2.2799999999999998},{"$f":"ROUND(Tarifgruppen!J20*(1-Maklertarif!$J$1),3)","v":4.5599999999999996}]
[null,"Baustein CuraPlus",null,{"$f":"ROUND(Tarifgruppen!D21*(1-Maklertarif!$J$1),3)","v":57},{"$f":"ROUND(Tarifgruppen!E21*(1-Maklertarif!$J$1),3)","v":57},{"$f":"ROUND(Tarifgruppen!I21*(1-Maklertarif!$J$1),3)","v":14.25},{"$f":"ROUND(Tarifgruppen!J21*(1-Maklertarif!$J$1),3)","v":114}]
[]
[]
[]
[null,"Gefahrengruppe Senioren für Einzelunfall"]
[null,"ohne Integralfranchise",null,null,null,null,null,null,"mit Integralfranchise",null,null,null,null,null,null,null,null,"URP 60",null,"URP lebenslang"]
["Alter","ohne Progression","350 Progression","600 Progression","Unfalltod","KHTG","GG","TG spez","ohne Progression","350 Progression","600 Progression","Unfalltod","KHTG","GG","TG spez",null,"Alter","ohne Passivdynamik","mit Passivdynamik","ohne Passivdynamik","mit Passivdynamik"]
[null,null,null,null,null,null,null,null,null,null,null,null,null,null,null,null,1,{"$f":"ROUND('Tarif URP'!B10*(1-Maklertarif!$J$1),3)","v":1.0169999999999999},{"$f":"ROUND('Tarif URP'!C10*(1-Maklertarif!$J$1),3)","v":1.3779999999999999},{"$f":"ROUND('Tarif URP'!D10*(1-Maklertarif!$J$1),3)","v":1.1779999999999999},{"$f":"ROUND('Tarif URP'!E10*(1-Maklertarif!$J$1),3)","v":1.748}]
[null,null,null,null,null,null,null,null,null,null,null,null,null,null,null,null,2,{"$f":"ROUND('Tarif URP'!B11*(1-Maklertarif!$J$1),3)","v":1.0169999999999999},{"$f":"ROUND('Tarif URP'!C11*(1-Maklertarif!$J$1),3)","v":1.3779999999999999},{"$f":"ROUND('Tarif URP'!D11*(1-Maklertarif!$J$1),3)","v":1.1779999999999999},{"$f":"ROUND('Tarif URP'!E11*(1-Maklertarif!$J$1),3)","v":1.748}]
[null,null,null,null,null,null,null,null,null,null,null,null,null,null,null,null,3,{"$f":"ROUND('Tarif URP'!B12*(1-Maklertarif!$J$1),3)","v":1.0169999999999999},{"$f":"ROUND('Tarif URP'!C12*(1-Maklertarif!$J$1),3)","v":1.3779999999999999},{"$f":"ROUND('Tarif URP'!D12*(1-Maklertarif!$J$1),3)","v":1.1779999999999999},{"$f":"ROUND('Tarif URP'!E12*(1-Maklertarif!$J$1),3)","v":1.748}]
[67,{"$f":"ROUND('Tarifgruppe S'!B17*(1-Maklertarif!$J$1),3)","v":0.751},{"$f":"ROUND('Tarifgruppe S'!C17*(1-Maklertarif!$J$1),3)","v":1.0640000000000001},{"$f":"ROUND('Tarifgruppe S'!D17*(1-Maklertarif!$J$1),3)","v":1.3109999999999999},{"$f":"ROUND('Tarifgruppe S'!E17*(1-Maklertarif!$J$1),3)","v":0.58899999999999997},{"$f":"ROUND('Tarifgruppe S'!F17*(1-Maklertarif!$J$1),3)","v":0.39900000000000002},{"$f":"ROUND('Tarifgruppe S'!G17*(1-Maklertarif!$J$1),3)","v":0.39},{"$f":"ROUND('Tarifgruppe S'!H17*(1-Maklertarif!$J$1),3)","v":4.6360000000000001},{"$f":"ROUND('Tarifgruppe S'!I17*(1-Maklertarif!$J$1),3)","v":0.627},{"$f":"ROUND('Tarifgruppe S'!J17*(1-Maklertarif!$J$1),3)","v":0.88400000000000001},{"$f":"ROUND('Tarifgruppe S'!K17*(1-Maklertarif!$J$1),3)","v":1.093},{"$f":"ROUND('Tarifgruppe S'!L17*(1-Maklertarif!$J$1),3)","v":0.49399999999999999},{"$f":"ROUND('Tarifgruppe S'!M17*(1-Maklertarif!$J$1),3)","v":0.33300000000000002},{"$f":"ROUND('Tarifgruppe S'!N17*(1-Maklertarif!$J$1),3)","v":0.32300000000000001},{"$f":"ROUND('Tarifgruppe S'!O17*(1-Maklertarif!$J$1),3)","v":3.867},null,4,{"$f":"ROUND('Tarif URP'!B13*(1-Maklertarif!$J$1),3)","v":1.0169999999999999},{"$f":"ROUND('Tarif URP'!C13*(1-Maklertarif!$J$1),3)","v":1.3779999999999999},{"$f":"ROUND('Tarif URP'!D13*(1-Maklertarif!$J$1),3)","v":1.1779999999999999},{"$f":"ROUND('Tarif URP'!E13*(1-Maklertarif!$J$1),3)","v":1.748}]
[68,{"$f":"ROUND('Tarifgruppe S'!B18*(1-Maklertarif!$J$1),3)","v":0.78900000000000003},{"$f":"ROUND('Tarifgruppe S'!C18*(1-Maklertarif!$J$1),3)","v":1.1120000000000001},{"$f":"ROUND('Tarifgruppe S'!D18*(1-Maklertarif!$J$1),3)","v":1.3779999999999999},{"$f":"ROUND('Tarifgruppe S'!E18*(1-Maklertarif!$J$1),3)","v":0.627},{"$f":"ROUND('Tarifgruppe S'!F18*(1-Maklertarif!$J$1),3)","v":0.41799999999999998},{"$f":"ROUND('Tarifgruppe S'!G18*(1-Maklertarif!$J$1),3)","v":0.40899999999999997},{"$f":"ROUND('Tarifgruppe S'!H18*(1-Maklertarif!$J$1),3)","v":4.8739999999999997},{"$f":"ROUND('Tarifgruppe S'!I18*(1-Maklertarif!$J$1),3)","v":0.65600000000000003},{"$f":"ROUND('Tarifgruppe S'!J18*(1-Maklertarif!$J$1),3)","v":0.93100000000000005},{"$f":"ROUND('Tarifgruppe S'!K18*(1-Maklertarif!$J$1),3)","v":1.1499999999999999},{"$f":"ROUND('Tarifgruppe S'!L18*(1-Maklertarif!$J$1),3)","v":0.52300000000000002},{"$f":"ROUND('Tarifgruppe S'!M18*(1-Maklertarif!$J$1),3)","v":0.35199999999999998},{"$f":"ROUND('Tarifgruppe S'!N18*(1-Maklertarif!$J$1),3)","v":0.34200000000000003},{"$f":"ROUND('Tarifgruppe S'!O18*(1-Maklertarif!$J$1),3)","v":4.0570000000000004},null,5,{"$f":"ROUND('Tarif URP'!B14*(1-Maklertarif!$J$1),3)","v":1.0169999999999999},{"$f":"ROUND('Tarif URP'!C14*(1-Maklertarif!$J$1),3)","v":1.3779999999999999},{"$f":"ROUND('Tarif URP'!D14*(1-Maklertarif!$J$1),3)","v":1.1779999999999999},{"$f":"ROUND('Tarif URP'!E14*(1-Maklertarif!$J$1),3)","v":1.748}]
[69,{"$f":"ROUND('Tarifgruppe S'!B19*(1-Maklertarif!$J$1),3)","v":0.82699999999999996},{"$f":"ROUND('Tarifgruppe S'!C19*(1-Maklertarif!$J$1),3)","v":1.169},{"$f":"ROUND('Tarifgruppe S'!D19*(1-Maklertarif!$J$1),3)","v":1.444},{"$f":"ROUND('Tarifgruppe S'!E19*(1-Maklertarif!$J$1),3)","v":0.65600000000000003},{"$f":"ROUND('Tarifgruppe S'!F19*(1-Maklertarif!$J$1),3)","v":0.437},{"$f":"ROUND('Tarifgruppe S'!G19*(1-Maklertarif!$J$1),3)","v":0.42799999999999999},{"$f":"ROUND('Tarifgruppe S'!H19*(1-Maklertarif!$J$1),3)","v":5.1109999999999998},{"$f":"ROUND('Tarifgruppe S'!I19*(1-Maklertarif!$J$1),3)","v":0.69399999999999995},{"$f":"ROUND('Tarifgruppe S'!J19*(1-Maklertarif!$J$1),3)","v":0.97899999999999998},{"$f":"ROUND('Tarifgruppe S'!K19*(1-Maklertarif!$J$1),3)","v":1.2070000000000001},{"$f":"ROUND('Tarifgruppe S'!L19*(1-Maklertarif!$J$1),3)","v":0.54200000000000004},{"$f":"ROUND('Tarifgruppe S'!M19*(1-Maklertarif!$J$1),3)","v":0.36099999999999999},{"$f":"ROUND('Tarifgruppe S'!N19*(1-Maklertarif!$J$1),3)","v":0.35199999999999998},{"$f":"ROUND('Tarifgruppe S'!O19*(1-Maklertarif!$J$1),3)","v":4.266},null,6,{"$f":"ROUND('Tarif URP'!B15*(1-Maklertarif!$J$1),3)","v":1.0169999999999999},{"$f":"ROUND('Tarif URP'!C15*(1-Maklertarif!$J$1),3)","v":1.3779999999999999},{"$f":"ROUND('Tarif URP'!D15*(1-Maklertarif!$J$1),3)","v":1.1779999999999999},{"$f":"ROUND('Tarif URP'!E15*(1-Maklertarif!$J$1),3)","v":1.748}]
[70,{"$f":"ROUND('Tarifgruppe S'!B20*(1-Maklertarif!$J$1),3)","v":0.874},{"$f":"ROUND('Tarifgruppe S'!C20*(1-Maklertarif!$J$1),3)","v":1.226},{"$f":"ROUND('Tarifgruppe S'!D20*(1-Maklertarif!$J$1),3)","v":1.52},{"$f":"ROUND('Tarifgruppe S'!E20*(1-Maklertarif!$J$1),3)","v":0.68400000000000005},{"$f":"ROUND('Tarifgruppe S'!F20*(1-Maklertarif!$J$1),3)","v":0.45600000000000002},{"$f":"ROUND('Tarifgruppe S'!G20*(1-Maklertarif!$J$1),3)","v":0.44700000000000001},{"$f":"ROUND('Tarifgruppe S'!H20*(1-Maklertarif!$J$1),3)","v":5.3680000000000003},{"$f":"ROUND('Tarifgruppe S'!I20*(1-Maklertarif!$J$1),3)","v":0.73199999999999998},{"$f":"ROUND('Tarifgruppe S'!J20*(1-Maklertarif!$J$1),3)","v":1.026},{"$f":"ROUND('Tarifgruppe S'!K20*(1-Maklertarif!$J$1),3)","v":1.264},{"$f":"ROUND('Tarifgruppe S'!L20*(1-Maklertarif!$J$1),3)","v":0.56999999999999995},{"$f":"ROUND('Tarifgruppe S'!M20*(1-Maklertarif!$J$1),3)","v":0.38},{"$f":"ROUND('Tarifgruppe S'!N20*(1-Maklertarif!$J$1),3)","v":0.371},{"$f":"ROUND('Tarifgruppe S'!O20*(1-Maklertarif!$J$1),3)","v":4.4749999999999996},null,7,{"$f":"ROUND('Tarif URP'!B16*(1-Maklertarif!$J$1),3)","v":1.0169999999999999},{"$f":"ROUND('Tarif URP'!C16*(1-Maklertarif!$J$1),3)","v":1.3779999999999999},{"$f":"ROUND('Tarif URP'!D16*(1-Maklertarif!$J$1),3)","v":1.1779999999999999},{"$f":"ROUND('Tarif URP'!E16*(1-Maklertarif!$J$1),3)","v":1.748}]
[71,{"$f":"ROUND('Tarifgruppe S'!B21*(1-Maklertarif!$J$1),3)","v":0.91200000000000003},{"$f":"ROUND('Tarifgruppe S'!C21*(1-Maklertarif!$J$1),3)","v":1.292},{"$f":"ROUND('Tarifgruppe S'!D21*(1-Maklertarif!$J$1),3)","v":1.5960000000000001},{"$f":"ROUND('Tarifgruppe S'!E21*(1-Maklertarif!$J$1),3)","v":0.72199999999999998},{"$f":"ROUND('Tarifgruppe S'!F21*(1-Maklertarif!$J$1),3)","v":0.48499999999999999},{"$f":"ROUND('Tarifgruppe S'!G21*(1-Maklertarif!$J$1),3)","v":0.47499999999999998},{"$f":"ROUND('Tarifgruppe S'!H21*(1-Maklertarif!$J$1),3)","v":5.6429999999999998},{"$f":"ROUND('Tarifgruppe S'!I21*(1-Maklertarif!$J$1),3)","v":0.76},{"$f":"ROUND('Tarifgruppe S'!J21*(1-Maklertarif!$J$1),3)","v":1.0740000000000001},{"$f":"ROUND('Tarifgruppe S'!K21*(1-Maklertarif!$J$1),3)","v":1.33},{"$f":"ROUND('Tarifgruppe S'!L21*(1-Maklertarif!$J$1),3)","v":0.59899999999999998},{"$f":"ROUND('Tarifgruppe S'!M21*(1-Maklertarif!$J$1),3)","v":0.39900000000000002},{"$f":"ROUND('Tarifgruppe S'!N21*(1-Maklertarif!$J$1),3)","v":0.39},{"$f":"ROUND('Tarifgruppe S'!O21*(1-Maklertarif!$J$1),3)","v":4.7030000000000003},null,8,{"$f":"ROUND('Tarif URP'!B17*(1-Maklertarif!$J$1),3)","v":1.0169999999999999},{"$f":"ROUND('Tarif URP'!C17*(1-Maklertarif!$J$1),3)","v":1.3779999999999999},{"$f":"ROUND('Tarif URP'!D17*(1-Maklertarif!$J$1),3)","v":1.1779999999999999},{"$f":"ROUND('Tarif URP'!E17*(1-Maklertarif!$J$1),3)","v":1.748}]
[72,{"$f":"ROUND('Tarifgruppe S'!B22*(1-Maklertarif!$J$1),3)","v":0.96},{"$f":"ROUND('Tarifgruppe S'!C22*(1-Maklertarif!$J$1),3)","v":1.359},{"$f":"ROUND('Tarifgruppe S'!D22*(1-Maklertarif!$J$1),3)","v":1.6719999999999999},{"$f":"ROUND('Tarifgruppe S'!E22*(1-Maklertarif!$J$1),3)","v":0.76},{"$f":"ROUND('Tarifgruppe S'!F22*(1-Maklertarif!$J$1),3)","v":0.504},{"$f":"ROUND('Tarifgruppe S'!G22*(1-Maklertarif!$J$1),3)","v":0.49399999999999999},{"$f":"ROUND('Tarifgruppe S'!H22*(1-Maklertarif!$J$1),3)","v":5.9189999999999996},{"$f":"ROUND('Tarifgruppe S'!I22*(1-Maklertarif!$J$1),3)","v":0.79800000000000004},{"$f":"ROUND('Tarifgruppe S'!J22*(1-Maklertarif!$J$1),3)","v":1.131},{"$f":"ROUND('Tarifgruppe S'!K22*(1-Maklertarif!$J$1),3)","v":1.397},{"$f":"ROUND('Tarifgruppe S'!L22*(1-Maklertarif!$J$1),3)","v":0.627},{"$f":"ROUND('Tarifgruppe S'!M22*(1-Maklertarif!$J$1),3)","v":0.41799999999999998},{"$f":"ROUND('Tarifgruppe S'!N22*(1-Maklertarif!$J$1),3)","v":0.40899999999999997},{"$f":"ROUND('Tarifgruppe S'!O22*(1-Maklertarif!$J$1),3)","v":4.931},null,9,{"$f":"ROUND('Tarif URP'!B18*(1-Maklertarif!$J$1),3)","v":1.0169999999999999},{"$f":"ROUND('Tarif URP'!C18*(1-Maklertarif!$J$1),3)","v":1.3779999999999999},{"$f":"ROUND('Tarif URP'!D18*(1-Maklertarif!$J$1),3)","v":1.1779999999999999},{"$f":"ROUND('Tarif URP'!E18*(1-Maklertarif!$J$1),3)","v":1.748}]
[73,{"$f":"ROUND('Tarifgruppe S'!B23*(1-Maklertarif!$J$1),3)","v":1.0069999999999999},{"$f":"ROUND('Tarifgruppe S'!C23*(1-Maklertarif!$J$1),3)","v":1.425},{"$f":"ROUND('Tarifgruppe S'!D23*(1-Maklertarif!$J$1),3)","v":1.758},{"$f":"ROUND('Tarifgruppe S'!E23*(1-Maklertarif!$J$1),3)","v":0.79800000000000004},{"$f":"ROUND('Tarifgruppe S'!F23*(1-Maklertarif!$J$1),3)","v":0.53200000000000003},{"$f":"ROUND('Tarifgruppe S'!G23*(1-Maklertarif!$J$1),3)","v":0.52300000000000002},{"$f":"ROUND('Tarifgruppe S'!H23*(1-Maklertarif!$J$1),3)","v":6.2229999999999999},{"$f":"ROUND('Tarifgruppe S'!I23*(1-Maklertarif!$J$1),3)","v":0.84599999999999997},{"$f":"ROUND('Tarifgruppe S'!J23*(1-Maklertarif!$J$1),3)","v":1.1879999999999999},{"$f":"ROUND('Tarifgruppe S'!K23*(1-Maklertarif!$J$1),3)","v":1.4630000000000001},{"$f":"ROUND('Tarifgruppe S'!L23*(1-Maklertarif!$J$1),3)","v":0.66500000000000004},{"$f":"ROUND('Tarifgruppe S'!M23*(1-Maklertarif!$J$1),3)","v":0.44700000000000001},{"$f":"ROUND('Tarifgruppe S'!N23*(1-Maklertarif!$J$1),3)","v":0.437},{"$f":"ROUND('Tarifgruppe S'!O23*(1-Maklertarif!$J$1),3)","v":5.1779999999999999},null,10,{"$f":"ROUND('Tarif URP'!B19*(1-Maklertarif!$J$1),3)","v":1.0169999999999999},{"$f":"ROUND('Tarif URP'!C19*(1-Maklertarif!$J$1),3)","v":1.3779999999999999},{"$f":"ROUND('Tarif URP'!D19*(1-Maklertarif!$J$1),3)","v":1.1779999999999999},{"$f":"ROUND('Tarif URP'!E19*(1-Maklertarif!$J$1),3)","v":1.748}]
[74,{"$f":"ROUND('Tarifgruppe S'!B24*(1-Maklertarif!$J$1),3)","v":1.0640000000000001},{"$f":"ROUND('Tarifgruppe S'!C24*(1-Maklertarif!$J$1),3)","v":1.492},{"$f":"ROUND('Tarifgruppe S'!D24*(1-Maklertarif!$J$1),3)","v":1.843},{"$f":"ROUND('Tarifgruppe S'!E24*(1-Maklertarif!$J$1),3)","v":0.83599999999999997},{"$f":"ROUND('Tarifgruppe S'!F24*(1-Maklertarif!$J$1),3)","v":0.56100000000000005},{"$f":"ROUND('Tarifgruppe S'!G24*(1-Maklertarif!$J$1),3)","v":0.54200000000000004},{"$f":"ROUND('Tarifgruppe S'!H24*(1-Maklertarif!$J$1),3)","v":6.5270000000000001},{"$f":"ROUND('Tarifgruppe S'!I24*(1-Maklertarif!$J$1),3)","v":0.88400000000000001},{"$f":"ROUND('Tarifgruppe S'!J24*(1-Maklertarif!$J$1),3)","v":1.2450000000000001},{"$f":"ROUND('Tarifgruppe S'!K24*(1-Maklertarif!$J$1),3)","v":1.5389999999999999},{"$f":"ROUND('Tarifgruppe S'!L24*(1-Maklertarif!$J$1),3)","v":0.69399999999999995},{"$f":"ROUND('Tarifgruppe S'!M24*(1-Maklertarif!$J$1),3)","v":0.46600000000000003},{"$f":"ROUND('Tarifgruppe S'!N24*(1-Maklertarif!$J$1),3)","v":0.45600000000000002},{"$f":"ROUND('Tarifgruppe S'!O24*(1-Maklertarif!$J$1),3)","v":5.444},null,11,{"$f":"ROUND('Tarif URP'!B20*(1-Maklertarif!$J$1),3)","v":1.0169999999999999},{"$f":"ROUND('Tarif URP'!C20*(1-Maklertarif!$J$1),3)","v":1.3779999999999999},{"$f":"ROUND('Tarif URP'!D20*(1-Maklertarif!$J$1),3)","v":1.1779999999999999},{"$f":"ROUND('Tarif URP'!E20*(1-Maklertarif!$J$1),3)","v":1.748}]
[75,{"$f":"ROUND('Tarifgruppe S'!B25*(1-Maklertarif!$J$1),3)","v":1.1120000000000001},{"$f":"ROUND('Tarifgruppe S'!C25*(1-Maklertarif!$J$1),3)","v":1.5680000000000001},{"$f":"ROUND('Tarifgruppe S'!D25*(1-Maklertarif!$J$1),3)","v":1.9379999999999999},{"$f":"ROUND('Tarifgruppe S'!E25*(1-Maklertarif!$J$1),3)","v":0.874},{"$f":"ROUND('Tarifgruppe S'!F25*(1-Maklertarif!$J$1),3)","v":0.58899999999999997},{"$f":"ROUND('Tarifgruppe S'!G25*(1-Maklertarif!$J$1),3)","v":0.56999999999999995},{"$f":"ROUND('Tarifgruppe S'!H25*(1-Maklertarif!$J$1),3)","v":6.859},{"$f":"ROUND('Tarifgruppe S'!I25*(1-Maklertarif!$J$1),3)","v":0.93100000000000005},{"$f":"ROUND('Tarifgruppe S'!J25*(1-Maklertarif!$J$1),3)","v":1.3109999999999999},{"$f":"ROUND('Tarifgruppe S'!K25*(1-Maklertarif!$J$1),3)","v":1.615},{"$f":"ROUND('Tarifgruppe S'!L25*(1-Maklertarif!$J$1),3)","v":0.73199999999999998},{"$f":"ROUND('Tarifgruppe S'!M25*(1-Maklertarif!$J$1),3)","v":0.48499999999999999},{"$f":"ROUND('Tarifgruppe S'!N25*(1-Maklertarif!$J$1),3)","v":0.47499999999999998},{"$f":"ROUND('Tarifgruppe S'!O25*(1-Maklertarif!$J$1),3)","v":5.71},null,12,{"$f":"ROUND('Tarif URP'!B21*(1-Maklertarif!$J$1),3)","v":1.0169999999999999},{"$f":"ROUND('Tarif URP'!C21*(1-Maklertarif!$J$1),3)","v":1.3779999999999999},{"$f":"ROUND('Tarif URP'!D21*(1-Maklertarif!$J$1),3)","v":1.1779999999999999},{"$f":"ROUND('Tarif URP'!E21*(1-Maklertarif!$J$1),3)","v":1.748}]
[76,{"$f":"ROUND('Tarifgruppe S'!B26*(1-Maklertarif!$J$1),3)","v":1.169},{"$f":"ROUND('Tarifgruppe S'!C26*(1-Maklertarif!$J$1),3)","v":1.6439999999999999},{"$f":"ROUND('Tarifgruppe S'!D26*(1-Maklertarif!$J$1),3)","v":2.0329999999999999},{"$f":"ROUND('Tarifgruppe S'!E26*(1-Maklertarif!$J$1),3)","v":0.92200000000000004},{"$f":"ROUND('Tarifgruppe S'!F26*(1-Maklertarif!$J$1),3)","v":0.61799999999999999},{"$f":"ROUND('Tarifgruppe S'!G26*(1-Maklertarif!$J$1),3)","v":0.59899999999999998},{"$f":"ROUND('Tarifgruppe S'!H26*(1-Maklertarif!$J$1),3)","v":7.2009999999999996},{"$f":"ROUND('Tarifgruppe S'!I26*(1-Maklertarif!$J$1),3)","v":0.97899999999999998},{"$f":"ROUND('Tarifgruppe S'!J26*(1-Maklertarif!$J$1),3)","v":1.3680000000000001},{"$f":"ROUND('Tarifgruppe S'!K26*(1-Maklertarif!$J$1),3)","v":1.6910000000000001},{"$f":"ROUND('Tarifgruppe S'!L26*(1-Maklertarif!$J$1),3)","v":0.77},{"$f":"ROUND('Tarifgruppe S'!M26*(1-Maklertarif!$J$1),3)","v":0.51300000000000001},{"$f":"ROUND('Tarifgruppe S'!N26*(1-Maklertarif!$J$1),3)","v":0.504},{"$f":"ROUND('Tarifgruppe S'!O26*(1-Maklertarif!$J$1),3)","v":5.9950000000000001},null,13,{"$f":"ROUND('Tarif URP'!B22*(1-Maklertarif!$J$1),3)","v":1.0169999999999999},{"$f":"ROUND('Tarif URP'!C22*(1-Maklertarif!$J$1),3)","v":1.3779999999999999},{"$f":"ROUND('Tarif URP'!D22*(1-Maklertarif!$J$1),3)","v":1.1779999999999999},{"$f":"ROUND('Tarif URP'!E22*(1-Maklertarif!$J$1),3)","v":1.748}]
[77,{"$f":"ROUND('Tarifgruppe S'!B27*(1-Maklertarif!$J$1),3)","v":1.226},{"$f":"ROUND('Tarifgruppe S'!C27*(1-Maklertarif!$J$1),3)","v":1.7290000000000001},{"$f":"ROUND('Tarifgruppe S'!D27*(1-Maklertarif!$J$1),3)","v":2.1379999999999999},{"$f":"ROUND('Tarifgruppe S'!E27*(1-Maklertarif!$J$1),3)","v":0.96899999999999997},{"$f":"ROUND('Tarifgruppe S'!F27*(1-Maklertarif!$J$1),3)","v":0.64600000000000002},{"$f":"ROUND('Tarifgruppe S'!G27*(1-Maklertarif!$J$1),3)","v":0.627},{"$f":"ROUND('Tarifgruppe S'!H27*(1-Maklertarif!$J$1),3)","v":7.5620000000000003},{"$f":"ROUND('Tarifgruppe S'!I27*(1-Maklertarif!$J$1),3)","v":1.026},{"$f":"ROUND('Tarifgruppe S'!J27*(1-Maklertarif!$J$1),3)","v":1.444},{"$f":"ROUND('Tarifgruppe S'!K27*(1-Maklertarif!$J$1),3)","v":1.7769999999999999},{"$f":"ROUND('Tarifgruppe S'!L27*(1-Maklertarif!$J$1),3)","v":0.80800000000000005},{"$f":"ROUND('Tarifgruppe S'!M27*(1-Maklertarif!$J$1),3)","v":0.54200000000000004},{"$f":"ROUND('Tarifgruppe S'!N27*(1-Maklertarif!$J$1),3)","v":0.52300000000000002},{"$f":"ROUND('Tarifgruppe S'!O27*(1-Maklertarif!$J$1),3)","v":6.2990000000000004},null,14,{"$f":"ROUND('Tarif URP'!B23*(1-Maklertarif!$J$1),3)","v":1.0169999999999999},{"$f":"ROUND('Tarif URP'!C23*(1-Maklertarif!$J$1),3)","v":1.3779999999999999},{"$f":"ROUND('Tarif URP'!D23*(1-Maklertarif!$J$1),3)","v":1.1779999999999999},{"$f":"ROUND('Tarif URP'!E23*(1-Maklertarif!$J$1),3)","v":1.748}]
[78,{"$f":"ROUND('Tarifgruppe S'!B28*(1-Maklertarif!$J$1),3)","v":1.292},{"$f":"ROUND('Tarifgruppe S'!C28*(1-Maklertarif!$J$1),3)","v":1.8149999999999999},{"$f":"ROUND('Tarifgruppe S'!D28*(1-Maklertarif!$J$1),3)","v":2.242},{"$f":"ROUND('Tarifgruppe S'!E28*(1-Maklertarif!$J$1),3)","v":1.0169999999999999},{"$f":"ROUND('Tarifgruppe S'!F28*(1-Maklertarif!$J$1),3)","v":0.68400000000000005},{"$f":"ROUND('Tarifgruppe S'!G28*(1-Maklertarif!$J$1),3)","v":0.66500000000000004},{"$f":"ROUND('Tarifgruppe S'!H28*(1-Maklertarif!$J$1),3)","v":7.9329999999999998},{"$f":"ROUND('Tarifgruppe S'!I28*(1-Maklertarif!$J$1),3)","v":1.0740000000000001},{"$f":"ROUND('Tarifgruppe S'!J28*(1-Maklertarif!$J$1),3)","v":1.5109999999999999},{"$f":"ROUND('Tarifgruppe S'!K28*(1-Maklertarif!$J$1),3)","v":1.8620000000000001},{"$f":"ROUND('Tarifgruppe S'!L28*(1-Maklertarif!$J$1),3)","v":0.84599999999999997},{"$f":"ROUND('Tarifgruppe S'!M28*(1-Maklertarif!$J$1),3)","v":0.56999999999999995},{"$f":"ROUND('Tarifgruppe S'!N28*(1-Maklertarif!$J$1),3)","v":0.55100000000000005},{"$f":"ROUND('Tarifgruppe S'!O28*(1-Maklertarif!$J$1),3)","v":6.6120000000000001},null,15,{"$f":"ROUND('Tarif URP'!B24*(1-Maklertarif!$J$1),3)","v":1.0169999999999999},{"$f":"ROUND('Tarif URP'!C24*(1-Maklertarif!$J$1),3)","v":1.3779999999999999},{"$f":"ROUND('Tarif URP'!D24*(1-Maklertarif!$J$1),3)","v":1.1779999999999999},{"$f":"ROUND('Tarif URP'!E24*(1-Maklertarif!$J$1),3)","v":1.748}]
[79,{"$f":"ROUND('Tarifgruppe S'!B29*(1-Maklertarif!$J$1),3)","v":1.349},{"$f":"ROUND('Tarifgruppe S'!C29*(1-Maklertarif!$J$1),3)","v":1.91},{"$f":"ROUND('Tarifgruppe S'!D29*(1-Maklertarif!$J$1),3)","v":2.3559999999999999},{"$f":"ROUND('Tarifgruppe S'!E29*(1-Maklertarif!$J$1),3)","v":1.0640000000000001},{"$f":"ROUND('Tarifgruppe S'!F29*(1-Maklertarif!$J$1),3)","v":0.71299999999999997},{"$f":"ROUND('Tarifgruppe S'!G29*(1-Maklertarif!$J$1),3)","v":0.69399999999999995},{"$f":"ROUND('Tarifgruppe S'!H29*(1-Maklertarif!$J$1),3)","v":8.3320000000000007},{"$f":"ROUND('Tarifgruppe S'!I29*(1-Maklertarif!$J$1),3)","v":1.131},{"$f":"ROUND('Tarifgruppe S'!J29*(1-Maklertarif!$J$1),3)","v":1.587},{"$f":"ROUND('Tarifgruppe S'!K29*(1-Maklertarif!$J$1),3)","v":1.9570000000000001},{"$f":"ROUND('Tarifgruppe S'!L29*(1-Maklertarif!$J$1),3)","v":0.88400000000000001},{"$f":"ROUND('Tarifgruppe S'!M29*(1-Maklertarif!$J$1),3)","v":0.59899999999999998},{"$f":"ROUND('Tarifgruppe S'!N29*(1-Maklertarif!$J$1),3)","v":0.57999999999999996},{"$f":"ROUND('Tarifgruppe S'!O29*(1-Maklertarif!$J$1),3)","v":6.9450000000000003},null,16,{"$f":"ROUND('Tarif URP'!B25*(1-Maklertarif!$J$1),3)","v":1.0169999999999999},{"$f":"ROUND('Tarif URP'!C25*(1-Maklertarif!$J$1),3)","v":1.3779999999999999},{"$f":"ROUND('Tarif URP'!D25*(1-Maklertarif!$J$1),3)","v":1.1779999999999999},{"$f":"ROUND('Tarif URP'!E25*(1-Maklertarif!$J$1),3)","v":1.748}]
[80,{"$f":"ROUND('Tarifgruppe S'!B30*(1-Maklertarif!$J$1),3)","v":1.425},{"$f":"ROUND('Tarifgruppe S'!C30*(1-Maklertarif!$J$1),3)","v":2.0049999999999999},{"$f":"ROUND('Tarifgruppe S'!D30*(1-Maklertarif!$J$1),3)","v":2.4700000000000002},{"$f":"ROUND('Tarifgruppe S'!E30*(1-Maklertarif!$J$1),3)","v":1.121},{"$f":"ROUND('Tarifgruppe S'!F30*(1-Maklertarif!$J$1),3)","v":0.751},{"$f":"ROUND('Tarifgruppe S'!G30*(1-Maklertarif!$J$1),3)","v":0.73199999999999998},{"$f":"ROUND('Tarifgruppe S'!H30*(1-Maklertarif!$J$1),3)","v":8.75},{"$f":"ROUND('Tarifgruppe S'!I30*(1-Maklertarif!$J$1),3)","v":1.1879999999999999},{"$f":"ROUND('Tarifgruppe S'!J30*(1-Maklertarif!$J$1),3)","v":1.6719999999999999},{"$f":"ROUND('Tarifgruppe S'!K30*(1-Maklertarif!$J$1),3)","v":2.0619999999999998},{"$f":"ROUND('Tarifgruppe S'!L30*(1-Maklertarif!$J$1),3)","v":0.93100000000000005},{"$f":"ROUND('Tarifgruppe S'!M30*(1-Maklertarif!$J$1),3)","v":0.627},{"$f":"ROUND('Tarifgruppe S'!N30*(1-Maklertarif!$J$1),3)","v":0.60799999999999998},{"$f":"ROUND('Tarifgruppe S'!O30*(1-Maklertarif!$J$1),3)","v":7.2869999999999999},null,17,{"$f":"ROUND('Tarif URP'!B26*(1-Maklertarif!$J$1),3)","v":1.0169999999999999},{"$f":"ROUND('Tarif URP'!C26*(1-Maklertarif!$J$1),3)","v":1.3779999999999999},{"$f":"ROUND('Tarif URP'!D26*(1-Maklertarif!$J$1),3)","v":1.1779999999999999},{"$f":"ROUND('Tarif URP'!E26*(1-Maklertarif!$J$1),3)","v":1.748}]
[81,{"$f":"ROUND('Tarifgruppe S'!B31*(1-Maklertarif!$J$1),3)","v":1.492},{"$f":"ROUND('Tarifgruppe S'!C31*(1-Maklertarif!$J$1),3)","v":2.1},{"$f":"ROUND('Tarifgruppe S'!D31*(1-Maklertarif!$J$1),3)","v":2.5939999999999999},{"$f":"ROUND('Tarifgruppe S'!E31*(1-Maklertarif!$J$1),3)","v":1.1779999999999999},{"$f":"ROUND('Tarifgruppe S'!F31*(1-Maklertarif!$J$1),3)","v":0.78900000000000003},{"$f":"ROUND('Tarifgruppe S'!G31*(1-Maklertarif!$J$1),3)","v":0.77},{"$f":"ROUND('Tarifgruppe S'!H31*(1-Maklertarif!$J$1),3)","v":9.1869999999999994},{"$f":"ROUND('Tarifgruppe S'!I31*(1-Maklertarif!$J$1),3)","v":1.2450000000000001},{"$f":"ROUND('Tarifgruppe S'!J31*(1-Maklertarif!$J$1),3)","v":1.748},{"$f":"ROUND('Tarifgruppe S'!K31*(1-Maklertarif!$J$1),3)","v":2.157},{"$f":"ROUND('Tarifgruppe S'!L31*(1-Maklertarif!$J$1),3)","v":0.97899999999999998},{"$f":"ROUND('Tarifgruppe S'!M31*(1-Maklertarif!$J$1),3)","v":0.65600000000000003},{"$f":"ROUND('Tarifgruppe S'!N31*(1-Maklertarif!$J$1),3)","v":0.63700000000000001},{"$f":"ROUND('Tarifgruppe S'!O31*(1-Maklertarif!$J$1),3)","v":7.657},null,18,{"$f":"ROUND('Tarif URP'!B27*(1-Maklertarif!$J$1),3)","v":1.4159999999999999},{"$f":"ROUND('Tarif URP'!C27*(1-Maklertarif!$J$1),3)","v":1.7290000000000001},{"$f":"ROUND('Tarif URP'!D27*(1-Maklertarif!$J$1),3)","v":1.748},{"$f":"ROUND('Tarif URP'!E27*(1-Maklertarif!$J$1),3)","v":2.4990000000000001}]
[82,{"$f":"ROUND('Tarifgruppe S'!B32*(1-Maklertarif!$J$1),3)","v":1.5680000000000001},{"$f":"ROUND('Tarifgruppe S'!C32*(1-Maklertarif!$J$1),3)","v":2.2040000000000002},{"$f":"ROUND('Tarifgruppe S'!D32*(1-Maklertarif!$J$1),3)","v":2.7269999999999999},{"$f":"ROUND('Tarifgruppe S'!E32*(1-Maklertarif!$J$1),3)","v":1.2350000000000001},{"$f":"ROUND('Tarifgruppe S'!F32*(1-Maklertarif!$J$1),3)","v":0.82699999999999996},{"$f":"ROUND('Tarifgruppe S'!G32*(1-Maklertarif!$J$1),3)","v":0.80800000000000005},{"$f":"ROUND('Tarifgruppe S'!H32*(1-Maklertarif!$J$1),3)","v":9.6430000000000007},{"$f":"ROUND('Tarifgruppe S'!I32*(1-Maklertarif!$J$1),3)","v":1.302},{"$f":"ROUND('Tarifgruppe S'!J32*(1-Maklertarif!$J$1),3)","v":1.843},{"$f":"ROUND('Tarifgruppe S'!K32*(1-Maklertarif!$J$1),3)","v":2.2709999999999999},{"$f":"ROUND('Tarifgruppe S'!L32*(1-Maklertarif!$J$1),3)","v":1.026},{"$f":"ROUND('Tarifgruppe S'!M32*(1-Maklertarif!$J$1),3)","v":0.68400000000000005},{"$f":"ROUND('Tarifgruppe S'!N32*(1-Maklertarif!$J$1),3)","v":0.67500000000000004},{"$f":"ROUND('Tarifgruppe S'!O32*(1-Maklertarif!$J$1),3)","v":8.0370000000000008},null,19,{"$f":"ROUND('Tarif URP'!B28*(1-Maklertarif!$J$1),3)","v":1.4159999999999999},{"$f":"ROUND('Tarif URP'!C28*(1-Maklertarif!$J$1),3)","v":1.7290000000000001},{"$f":"ROUND('Tarif URP'!D28*(1-Maklertarif!$J$1),3)","v":1.748},{"$f":"ROUND('Tarif URP'!E28*(1-Maklertarif!$J$1),3)","v":2.4990000000000001}]
[83,{"$f":"ROUND('Tarifgruppe S'!B33*(1-Maklertarif!$J$1),3)","v":1.6439999999999999},{"$f":"ROUND('Tarifgruppe S'!C33*(1-Maklertarif!$J$1),3)","v":2.3180000000000001},{"$f":"ROUND('Tarifgruppe S'!D33*(1-Maklertarif!$J$1),3)","v":2.86},{"$f":"ROUND('Tarifgruppe S'!E33*(1-Maklertarif!$J$1),3)","v":1.292},{"$f":"ROUND('Tarifgruppe S'!F33*(1-Maklertarif!$J$1),3)","v":0.86499999999999999},{"$f":"ROUND('Tarifgruppe S'!G33*(1-Maklertarif!$J$1),3)","v":0.84599999999999997},{"$f":"ROUND('Tarifgruppe S'!H33*(1-Maklertarif!$J$1),3)","v":10.127000000000001},{"$f":"ROUND('Tarifgruppe S'!I33*(1-Maklertarif!$J$1),3)","v":1.3680000000000001},{"$f":"ROUND('Tarifgruppe S'!J33*(1-Maklertarif!$J$1),3)","v":1.929},{"$f":"ROUND('Tarifgruppe S'!K33*(1-Maklertarif!$J$1),3)","v":2.3849999999999998},{"$f":"ROUND('Tarifgruppe S'!L33*(1-Maklertarif!$J$1),3)","v":1.083},{"$f":"ROUND('Tarifgruppe S'!M33*(1-Maklertarif!$J$1),3)","v":0.72199999999999998},{"$f":"ROUND('Tarifgruppe S'!N33*(1-Maklertarif!$J$1),3)","v":0.70299999999999996},{"$f":"ROUND('Tarifgruppe S'!O33*(1-Maklertarif!$J$1),3)","v":8.4359999999999999},null,20,{"$f":"ROUND('Tarif URP'!B29*(1-Maklertarif!$J$1),3)","v":1.4159999999999999},{"$f":"ROUND('Tarif URP'!C29*(1-Maklertarif!$J$1),3)","v":1.7290000000000001},{"$f":"ROUND('Tarif URP'!D29*(1-Maklertarif!$J$1),3)","v":1.748},{"$f":"ROUND('Tarif URP'!E29*(1-Maklertarif!$J$1),3)","v":2.4990000000000001}]
[84,{"$f":"ROUND('Tarifgruppe S'!B34*(1-Maklertarif!$J$1),3)","v":1.7290000000000001},{"$f":"ROUND('Tarifgruppe S'!C34*(1-Maklertarif!$J$1),3)","v":2.4319999999999999},{"$f":"ROUND('Tarifgruppe S'!D34*(1-Maklertarif!$J$1),3)","v":3.0019999999999998},{"$f":"ROUND('Tarifgruppe S'!E34*(1-Maklertarif!$J$1),3)","v":1.359},{"$f":"ROUND('Tarifgruppe S'!F34*(1-Maklertarif!$J$1),3)","v":0.91200000000000003},{"$f":"ROUND('Tarifgruppe S'!G34*(1-Maklertarif!$J$1),3)","v":0.89300000000000002},{"$f":"ROUND('Tarifgruppe S'!H34*(1-Maklertarif!$J$1),3)","v":10.631},{"$f":"ROUND('Tarifgruppe S'!I34*(1-Maklertarif!$J$1),3)","v":1.444},{"$f":"ROUND('Tarifgruppe S'!J34*(1-Maklertarif!$J$1),3)","v":2.024},{"$f":"ROUND('Tarifgruppe S'!K34*(1-Maklertarif!$J$1),3)","v":2.4990000000000001},{"$f":"ROUND('Tarifgruppe S'!L34*(1-Maklertarif!$J$1),3)","v":1.131},{"$f":"ROUND('Tarifgruppe S'!M34*(1-Maklertarif!$J$1),3)","v":0.76},{"$f":"ROUND('Tarifgruppe S'!N34*(1-Maklertarif!$J$1),3)","v":0.74099999999999999},{"$f":"ROUND('Tarifgruppe S'!O34*(1-Maklertarif!$J$1),3)","v":8.8640000000000008},null,21,{"$f":"ROUND('Tarif URP'!B30*(1-Maklertarif!$J$1),3)","v":1.4159999999999999},{"$f":"ROUND('Tarif URP'!C30*(1-Maklertarif!$J$1),3)","v":1.7290000000000001},{"$f":"ROUND('Tarif URP'!D30*(1-Maklertarif!$J$1),3)","v":1.748},{"$f":"ROUND('Tarif URP'!E30*(1-Maklertarif!$J$1),3)","v":2.4990000000000001}]
[85,{"$f":"ROUND('Tarifgruppe S'!B35*(1-Maklertarif!$J$1),3)","v":1.8149999999999999},{"$f":"ROUND('Tarifgruppe S'!C35*(1-Maklertarif!$J$1),3)","v":2.556},{"$f":"ROUND('Tarifgruppe S'!D35*(1-Maklertarif!$J$1),3)","v":3.1539999999999999},{"$f":"ROUND('Tarifgruppe S'!E35*(1-Maklertarif!$J$1),3)","v":1.425},{"$f":"ROUND('Tarifgruppe S'!F35*(1-Maklertarif!$J$1),3)","v":0.96},{"$f":"ROUND('Tarifgruppe S'!G35*(1-Maklertarif!$J$1),3)","v":0.93100000000000005},{"$f":"ROUND('Tarifgruppe S'!H35*(1-Maklertarif!$J$1),3)","v":11.163},{"$f":"ROUND('Tarifgruppe S'!I35*(1-Maklertarif!$J$1),3)","v":1.5109999999999999},{"$f":"ROUND('Tarifgruppe S'!J35*(1-Maklertarif!$J$1),3)","v":2.1280000000000001},{"$f":"ROUND('Tarifgruppe S'!K35*(1-Maklertarif!$J$1),3)","v":2.6219999999999999},{"$f":"ROUND('Tarifgruppe S'!L35*(1-Maklertarif!$J$1),3)","v":1.1879999999999999},{"$f":"ROUND('Tarifgruppe S'!M35*(1-Maklertarif!$J$1),3)","v":0.79800000000000004},{"$f":"ROUND('Tarifgruppe S'!N35*(1-Maklertarif!$J$1),3)","v":0.77900000000000003},{"$f":"ROUND('Tarifgruppe S'!O35*(1-Maklertarif!$J$1),3)","v":9.3010000000000002},null,22,{"$f":"ROUND('Tarif URP'!B31*(1-Maklertarif!$J$1),3)","v":1.4159999999999999},{"$f":"ROUND('Tarif URP'!C31*(1-Maklertarif!$J$1),3)","v":1.7290000000000001},{"$f":"ROUND('Tarif URP'!D31*(1-Maklertarif!$J$1),3)","v":1.748},{"$f":"ROUND('Tarif URP'!E31*(1-Maklertarif!$J$1),3)","v":2.4990000000000001}]
[86,{"$f":"ROUND('Tarifgruppe S'!B36*(1-Maklertarif!$J$1),3)","v":1.9},{"$f":"ROUND('Tarifgruppe S'!C36*(1-Maklertarif!$J$1),3)","v":2.6789999999999998},{"$f":"ROUND('Tarifgruppe S'!D36*(1-Maklertarif!$J$1),3)","v":3.306},{"$f":"ROUND('Tarifgruppe S'!E36*(1-Maklertarif!$J$1),3)","v":1.5009999999999999},{"$f":"ROUND('Tarifgruppe S'!F36*(1-Maklertarif!$J$1),3)","v":1.0069999999999999},{"$f":"ROUND('Tarifgruppe S'!G36*(1-Maklertarif!$J$1),3)","v":0.97899999999999998},{"$f":"ROUND('Tarifgruppe S'!H36*(1-Maklertarif!$J$1),3)","v":11.723000000000001},{"$f":"ROUND('Tarifgruppe S'!I36*(1-Maklertarif!$J$1),3)","v":1.587},{"$f":"ROUND('Tarifgruppe S'!J36*(1-Maklertarif!$J$1),3)","v":2.2330000000000001},{"$f":"ROUND('Tarifgruppe S'!K36*(1-Maklertarif!$J$1),3)","v":2.7549999999999999},{"$f":"ROUND('Tarifgruppe S'!L36*(1-Maklertarif!$J$1),3)","v":1.2450000000000001},{"$f":"ROUND('Tarifgruppe S'!M36*(1-Maklertarif!$J$1),3)","v":0.83599999999999997},{"$f":"ROUND('Tarifgruppe S'!N36*(1-Maklertarif!$J$1),3)","v":0.81699999999999995},{"$f":"ROUND('Tarifgruppe S'!O36*(1-Maklertarif!$J$1),3)","v":9.766},null,23,{"$f":"ROUND('Tarif URP'!B32*(1-Maklertarif!$J$1),3)","v":1.4159999999999999},{"$f":"ROUND('Tarif URP'!C32*(1-Maklertarif!$J$1),3)","v":1.7290000000000001},{"$f":"ROUND('Tarif URP'!D32*(1-Maklertarif!$J$1),3)","v":1.748},{"$f":"ROUND('Tarif URP'!E32*(1-Maklertarif!$J$1),3)","v":2.4990000000000001}]
[87,{"$f":"ROUND('Tarifgruppe S'!B37*(1-Maklertarif!$J$1),3)","v":2.0049999999999999},{"$f":"ROUND('Tarifgruppe S'!C37*(1-Maklertarif!$J$1),3)","v":2.8119999999999998},{"$f":"ROUND('Tarifgruppe S'!D37*(1-Maklertarif!$J$1),3)","v":3.4769999999999999},{"$f":"ROUND('Tarifgruppe S'!E37*(1-Maklertarif!$J$1),3)","v":1.577},{"$f":"ROUND('Tarifgruppe S'!F37*(1-Maklertarif!$J$1),3)","v":1.0549999999999999},{"$f":"ROUND('Tarifgruppe S'!G37*(1-Maklertarif!$J$1),3)","v":1.026},{"$f":"ROUND('Tarifgruppe S'!H37*(1-Maklertarif!$J$1),3)","v":12.311999999999999},{"$f":"ROUND('Tarifgruppe S'!I37*(1-Maklertarif!$J$1),3)","v":1.663},{"$f":"ROUND('Tarifgruppe S'!J37*(1-Maklertarif!$J$1),3)","v":2.347},{"$f":"ROUND('Tarifgruppe S'!K37*(1-Maklertarif!$J$1),3)","v":2.8980000000000001},{"$f":"ROUND('Tarifgruppe S'!L37*(1-Maklertarif!$J$1),3)","v":1.3109999999999999},{"$f":"ROUND('Tarifgruppe S'!M37*(1-Maklertarif!$J$1),3)","v":0.874},{"$f":"ROUND('Tarifgruppe S'!N37*(1-Maklertarif!$J$1),3)","v":0.85499999999999998},{"$f":"ROUND('Tarifgruppe S'!O37*(1-Maklertarif!$J$1),3)","v":10.26},null,24,{"$f":"ROUND('Tarif URP'!B33*(1-Maklertarif!$J$1),3)","v":1.4159999999999999},{"$f":"ROUND('Tarif URP'!C33*(1-Maklertarif!$J$1),3)","v":1.7290000000000001},{"$f":"ROUND('Tarif URP'!D33*(1-Maklertarif!$J$1),3)","v":1.748},{"$f":"ROUND('Tarif URP'!E33*(1-Maklertarif!$J$1),3)","v":2.4990000000000001}]
[88,{"$f":"ROUND('Tarifgruppe S'!B38*(1-Maklertarif!$J$1),3)","v":2.1},{"$f":"ROUND('Tarifgruppe S'!C38*(1-Maklertarif!$J$1),3)","v":2.9550000000000001},{"$f":"ROUND('Tarifgruppe S'!D38*(1-Maklertarif!$J$1),3)","v":3.6480000000000001},{"$f":"ROUND('Tarifgruppe S'!E38*(1-Maklertarif!$J$1),3)","v":1.653},{"$f":"ROUND('Tarifgruppe S'!F38*(1-Maklertarif!$J$1),3)","v":1.1120000000000001},{"$f":"ROUND('Tarifgruppe S'!G38*(1-Maklertarif!$J$1),3)","v":1.083},{"$f":"ROUND('Tarifgruppe S'!H38*(1-Maklertarif!$J$1),3)","v":12.93},{"$f":"ROUND('Tarifgruppe S'!I38*(1-Maklertarif!$J$1),3)","v":1.748},{"$f":"ROUND('Tarifgruppe S'!J38*(1-Maklertarif!$J$1),3)","v":2.4609999999999999},{"$f":"ROUND('Tarifgruppe S'!K38*(1-Maklertarif!$J$1),3)","v":3.04},{"$f":"ROUND('Tarifgruppe S'!L38*(1-Maklertarif!$J$1),3)","v":1.3779999999999999},{"$f":"ROUND('Tarifgruppe S'!M38*(1-Maklertarif!$J$1),3)","v":0.92200000000000004},{"$f":"ROUND('Tarifgruppe S'!N38*(1-Maklertarif!$J$1),3)","v":0.90300000000000002},{"$f":"ROUND('Tarifgruppe S'!O38*(1-Maklertarif!$J$1),3)","v":10.773},null,25,{"$f":"ROUND('Tarif URP'!B34*(1-Maklertarif!$J$1),3)","v":1.4159999999999999},{"$f":"ROUND('Tarif URP'!C34*(1-Maklertarif!$J$1),3)","v":1.7290000000000001},{"$f":"ROUND('Tarif URP'!D34*(1-Maklertarif!$J$1),3)","v":1.748},{"$f":"ROUND('Tarif URP'!E34*(1-Maklertarif!$J$1),3)","v":2.4990000000000001}]
[89,{"$f":"ROUND('Tarifgruppe S'!B39*(1-Maklertarif!$J$1),3)","v":2.2040000000000002},{"$f":"ROUND('Tarifgruppe S'!C39*(1-Maklertarif!$J$1),3)","v":3.1070000000000002},{"$f":"ROUND('Tarifgruppe S'!D39*(1-Maklertarif!$J$1),3)","v":3.8290000000000002},{"$f":"ROUND('Tarifgruppe S'!E39*(1-Maklertarif!$J$1),3)","v":1.7390000000000001},{"$f":"ROUND('Tarifgruppe S'!F39*(1-Maklertarif!$J$1),3)","v":1.159},{"$f":"ROUND('Tarifgruppe S'!G39*(1-Maklertarif!$J$1),3)","v":1.131},{"$f":"ROUND('Tarifgruppe S'!H39*(1-Maklertarif!$J$1),3)","v":13.576000000000001},{"$f":"ROUND('Tarifgruppe S'!I39*(1-Maklertarif!$J$1),3)","v":1.8340000000000001},{"$f":"ROUND('Tarifgruppe S'!J39*(1-Maklertarif!$J$1),3)","v":2.5840000000000001},{"$f":"ROUND('Tarifgruppe S'!K39*(1-Maklertarif!$J$1),3)","v":3.1920000000000002},{"$f":"ROUND('Tarifgruppe S'!L39*(1-Maklertarif!$J$1),3)","v":1.444},{"$f":"ROUND('Tarifgruppe S'!M39*(1-Maklertarif!$J$1),3)","v":0.96899999999999997},{"$f":"ROUND('Tarifgruppe S'!N39*(1-Maklertarif!$J$1),3)","v":0.94099999999999995},{"$f":"ROUND('Tarifgruppe S'!O39*(1-Maklertarif!$J$1),3)","v":11.315},null,26,{"$f":"ROUND('Tarif URP'!B35*(1-Maklertarif!$J$1),3)","v":1.4159999999999999},{"$f":"ROUND('Tarif URP'!C35*(1-Maklertarif!$J$1),3)","v":1.7290000000000001},{"$f":"ROUND('Tarif URP'!D35*(1-Maklertarif!$J$1),3)","v":1.748},{"$f":"ROUND('Tarif URP'!E35*(1-Maklertarif!$J$1),3)","v":2.4990000000000001}]
[90,{"$f":"ROUND('Tarifgruppe S'!B40*(1-Maklertarif!$J$1),3)","v":2.3180000000000001},{"$f":"ROUND('Tarifgruppe S'!C40*(1-Maklertarif!$J$1),3)","v":3.2589999999999999},{"$f":"ROUND('Tarifgruppe S'!D40*(1-Maklertarif!$J$1),3)","v":4.0190000000000001},{"$f":"ROUND('Tarifgruppe S'!E40*(1-Maklertarif!$J$1),3)","v":1.8240000000000001},{"$f":"ROUND('Tarifgruppe S'!F40*(1-Maklertarif!$J$1),3)","v":1.216},{"$f":"ROUND('Tarifgruppe S'!G40*(1-Maklertarif!$J$1),3)","v":1.1879999999999999},{"$f":"ROUND('Tarifgruppe S'!H40*(1-Maklertarif!$J$1),3)","v":14.25},{"$f":"ROUND('Tarifgruppe S'!I40*(1-Maklertarif!$J$1),3)","v":1.929},{"$f":"ROUND('Tarifgruppe S'!J40*(1-Maklertarif!$J$1),3)","v":2.7170000000000001},{"$f":"ROUND('Tarifgruppe S'!K40*(1-Maklertarif!$J$1),3)","v":3.3540000000000001},{"$f":"ROUND('Tarifgruppe S'!L40*(1-Maklertarif!$J$1),3)","v":1.52},{"$f":"ROUND('Tarifgruppe S'!M40*(1-Maklertarif!$J$1),3)","v":1.0169999999999999},{"$f":"ROUND('Tarifgruppe S'!N40*(1-Maklertarif!$J$1),3)","v":0.98799999999999999},{"$f":"ROUND('Tarifgruppe S'!O40*(1-Maklertarif!$J$1),3)","v":11.875},null,27,{"$f":"ROUND('Tarif URP'!B36*(1-Maklertarif!$J$1),3)","v":1.4159999999999999},{"$f":"ROUND('Tarif URP'!C36*(1-Maklertarif!$J$1),3)","v":1.7290000000000001},{"$f":"ROUND('Tarif URP'!D36*(1-Maklertarif!$J$1),3)","v":1.748},{"$f":"ROUND('Tarif URP'!E36*(1-Maklertarif!$J$1),3)","v":2.4990000000000001}]
[91,{"$f":"ROUND('Tarifgruppe S'!B41*(1-Maklertarif!$J$1),3)","v":2.4319999999999999},{"$f":"ROUND('Tarifgruppe S'!C41*(1-Maklertarif!$J$1),3)","v":3.42},{"$f":"ROUND('Tarifgruppe S'!D41*(1-Maklertarif!$J$1),3)","v":4.2279999999999998},{"$f":"ROUND('Tarifgruppe S'!E41*(1-Maklertarif!$J$1),3)","v":1.91},{"$f":"ROUND('Tarifgruppe S'!F41*(1-Maklertarif!$J$1),3)","v":1.2829999999999999},{"$f":"ROUND('Tarifgruppe S'!G41*(1-Maklertarif!$J$1),3)","v":1.254},{"$f":"ROUND('Tarifgruppe S'!H41*(1-Maklertarif!$J$1),3)","v":14.962999999999999},{"$f":"ROUND('Tarifgruppe S'!I41*(1-Maklertarif!$J$1),3)","v":2.024},{"$f":"ROUND('Tarifgruppe S'!J41*(1-Maklertarif!$J$1),3)","v":2.85},{"$f":"ROUND('Tarifgruppe S'!K41*(1-Maklertarif!$J$1),3)","v":3.5150000000000001},{"$f":"ROUND('Tarifgruppe S'!L41*(1-Maklertarif!$J$1),3)","v":1.5960000000000001},{"$f":"ROUND('Tarifgruppe S'!M41*(1-Maklertarif!$J$1),3)","v":1.0640000000000001},{"$f":"ROUND('Tarifgruppe S'!N41*(1-Maklertarif!$J$1),3)","v":1.0449999999999999},{"$f":"ROUND('Tarifgruppe S'!O41*(1-Maklertarif!$J$1),3)","v":12.474},null,28,{"$f":"ROUND('Tarif URP'!B37*(1-Maklertarif!$J$1),3)","v":1.4159999999999999},{"$f":"ROUND('Tarif URP'!C37*(1-Maklertarif!$J$1),3)","v":1.7290000000000001},{"$f":"ROUND('Tarif URP'!D37*(1-Maklertarif!$J$1),3)","v":1.748},{"$f":"ROUND('Tarif URP'!E37*(1-Maklertarif!$J$1),3)","v":2.4990000000000001}]
[92,{"$f":"ROUND('Tarifgruppe S'!B42*(1-Maklertarif!$J$1),3)","v":2.556},{"$f":"ROUND('Tarifgruppe S'!C42*(1-Maklertarif!$J$1),3)","v":3.5910000000000002},{"$f":"ROUND('Tarifgruppe S'!D42*(1-Maklertarif!$J$1),3)","v":4.4370000000000003},{"$f":"ROUND('Tarifgruppe S'!E42*(1-Maklertarif!$J$1),3)","v":2.0049999999999999},{"$f":"ROUND('Tarifgruppe S'!F42*(1-Maklertarif!$J$1),3)","v":1.349},{"$f":"ROUND('Tarifgruppe S'!G42*(1-Maklertarif!$J$1),3)","v":1.3109999999999999},{"$f":"ROUND('Tarifgruppe S'!H42*(1-Maklertarif!$J$1),3)","v":15.712999999999999},{"$f":"ROUND('Tarifgruppe S'!I42*(1-Maklertarif!$J$1),3)","v":2.1280000000000001},{"$f":"ROUND('Tarifgruppe S'!J42*(1-Maklertarif!$J$1),3)","v":2.9929999999999999},{"$f":"ROUND('Tarifgruppe S'!K42*(1-Maklertarif!$J$1),3)","v":3.6960000000000002},{"$f":"ROUND('Tarifgruppe S'!L42*(1-Maklertarif!$J$1),3)","v":1.6719999999999999},{"$f":"ROUND('Tarifgruppe S'!M42*(1-Maklertarif!$J$1),3)","v":1.121},{"$f":"ROUND('Tarifgruppe S'!N42*(1-Maklertarif!$J$1),3)","v":1.093},{"$f":"ROUND('Tarifgruppe S'!O42*(1-Maklertarif!$J$1),3)","v":13.090999999999999},null,29,{"$f":"ROUND('Tarif URP'!B38*(1-Maklertarif!$J$1),3)","v":1.4159999999999999},{"$f":"ROUND('Tarif URP'!C38*(1-Maklertarif!$J$1),3)","v":1.7290000000000001},{"$f":"ROUND('Tarif URP'!D38*(1-Maklertarif!$J$1),3)","v":1.748},{"$f":"ROUND('Tarif URP'!E38*(1-Maklertarif!$J$1),3)","v":2.4990000000000001}]
[93,{"$f":"ROUND('Tarifgruppe S'!B43*(1-Maklertarif!$J$1),3)","v":2.6789999999999998},{"$f":"ROUND('Tarifgruppe S'!C43*(1-Maklertarif!$J$1),3)","v":3.7719999999999998},{"$f":"ROUND('Tarifgruppe S'!D43*(1-Maklertarif!$J$1),3)","v":4.6550000000000002},{"$f":"ROUND('Tarifgruppe S'!E43*(1-Maklertarif!$J$1),3)","v":2.109},{"$f":"ROUND('Tarifgruppe S'!F43*(1-Maklertarif!$J$1),3)","v":1.4159999999999999},{"$f":"ROUND('Tarifgruppe S'!G43*(1-Maklertarif!$J$1),3)","v":1.3779999999999999},{"$f":"ROUND('Tarifgruppe S'!H43*(1-Maklertarif!$J$1),3)","v":16.501999999999999},{"$f":"ROUND('Tarifgruppe S'!I43*(1-Maklertarif!$J$1),3)","v":2.2330000000000001},{"$f":"ROUND('Tarifgruppe S'!J43*(1-Maklertarif!$J$1),3)","v":3.145},{"$f":"ROUND('Tarifgruppe S'!K43*(1-Maklertarif!$J$1),3)","v":3.8759999999999999},{"$f":"ROUND('Tarifgruppe S'!L43*(1-Maklertarif!$J$1),3)","v":1.758},{"$f":"ROUND('Tarifgruppe S'!M43*(1-Maklertarif!$J$1),3)","v":1.1779999999999999},{"$f":"ROUND('Tarifgruppe S'!N43*(1-Maklertarif!$J$1),3)","v":1.1499999999999999},{"$f":"ROUND('Tarifgruppe S'!O43*(1-Maklertarif!$J$1),3)","v":13.747},null,30,{"$f":"ROUND('Tarif URP'!B39*(1-Maklertarif!$J$1),3)","v":1.4159999999999999},{"$f":"ROUND('Tarif URP'!C39*(1-Maklertarif!$J$1),3)","v":1.7290000000000001},{"$f":"ROUND('Tarif URP'!D39*(1-Maklertarif!$J$1),3)","v":1.748},{"$f":"ROUND('Tarif URP'!E39*(1-Maklertarif!$J$1),3)","v":2.4990000000000001}]
[94,{"$f":"ROUND('Tarifgruppe S'!B44*(1-Maklertarif!$J$1),3)","v":2.8119999999999998},{"$f":"ROUND('Tarifgruppe S'!C44*(1-Maklertarif!$J$1),3)","v":3.9620000000000002},{"$f":"ROUND('Tarifgruppe S'!D44*(1-Maklertarif!$J$1),3)","v":4.8929999999999998},{"$f":"ROUND('Tarifgruppe S'!E44*(1-Maklertarif!$J$1),3)","v":2.214},{"$f":"ROUND('Tarifgruppe S'!F44*(1-Maklertarif!$J$1),3)","v":1.482},{"$f":"ROUND('Tarifgruppe S'!G44*(1-Maklertarif!$J$1),3)","v":1.444},{"$f":"ROUND('Tarifgruppe S'!H44*(1-Maklertarif!$J$1),3)","v":17.318999999999999},{"$f":"ROUND('Tarifgruppe S'!I44*(1-Maklertarif!$J$1),3)","v":2.347},{"$f":"ROUND('Tarifgruppe S'!J44*(1-Maklertarif!$J$1),3)","v":3.306},{"$f":"ROUND('Tarifgruppe S'!K44*(1-Maklertarif!$J$1),3)","v":4.0759999999999996},{"$f":"ROUND('Tarifgruppe S'!L44*(1-Maklertarif!$J$1),3)","v":1.843},{"$f":"ROUND('Tarifgruppe S'!M44*(1-Maklertarif!$J$1),3)","v":1.2350000000000001},{"$f":"ROUND('Tarifgruppe S'!N44*(1-Maklertarif!$J$1),3)","v":1.2070000000000001},{"$f":"ROUND('Tarifgruppe S'!O44*(1-Maklertarif!$J$1),3)","v":14.44},null,31,{"$f":"ROUND('Tarif URP'!B40*(1-Maklertarif!$J$1),3)","v":1.4159999999999999},{"$f":"ROUND('Tarif URP'!C40*(1-Maklertarif!$J$1),3)","v":1.7290000000000001},{"$f":"ROUND('Tarif URP'!D40*(1-Maklertarif!$J$1),3)","v":1.748},{"$f":"ROUND('Tarif URP'!E40*(1-Maklertarif!$J$1),3)","v":2.4990000000000001}]
[95,{"$f":"ROUND('Tarifgruppe S'!B45*(1-Maklertarif!$J$1),3)","v":2.9550000000000001},{"$f":"ROUND('Tarifgruppe S'!C45*(1-Maklertarif!$J$1),3)","v":4.1609999999999996},{"$f":"ROUND('Tarifgruppe S'!D45*(1-Maklertarif!$J$1),3)","v":5.13},{"$f":"ROUND('Tarifgruppe S'!E45*(1-Maklertarif!$J$1),3)","v":2.3279999999999998},{"$f":"ROUND('Tarifgruppe S'!F45*(1-Maklertarif!$J$1),3)","v":1.5580000000000001},{"$f":"ROUND('Tarifgruppe S'!G45*(1-Maklertarif!$J$1),3)","v":1.52},{"$f":"ROUND('Tarifgruppe S'!H45*(1-Maklertarif!$J$1),3)","v":18.193000000000001},{"$f":"ROUND('Tarifgruppe S'!I45*(1-Maklertarif!$J$1),3)","v":2.4609999999999999},{"$f":"ROUND('Tarifgruppe S'!J45*(1-Maklertarif!$J$1),3)","v":3.468},{"$f":"ROUND('Tarifgruppe S'!K45*(1-Maklertarif!$J$1),3)","v":4.2750000000000004},{"$f":"ROUND('Tarifgruppe S'!L45*(1-Maklertarif!$J$1),3)","v":1.9379999999999999},{"$f":"ROUND('Tarifgruppe S'!M45*(1-Maklertarif!$J$1),3)","v":1.302},{"$f":"ROUND('Tarifgruppe S'!N45*(1-Maklertarif!$J$1),3)","v":1.264},{"$f":"ROUND('Tarifgruppe S'!O45*(1-Maklertarif!$J$1),3)","v":15.153},null,32,{"$f":"ROUND('Tarif URP'!B41*(1-Maklertarif!$J$1),3)","v":1.4159999999999999},{"$f":"ROUND('Tarif URP'!C41*(1-Maklertarif!$J$1),3)","v":1.7290000000000001},{"$f":"ROUND('Tarif URP'!D41*(1-Maklertarif!$J$1),3)","v":1.748},{"$f":"ROUND('Tarif URP'!E41*(1-Maklertarif!$J$1),3)","v":2.4990000000000001}]
[96,{"$f":"ROUND('Tarifgruppe S'!B46*(1-Maklertarif!$J$1),3)","v":3.1070000000000002},{"$f":"ROUND('Tarifgruppe S'!C46*(1-Maklertarif!$J$1),3)","v":4.37},{"$f":"ROUND('Tarifgruppe S'!D46*(1-Maklertarif!$J$1),3)","v":5.3869999999999996},{"$f":"ROUND('Tarifgruppe S'!E46*(1-Maklertarif!$J$1),3)","v":2.4420000000000002},{"$f":"ROUND('Tarifgruppe S'!F46*(1-Maklertarif!$J$1),3)","v":1.6339999999999999},{"$f":"ROUND('Tarifgruppe S'!G46*(1-Maklertarif!$J$1),3)","v":1.5960000000000001},{"$f":"ROUND('Tarifgruppe S'!H46*(1-Maklertarif!$J$1),3)","v":19.094999999999999},{"$f":"ROUND('Tarifgruppe S'!I46*(1-Maklertarif!$J$1),3)","v":2.5840000000000001},{"$f":"ROUND('Tarifgruppe S'!J46*(1-Maklertarif!$J$1),3)","v":3.6389999999999998},{"$f":"ROUND('Tarifgruppe S'!K46*(1-Maklertarif!$J$1),3)","v":4.4939999999999998},{"$f":"ROUND('Tarifgruppe S'!L46*(1-Maklertarif!$J$1),3)","v":2.0329999999999999},{"$f":"ROUND('Tarifgruppe S'!M46*(1-Maklertarif!$J$1),3)","v":1.359},{"$f":"ROUND('Tarifgruppe S'!N46*(1-Maklertarif!$J$1),3)","v":1.33},{"$f":"ROUND('Tarifgruppe S'!O46*(1-Maklertarif!$J$1),3)","v":15.913},null,33,{"$f":"ROUND('Tarif URP'!B42*(1-Maklertarif!$J$1),3)","v":1.4159999999999999},{"$f":"ROUND('Tarif URP'!C42*(1-Maklertarif!$J$1),3)","v":1.7290000000000001},{"$f":"ROUND('Tarif URP'!D42*(1-Maklertarif!$J$1),3)","v":1.758},{"$f":"ROUND('Tarif URP'!E42*(1-Maklertarif!$J$1),3)","v":2.4990000000000001}]
[97,{"$f":"ROUND('Tarifgruppe S'!B47*(1-Maklertarif!$J$1),3)","v":3.2589999999999999},{"$f":"ROUND('Tarifgruppe S'!C47*(1-Maklertarif!$J$1),3)","v":4.5890000000000004},{"$f":"ROUND('Tarifgruppe S'!D47*(1-Maklertarif!$J$1),3)","v":5.6619999999999999},{"$f":"ROUND('Tarifgruppe S'!E47*(1-Maklertarif!$J$1),3)","v":2.5649999999999999},{"$f":"ROUND('Tarifgruppe S'!F47*(1-Maklertarif!$J$1),3)","v":1.72},{"$f":"ROUND('Tarifgruppe S'!G47*(1-Maklertarif!$J$1),3)","v":1.6719999999999999},{"$f":"ROUND('Tarifgruppe S'!H47*(1-Maklertarif!$J$1),3)","v":20.055},{"$f":"ROUND('Tarifgruppe S'!I47*(1-Maklertarif!$J$1),3)","v":2.7170000000000001},{"$f":"ROUND('Tarifgruppe S'!J47*(1-Maklertarif!$J$1),3)","v":3.819},{"$f":"ROUND('Tarifgruppe S'!K47*(1-Maklertarif!$J$1),3)","v":4.7220000000000004},{"$f":"ROUND('Tarifgruppe S'!L47*(1-Maklertarif!$J$1),3)","v":2.1379999999999999},{"$f":"ROUND('Tarifgruppe S'!M47*(1-Maklertarif!$J$1),3)","v":1.4350000000000001},{"$f":"ROUND('Tarifgruppe S'!N47*(1-Maklertarif!$J$1),3)","v":1.397},{"$f":"ROUND('Tarifgruppe S'!O47*(1-Maklertarif!$J$1),3)","v":16.710999999999999},null,34,{"$f":"ROUND('Tarif URP'!B43*(1-Maklertarif!$J$1),3)","v":1.4159999999999999},{"$f":"ROUND('Tarif URP'!C43*(1-Maklertarif!$J$1),3)","v":1.7290000000000001},{"$f":"ROUND('Tarif URP'!D43*(1-Maklertarif!$J$1),3)","v":1.891},{"$f":"ROUND('Tarif URP'!E43*(1-Maklertarif!$J$1),3)","v":2.4990000000000001}]
[98,{"$f":"ROUND('Tarifgruppe S'!B48*(1-Maklertarif!$J$1),3)","v":3.42},{"$f":"ROUND('Tarifgruppe S'!C48*(1-Maklertarif!$J$1),3)","v":4.8170000000000002},{"$f":"ROUND('Tarifgruppe S'!D48*(1-Maklertarif!$J$1),3)","v":5.9470000000000001},{"$f":"ROUND('Tarifgruppe S'!E48*(1-Maklertarif!$J$1),3)","v":2.6890000000000001},{"$f":"ROUND('Tarifgruppe S'!F48*(1-Maklertarif!$J$1),3)","v":1.8049999999999999},{"$f":"ROUND('Tarifgruppe S'!G48*(1-Maklertarif!$J$1),3)","v":1.758},{"$f":"ROUND('Tarifgruppe S'!H48*(1-Maklertarif!$J$1),3)","v":21.052},{"$f":"ROUND('Tarifgruppe S'!I48*(1-Maklertarif!$J$1),3)","v":2.85},{"$f":"ROUND('Tarifgruppe S'!J48*(1-Maklertarif!$J$1),3)","v":4.0090000000000003},{"$f":"ROUND('Tarifgruppe S'!K48*(1-Maklertarif!$J$1),3)","v":4.95},{"$f":"ROUND('Tarifgruppe S'!L48*(1-Maklertarif!$J$1),3)","v":2.242},{"$f":"ROUND('Tarifgruppe S'!M48*(1-Maklertarif!$J$1),3)","v":1.5009999999999999},{"$f":"ROUND('Tarifgruppe S'!N48*(1-Maklertarif!$J$1),3)","v":1.4630000000000001},{"$f":"ROUND('Tarifgruppe S'!O48*(1-Maklertarif!$J$1),3)","v":17.547000000000001},null,35,{"$f":"ROUND('Tarif URP'!B44*(1-Maklertarif!$J$1),3)","v":1.444},{"$f":"ROUND('Tarif URP'!C44*(1-Maklertarif!$J$1),3)","v":1.7290000000000001},{"$f":"ROUND('Tarif URP'!D44*(1-Maklertarif!$J$1),3)","v":1.986},{"$f":"ROUND('Tarif URP'!E44*(1-Maklertarif!$J$1),3)","v":2.4990000000000001}]
[99,{"$f":"ROUND('Tarifgruppe S'!B49*(1-Maklertarif!$J$1),3)","v":3.5910000000000002},{"$f":"ROUND('Tarifgruppe S'!C49*(1-Maklertarif!$J$1),3)","v":5.0540000000000003},{"$f":"ROUND('Tarifgruppe S'!D49*(1-Maklertarif!$J$1),3)","v":6.242},{"$f":"ROUND('Tarifgruppe S'!E49*(1-Maklertarif!$J$1),3)","v":2.8220000000000001},{"$f":"ROUND('Tarifgruppe S'!F49*(1-Maklertarif!$J$1),3)","v":1.891},{"$f":"ROUND('Tarifgruppe S'!G49*(1-Maklertarif!$J$1),3)","v":1.843},{"$f":"ROUND('Tarifgruppe S'!H49*(1-Maklertarif!$J$1),3)","v":22.106999999999999},{"$f":"ROUND('Tarifgruppe S'!I49*(1-Maklertarif!$J$1),3)","v":2.9929999999999999},{"$f":"ROUND('Tarifgruppe S'!J49*(1-Maklertarif!$J$1),3)","v":4.218},{"$f":"ROUND('Tarifgruppe S'!K49*(1-Maklertarif!$J$1),3)","v":5.1970000000000001},{"$f":"ROUND('Tarifgruppe S'!L49*(1-Maklertarif!$J$1),3)","v":2.3559999999999999},{"$f":"ROUND('Tarifgruppe S'!M49*(1-Maklertarif!$J$1),3)","v":1.577},{"$f":"ROUND('Tarifgruppe S'!N49*(1-Maklertarif!$J$1),3)","v":1.5389999999999999},{"$f":"ROUND('Tarifgruppe S'!O49*(1-Maklertarif!$J$1),3)","v":18.420999999999999},null,36,{"$f":"ROUND('Tarif URP'!B45*(1-Maklertarif!$J$1),3)","v":1.5389999999999999},{"$f":"ROUND('Tarif URP'!C45*(1-Maklertarif!$J$1),3)","v":1.7290000000000001},{"$f":"ROUND('Tarif URP'!D45*(1-Maklertarif!$J$1),3)","v":2.1469999999999998},{"$f":"ROUND('Tarif URP'!E45*(1-Maklertarif!$J$1),3)","v":2.6789999999999998}]
[100,{"$f":"ROUND('Tarifgruppe S'!B50*(1-Maklertarif!$J$1),3)","v":3.7719999999999998},{"$f":"ROUND('Tarifgruppe S'!C50*(1-Maklertarif!$J$1),3)","v":5.3109999999999999},{"$f":"ROUND('Tarifgruppe S'!D50*(1-Maklertarif!$J$1),3)","v":6.5549999999999997},{"$f":"ROUND('Tarifgruppe S'!E50*(1-Maklertarif!$J$1),3)","v":2.964},{"$f":"ROUND('Tarifgruppe S'!F50*(1-Maklertarif!$J$1),3)","v":1.986},{"$f":"ROUND('Tarifgruppe S'!G50*(1-Maklertarif!$J$1),3)","v":1.9379999999999999},{"$f":"ROUND('Tarifgruppe S'!H50*(1-Maklertarif!$J$1),3)","v":23.218},{"$f":"ROUND('Tarifgruppe S'!I50*(1-Maklertarif!$J$1),3)","v":3.145},{"$f":"ROUND('Tarifgruppe S'!J50*(1-Maklertarif!$J$1),3)","v":4.4269999999999996},{"$f":"ROUND('Tarifgruppe S'!K50*(1-Maklertarif!$J$1),3)","v":5.4630000000000001},{"$f":"ROUND('Tarifgruppe S'!L50*(1-Maklertarif!$J$1),3)","v":2.4700000000000002},{"$f":"ROUND('Tarifgruppe S'!M50*(1-Maklertarif!$J$1),3)","v":1.653},{"$f":"ROUND('Tarifgruppe S'!N50*(1-Maklertarif!$J$1),3)","v":1.615},{"$f":"ROUND('Tarifgruppe S'!O50*(1-Maklertarif!$J$1),3)","v":19.341999999999999},null,37,{"$f":"ROUND('Tarif URP'!B46*(1-Maklertarif!$J$1),3)","v":1.6439999999999999},{"$f":"ROUND('Tarif URP'!C46*(1-Maklertarif!$J$1),3)","v":1.796},{"$f":"ROUND('Tarif URP'!D46*(1-Maklertarif!$J$1),3)","v":2.3090000000000002},{"$f":"ROUND('Tarif URP'!E46*(1-Maklertarif!$J$1),3)","v":2.86}]
[101,{"$f":"ROUND('Tarifgruppe S'!B51*(1-Maklertarif!$J$1),3)","v":3.9620000000000002},{"$f":"ROUND('Tarifgruppe S'!C51*(1-Maklertarif!$J$1),3)","v":5.577},{"$f":"ROUND('Tarifgruppe S'!D51*(1-Maklertarif!$J$1),3)","v":6.8780000000000001},{"$f":"ROUND('Tarifgruppe S'!E51*(1-Maklertarif!$J$1),3)","v":3.1160000000000001},{"$f":"ROUND('Tarifgruppe S'!F51*(1-Maklertarif!$J$1),3)","v":2.09},{"$f":"ROUND('Tarifgruppe S'!G51*(1-Maklertarif!$J$1),3)","v":2.0329999999999999},{"$f":"ROUND('Tarifgruppe S'!H51*(1-Maklertarif!$J$1),3)","v":24.376999999999999},{"$f":"ROUND('Tarifgruppe S'!I51*(1-Maklertarif!$J$1),3)","v":3.2970000000000002},{"$f":"ROUND('Tarifgruppe S'!J51*(1-Maklertarif!$J$1),3)","v":4.6459999999999999},{"$f":"ROUND('Tarifgruppe S'!K51*(1-Maklertarif!$J$1),3)","v":5.7380000000000004},{"$f":"ROUND('Tarifgruppe S'!L51*(1-Maklertarif!$J$1),3)","v":2.5939999999999999},{"$f":"ROUND('Tarifgruppe S'!M51*(1-Maklertarif!$J$1),3)","v":1.7390000000000001},{"$f":"ROUND('Tarifgruppe S'!N51*(1-Maklertarif!$J$1),3)","v":1.7010000000000001},{"$f":"ROUND('Tarifgruppe S'!O51*(1-Maklertarif!$J$1),3)","v":20.311},null,38,{"$f":"ROUND('Tarif URP'!B47*(1-Maklertarif!$J$1),3)","v":1.7390000000000001},{"$f":"ROUND('Tarif URP'!C47*(1-Maklertarif!$J$1),3)","v":1.9},{"$f":"ROUND('Tarif URP'!D47*(1-Maklertarif!$J$1),3)","v":2.48},{"$f":"ROUND('Tarif URP'!E47*(1-Maklertarif!$J$1),3)","v":3.0590000000000002}]
[102,{"$f":"ROUND('Tarifgruppe S'!B52*(1-Maklertarif!$J$1),3)","v":4.1609999999999996},{"$f":"ROUND('Tarifgruppe S'!C52*(1-Maklertarif!$J$1),3)","v":5.8520000000000003},{"$f":"ROUND('Tarifgruppe S'!D52*(1-Maklertarif!$J$1),3)","v":7.22},{"$f":"ROUND('Tarifgruppe S'!E52*(1-Maklertarif!$J$1),3)","v":3.2679999999999998},{"$f":"ROUND('Tarifgruppe S'!F52*(1-Maklertarif!$J$1),3)","v":2.1949999999999998},{"$f":"ROUND('Tarifgruppe S'!G52*(1-Maklertarif!$J$1),3)","v":2.1379999999999999},{"$f":"ROUND('Tarifgruppe S'!H52*(1-Maklertarif!$J$1),3)","v":25.593},{"$f":"ROUND('Tarifgruppe S'!I52*(1-Maklertarif!$J$1),3)","v":3.468},{"$f":"ROUND('Tarifgruppe S'!J52*(1-Maklertarif!$J$1),3)","v":4.883},{"$f":"ROUND('Tarifgruppe S'!K52*(1-Maklertarif!$J$1),3)","v":6.0229999999999997},{"$f":"ROUND('Tarifgruppe S'!L52*(1-Maklertarif!$J$1),3)","v":2.7269999999999999},{"$f":"ROUND('Tarifgruppe S'!M52*(1-Maklertarif!$J$1),3)","v":1.8240000000000001},{"$f":"ROUND('Tarifgruppe S'!N52*(1-Maklertarif!$J$1),3)","v":1.786},{"$f":"ROUND('Tarifgruppe S'!O52*(1-Maklertarif!$J$1),3)","v":21.327999999999999},null,39,{"$f":"ROUND('Tarif URP'!B48*(1-Maklertarif!$J$1),3)","v":1.843},{"$f":"ROUND('Tarif URP'!C48*(1-Maklertarif!$J$1),3)","v":1.9950000000000001},{"$f":"ROUND('Tarif URP'!D48*(1-Maklertarif!$J$1),3)","v":2.6509999999999998},{"$f":"ROUND('Tarif URP'!E48*(1-Maklertarif!$J$1),3)","v":3.2490000000000001}]
[103,{"$f":"ROUND('Tarifgruppe S'!B53*(1-Maklertarif!$J$1),3)","v":4.37},{"$f":"ROUND('Tarifgruppe S'!C53*(1-Maklertarif!$J$1),3)","v":6.1470000000000002},{"$f":"ROUND('Tarifgruppe S'!D53*(1-Maklertarif!$J$1),3)","v":7.5810000000000004},{"$f":"ROUND('Tarifgruppe S'!E53*(1-Maklertarif!$J$1),3)","v":3.43},{"$f":"ROUND('Tarifgruppe S'!F53*(1-Maklertarif!$J$1),3)","v":2.2989999999999999},{"$f":"ROUND('Tarifgruppe S'!G53*(1-Maklertarif!$J$1),3)","v":2.242},{"$f":"ROUND('Tarifgruppe S'!H53*(1-Maklertarif!$J$1),3)","v":26.876000000000001},{"$f":"ROUND('Tarifgruppe S'!I53*(1-Maklertarif!$J$1),3)","v":3.6389999999999998},{"$f":"ROUND('Tarifgruppe S'!J53*(1-Maklertarif!$J$1),3)","v":5.1210000000000004},{"$f":"ROUND('Tarifgruppe S'!K53*(1-Maklertarif!$J$1),3)","v":6.3179999999999996},{"$f":"ROUND('Tarifgruppe S'!L53*(1-Maklertarif!$J$1),3)","v":2.86},{"$f":"ROUND('Tarifgruppe S'!M53*(1-Maklertarif!$J$1),3)","v":1.919},{"$f":"ROUND('Tarifgruppe S'!N53*(1-Maklertarif!$J$1),3)","v":1.8720000000000001},{"$f":"ROUND('Tarifgruppe S'!O53*(1-Maklertarif!$J$1),3)","v":22.391999999999999},null,40,{"$f":"ROUND('Tarif URP'!B49*(1-Maklertarif!$J$1),3)","v":1.891},{"$f":"ROUND('Tarif URP'!C49*(1-Maklertarif!$J$1),3)","v":2.0430000000000001},{"$f":"ROUND('Tarif URP'!D49*(1-Maklertarif!$J$1),3)","v":2.7650000000000001},{"$f":"ROUND('Tarif URP'!E49*(1-Maklertarif!$J$1),3)","v":3.3540000000000001}]
[104,{"$f":"ROUND('Tarifgruppe S'!B54*(1-Maklertarif!$J$1),3)","v":4.5890000000000004},{"$f":"ROUND('Tarifgruppe S'!C54*(1-Maklertarif!$J$1),3)","v":6.4509999999999996},{"$f":"ROUND('Tarifgruppe S'!D54*(1-Maklertarif!$J$1),3)","v":7.9610000000000003},{"$f":"ROUND('Tarifgruppe S'!E54*(1-Maklertarif!$J$1),3)","v":3.601},{"$f":"ROUND('Tarifgruppe S'!F54*(1-Maklertarif!$J$1),3)","v":2.4129999999999998},{"$f":"ROUND('Tarifgruppe S'!G54*(1-Maklertarif!$J$1),3)","v":2.3559999999999999},{"$f":"ROUND('Tarifgruppe S'!H54*(1-Maklertarif!$J$1),3)","v":28.215},{"$f":"ROUND('Tarifgruppe S'!I54*(1-Maklertarif!$J$1),3)","v":3.819},{"$f":"ROUND('Tarifgruppe S'!J54*(1-Maklertarif!$J$1),3)","v":5.3769999999999998},{"$f":"ROUND('Tarifgruppe S'!K54*(1-Maklertarif!$J$1),3)","v":6.641},{"$f":"ROUND('Tarifgruppe S'!L54*(1-Maklertarif!$J$1),3)","v":3.0019999999999998},{"$f":"ROUND('Tarifgruppe S'!M54*(1-Maklertarif!$J$1),3)","v":2.0139999999999998},{"$f":"ROUND('Tarifgruppe S'!N54*(1-Maklertarif!$J$1),3)","v":1.9670000000000001},{"$f":"ROUND('Tarifgruppe S'!O54*(1-Maklertarif!$J$1),3)","v":23.513000000000002},null,41,{"$f":"ROUND('Tarif URP'!B50*(1-Maklertarif!$J$1),3)","v":2.0139999999999998},{"$f":"ROUND('Tarif URP'!C50*(1-Maklertarif!$J$1),3)","v":2.157},{"$f":"ROUND('Tarif URP'!D50*(1-Maklertarif!$J$1),3)","v":2.9740000000000002},{"$f":"ROUND('Tarif URP'!E50*(1-Maklertarif!$J$1),3)","v":3.601}]
[105,{"$f":"ROUND('Tarifgruppe S'!B55*(1-Maklertarif!$J$1),3)","v":4.8170000000000002},{"$f":"ROUND('Tarifgruppe S'!C55*(1-Maklertarif!$J$1),3)","v":6.774},{"$f":"ROUND('Tarifgruppe S'!D55*(1-Maklertarif!$J$1),3)","v":8.36},{"$f":"ROUND('Tarifgruppe S'!E55*(1-Maklertarif!$J$1),3)","v":3.7810000000000001},{"$f":"ROUND('Tarifgruppe S'!F55*(1-Maklertarif!$J$1),3)","v":2.5369999999999999},{"$f":"ROUND('Tarifgruppe S'!G55*(1-Maklertarif!$J$1),3)","v":2.48},{"$f":"ROUND('Tarifgruppe S'!H55*(1-Maklertarif!$J$1),3)","v":29.631},{"$f":"ROUND('Tarifgruppe S'!I55*(1-Maklertarif!$J$1),3)","v":4.0090000000000003},{"$f":"ROUND('Tarifgruppe S'!J55*(1-Maklertarif!$J$1),3)","v":5.6429999999999998},{"$f":"ROUND('Tarifgruppe S'!K55*(1-Maklertarif!$J$1),3)","v":6.9729999999999999},{"$f":"ROUND('Tarifgruppe S'!L55*(1-Maklertarif!$J$1),3)","v":3.1539999999999999},{"$f":"ROUND('Tarifgruppe S'!M55*(1-Maklertarif!$J$1),3)","v":2.1190000000000002},{"$f":"ROUND('Tarifgruppe S'!N55*(1-Maklertarif!$J$1),3)","v":2.0619999999999998},{"$f":"ROUND('Tarifgruppe S'!O55*(1-Maklertarif!$J$1),3)","v":24.690999999999999},null,42,{"$f":"ROUND('Tarif URP'!B51*(1-Maklertarif!$J$1),3)","v":2.1469999999999998},{"$f":"ROUND('Tarif URP'!C51*(1-Maklertarif!$J$1),3)","v":2.2799999999999998},{"$f":"ROUND('Tarif URP'!D51*(1-Maklertarif!$J$1),3)","v":3.2109999999999999},{"$f":"ROUND('Tarif URP'!E51*(1-Maklertarif!$J$1),3)","v":3.8570000000000002}]
[106,{"$f":"ROUND('Tarifgruppe S'!B56*(1-Maklertarif!$J$1),3)","v":5.0540000000000003},{"$f":"ROUND('Tarifgruppe S'!C56*(1-Maklertarif!$J$1),3)","v":7.1159999999999997},{"$f":"ROUND('Tarifgruppe S'!D56*(1-Maklertarif!$J$1),3)","v":8.7780000000000005},{"$f":"ROUND('Tarifgruppe S'!E56*(1-Maklertarif!$J$1),3)","v":3.9710000000000001},{"$f":"ROUND('Tarifgruppe S'!F56*(1-Maklertarif!$J$1),3)","v":2.66},{"$f":"ROUND('Tarifgruppe S'!G56*(1-Maklertarif!$J$1),3)","v":2.6030000000000002},{"$f":"ROUND('Tarifgruppe S'!H56*(1-Maklertarif!$J$1),3)","v":31.113},{"$f":"ROUND('Tarifgruppe S'!I56*(1-Maklertarif!$J$1),3)","v":4.2089999999999996},{"$f":"ROUND('Tarifgruppe S'!J56*(1-Maklertarif!$J$1),3)","v":5.9279999999999999},{"$f":"ROUND('Tarifgruppe S'!K56*(1-Maklertarif!$J$1),3)","v":7.3150000000000004},{"$f":"ROUND('Tarifgruppe S'!L56*(1-Maklertarif!$J$1),3)","v":3.3159999999999998},{"$f":"ROUND('Tarifgruppe S'!M56*(1-Maklertarif!$J$1),3)","v":2.2229999999999999},{"$f":"ROUND('Tarifgruppe S'!N56*(1-Maklertarif!$J$1),3)","v":2.1659999999999999},{"$f":"ROUND('Tarifgruppe S'!O56*(1-Maklertarif!$J$1),3)","v":25.925999999999998},null,43,{"$f":"ROUND('Tarif URP'!B52*(1-Maklertarif!$J$1),3)","v":2.2799999999999998},{"$f":"ROUND('Tarif URP'!C52*(1-Maklertarif!$J$1),3)","v":2.4039999999999999},{"$f":"ROUND('Tarif URP'!D52*(1-Maklertarif!$J$1),3)","v":3.4769999999999999},{"$f":"ROUND('Tarif URP'!E52*(1-Maklertarif!$J$1),3)","v":4.1520000000000001}]
[107,{"$f":"ROUND('Tarifgruppe S'!B57*(1-Maklertarif!$J$1),3)","v":5.3109999999999999},{"$f":"ROUND('Tarifgruppe S'!C57*(1-Maklertarif!$J$1),3)","v":7.4669999999999996},{"$f":"ROUND('Tarifgruppe S'!D57*(1-Maklertarif!$J$1),3)","v":9.2249999999999996},{"$f":"ROUND('Tarifgruppe S'!E57*(1-Maklertarif!$J$1),3)","v":4.1710000000000003},{"$f":"ROUND('Tarifgruppe S'!F57*(1-Maklertarif!$J$1),3)","v":2.7930000000000001},{"$f":"ROUND('Tarifgruppe S'!G57*(1-Maklertarif!$J$1),3)","v":2.7269999999999999},{"$f":"ROUND('Tarifgruppe S'!H57*(1-Maklertarif!$J$1),3)","v":32.661000000000001},{"$f":"ROUND('Tarifgruppe S'!I57*(1-Maklertarif!$J$1),3)","v":4.4180000000000001},{"$f":"ROUND('Tarifgruppe S'!J57*(1-Maklertarif!$J$1),3)","v":6.2229999999999999},{"$f":"ROUND('Tarifgruppe S'!K57*(1-Maklertarif!$J$1),3)","v":7.6859999999999999},{"$f":"ROUND('Tarifgruppe S'!L57*(1-Maklertarif!$J$1),3)","v":3.4769999999999999},{"$f":"ROUND('Tarifgruppe S'!M57*(1-Maklertarif!$J$1),3)","v":2.3279999999999998},{"$f":"ROUND('Tarifgruppe S'!N57*(1-Maklertarif!$J$1),3)","v":2.2709999999999999},{"$f":"ROUND('Tarifgruppe S'!O57*(1-Maklertarif!$J$1),3)","v":27.218},null,44,{"$f":"ROUND('Tarif URP'!B53*(1-Maklertarif!$J$1),3)","v":2.4129999999999998},{"$f":"ROUND('Tarif URP'!C53*(1-Maklertarif!$J$1),3)","v":2.5459999999999998},{"$f":"ROUND('Tarif URP'!D53*(1-Maklertarif!$J$1),3)","v":3.7719999999999998},{"$f":"ROUND('Tarif URP'!E53*(1-Maklertarif!$J$1),3)","v":4.484}]
[108,{"$f":"ROUND('Tarifgruppe S'!B58*(1-Maklertarif!$J$1),3)","v":5.577},{"$f":"ROUND('Tarifgruppe S'!C58*(1-Maklertarif!$J$1),3)","v":7.8470000000000004},{"$f":"ROUND('Tarifgruppe S'!D58*(1-Maklertarif!$J$1),3)","v":9.6809999999999992},{"$f":"ROUND('Tarifgruppe S'!E58*(1-Maklertarif!$J$1),3)","v":4.38},{"$f":"ROUND('Tarifgruppe S'!F58*(1-Maklertarif!$J$1),3)","v":2.9359999999999999},{"$f":"ROUND('Tarifgruppe S'!G58*(1-Maklertarif!$J$1),3)","v":2.8690000000000002},{"$f":"ROUND('Tarifgruppe S'!H58*(1-Maklertarif!$J$1),3)","v":34.295000000000002},{"$f":"ROUND('Tarifgruppe S'!I58*(1-Maklertarif!$J$1),3)","v":4.6459999999999999},{"$f":"ROUND('Tarifgruppe S'!J58*(1-Maklertarif!$J$1),3)","v":6.5359999999999996},{"$f":"ROUND('Tarifgruppe S'!K58*(1-Maklertarif!$J$1),3)","v":8.0660000000000007},{"$f":"ROUND('Tarifgruppe S'!L58*(1-Maklertarif!$J$1),3)","v":3.6480000000000001},{"$f":"ROUND('Tarifgruppe S'!M58*(1-Maklertarif!$J$1),3)","v":2.4510000000000001},{"$f":"ROUND('Tarifgruppe S'!N58*(1-Maklertarif!$J$1),3)","v":2.3849999999999998},{"$f":"ROUND('Tarifgruppe S'!O58*(1-Maklertarif!$J$1),3)","v":28.585999999999999},null,45,{"$f":"ROUND('Tarif URP'!B54*(1-Maklertarif!$J$1),3)","v":2.508},{"$f":"ROUND('Tarif URP'!C54*(1-Maklertarif!$J$1),3)","v":2.6219999999999999},{"$f":"ROUND('Tarif URP'!D54*(1-Maklertarif!$J$1),3)","v":3.99},{"$f":"ROUND('Tarif URP'!E54*(1-Maklertarif!$J$1),3)","v":4.7119999999999997}]
[109,{"$f":"ROUND('Tarifgruppe S'!B59*(1-Maklertarif!$J$1),3)","v":5.8520000000000003},{"$f":"ROUND('Tarifgruppe S'!C59*(1-Maklertarif!$J$1),3)","v":8.2370000000000001},{"$f":"ROUND('Tarifgruppe S'!D59*(1-Maklertarif!$J$1),3)","v":10.164999999999999},{"$f":"ROUND('Tarifgruppe S'!E59*(1-Maklertarif!$J$1),3)","v":4.5979999999999999},{"$f":"ROUND('Tarifgruppe S'!F59*(1-Maklertarif!$J$1),3)","v":3.0880000000000001},{"$f":"ROUND('Tarifgruppe S'!G59*(1-Maklertarif!$J$1),3)","v":3.012},{"$f":"ROUND('Tarifgruppe S'!H59*(1-Maklertarif!$J$1),3)","v":36.015000000000001},{"$f":"ROUND('Tarifgruppe S'!I59*(1-Maklertarif!$J$1),3)","v":4.8739999999999997},{"$f":"ROUND('Tarifgruppe S'!J59*(1-Maklertarif!$J$1),3)","v":6.8689999999999998},{"$f":"ROUND('Tarifgruppe S'!K59*(1-Maklertarif!$J$1),3)","v":8.4740000000000002},{"$f":"ROUND('Tarifgruppe S'!L59*(1-Maklertarif!$J$1),3)","v":3.8380000000000001},{"$f":"ROUND('Tarifgruppe S'!M59*(1-Maklertarif!$J$1),3)","v":2.5649999999999999},{"$f":"ROUND('Tarifgruppe S'!N59*(1-Maklertarif!$J$1),3)","v":2.508},{"$f":"ROUND('Tarifgruppe S'!O59*(1-Maklertarif!$J$1),3)","v":30.010999999999999},null,46,{"$f":"ROUND('Tarif URP'!B55*(1-Maklertarif!$J$1),3)","v":2.66},{"$f":"ROUND('Tarif URP'!C55*(1-Maklertarif!$J$1),3)","v":2.7549999999999999},{"$f":"ROUND('Tarif URP'!D55*(1-Maklertarif!$J$1),3)","v":4.3319999999999999},{"$f":"ROUND('Tarif URP'!E55*(1-Maklertarif!$J$1),3)","v":5.0919999999999996}]
[110,{"$f":"ROUND('Tarifgruppe S'!B60*(1-Maklertarif!$J$1),3)","v":6.1470000000000002},{"$f":"ROUND('Tarifgruppe S'!C60*(1-Maklertarif!$J$1),3)","v":8.6449999999999996},{"$f":"ROUND('Tarifgruppe S'!D60*(1-Maklertarif!$J$1),3)","v":10.669},{"$f":"ROUND('Tarifgruppe S'!E60*(1-Maklertarif!$J$1),3)","v":4.8360000000000003},{"$f":"ROUND('Tarifgruppe S'!F60*(1-Maklertarif!$J$1),3)","v":3.24},{"$f":"ROUND('Tarifgruppe S'!G60*(1-Maklertarif!$J$1),3)","v":3.1640000000000001},{"$f":"ROUND('Tarifgruppe S'!H60*(1-Maklertarif!$J$1),3)","v":37.81},{"$f":"ROUND('Tarifgruppe S'!I60*(1-Maklertarif!$J$1),3)","v":5.1210000000000004},{"$f":"ROUND('Tarifgruppe S'!J60*(1-Maklertarif!$J$1),3)","v":7.2110000000000003},{"$f":"ROUND('Tarifgruppe S'!K60*(1-Maklertarif!$J$1),3)","v":8.8919999999999995},{"$f":"ROUND('Tarifgruppe S'!L60*(1-Maklertarif!$J$1),3)","v":4.0279999999999996},{"$f":"ROUND('Tarifgruppe S'!M60*(1-Maklertarif!$J$1),3)","v":2.698},{"$f":"ROUND('Tarifgruppe S'!N60*(1-Maklertarif!$J$1),3)","v":2.6320000000000001},{"$f":"ROUND('Tarifgruppe S'!O60*(1-Maklertarif!$J$1),3)","v":31.512},null,47,{"$f":"ROUND('Tarif URP'!B56*(1-Maklertarif!$J$1),3)","v":2.8029999999999999},{"$f":"ROUND('Tarif URP'!C56*(1-Maklertarif!$J$1),3)","v":2.8980000000000001},{"$f":"ROUND('Tarif URP'!D56*(1-Maklertarif!$J$1),3)","v":4.7119999999999997},{"$f":"ROUND('Tarif URP'!E56*(1-Maklertarif!$J$1),3)","v":5.51}]
[111,{"$f":"ROUND('Tarifgruppe S'!B61*(1-Maklertarif!$J$1),3)","v":6.4509999999999996},{"$f":"ROUND('Tarifgruppe S'!C61*(1-Maklertarif!$J$1),3)","v":9.0820000000000007},{"$f":"ROUND('Tarifgruppe S'!D61*(1-Maklertarif!$J$1),3)","v":11.21},{"$f":"ROUND('Tarifgruppe S'!E61*(1-Maklertarif!$J$1),3)","v":5.0730000000000004},{"$f":"ROUND('Tarifgruppe S'!F61*(1-Maklertarif!$J$1),3)","v":3.4009999999999998},{"$f":"ROUND('Tarifgruppe S'!G61*(1-Maklertarif!$J$1),3)","v":3.3159999999999998},{"$f":"ROUND('Tarifgruppe S'!H61*(1-Maklertarif!$J$1),3)","v":39.701000000000001},{"$f":"ROUND('Tarifgruppe S'!I61*(1-Maklertarif!$J$1),3)","v":5.3769999999999998},{"$f":"ROUND('Tarifgruppe S'!J61*(1-Maklertarif!$J$1),3)","v":7.5720000000000001},{"$f":"ROUND('Tarifgruppe S'!K61*(1-Maklertarif!$J$1),3)","v":9.3390000000000004},{"$f":"ROUND('Tarifgruppe S'!L61*(1-Maklertarif!$J$1),3)","v":4.2279999999999998},{"$f":"ROUND('Tarifgruppe S'!M61*(1-Maklertarif!$J$1),3)","v":2.831},{"$f":"ROUND('Tarifgruppe S'!N61*(1-Maklertarif!$J$1),3)","v":2.7650000000000001},{"$f":"ROUND('Tarifgruppe S'!O61*(1-Maklertarif!$J$1),3)","v":33.088999999999999},null,48,{"$f":"ROUND('Tarif URP'!B57*(1-Maklertarif!$J$1),3)","v":2.964},{"$f":"ROUND('Tarif URP'!C57*(1-Maklertarif!$J$1),3)","v":3.05},{"$f":"ROUND('Tarif URP'!D57*(1-Maklertarif!$J$1),3)","v":5.14},{"$f":"ROUND('Tarif URP'!E57*(1-Maklertarif!$J$1),3)","v":5.9850000000000003}]
[112,{"$f":"ROUND('Tarifgruppe S'!B62*(1-Maklertarif!$J$1),3)","v":6.774},{"$f":"ROUND('Tarifgruppe S'!C62*(1-Maklertarif!$J$1),3)","v":9.5380000000000003},{"$f":"ROUND('Tarifgruppe S'!D62*(1-Maklertarif!$J$1),3)","v":11.771000000000001},{"$f":"ROUND('Tarifgruppe S'!E62*(1-Maklertarif!$J$1),3)","v":5.33},{"$f":"ROUND('Tarifgruppe S'!F62*(1-Maklertarif!$J$1),3)","v":3.5720000000000001},{"$f":"ROUND('Tarifgruppe S'!G62*(1-Maklertarif!$J$1),3)","v":3.4870000000000001},{"$f":"ROUND('Tarifgruppe S'!H62*(1-Maklertarif!$J$1),3)","v":41.686},{"$f":"ROUND('Tarifgruppe S'!I62*(1-Maklertarif!$J$1),3)","v":5.6429999999999998},{"$f":"ROUND('Tarifgruppe S'!J62*(1-Maklertarif!$J$1),3)","v":7.9420000000000002},{"$f":"ROUND('Tarifgruppe S'!K62*(1-Maklertarif!$J$1),3)","v":9.8040000000000003},{"$f":"ROUND('Tarifgruppe S'!L62*(1-Maklertarif!$J$1),3)","v":4.4370000000000003},{"$f":"ROUND('Tarifgruppe S'!M62*(1-Maklertarif!$J$1),3)","v":2.9740000000000002},{"$f":"ROUND('Tarifgruppe S'!N62*(1-Maklertarif!$J$1),3)","v":2.8980000000000001},{"$f":"ROUND('Tarifgruppe S'!O62*(1-Maklertarif!$J$1),3)","v":34.741999999999997},null,49,{"$f":"ROUND('Tarif URP'!B58*(1-Maklertarif!$J$1),3)","v":3.1259999999999999},{"$f":"ROUND('Tarif URP'!C58*(1-Maklertarif!$J$1),3)","v":3.1920000000000002},{"$f":"ROUND('Tarif URP'!D58*(1-Maklertarif!$J$1),3)","v":5.6050000000000004},{"$f":"ROUND('Tarif URP'!E58*(1-Maklertarif!$J$1),3)","v":6.4980000000000002}]
[113,{"$f":"ROUND('Tarifgruppe S'!B63*(1-Maklertarif!$J$1),3)","v":7.1159999999999997},{"$f":"ROUND('Tarifgruppe S'!C63*(1-Maklertarif!$J$1),3)","v":10.013},{"$f":"ROUND('Tarifgruppe S'!D63*(1-Maklertarif!$J$1),3)","v":12.36},{"$f":"ROUND('Tarifgruppe S'!E63*(1-Maklertarif!$J$1),3)","v":5.5960000000000001},{"$f":"ROUND('Tarifgruppe S'!F63*(1-Maklertarif!$J$1),3)","v":3.7530000000000001},{"$f":"ROUND('Tarifgruppe S'!G63*(1-Maklertarif!$J$1),3)","v":3.6579999999999999},{"$f":"ROUND('Tarifgruppe S'!H63*(1-Maklertarif!$J$1),3)","v":43.776000000000003},{"$f":"ROUND('Tarifgruppe S'!I63*(1-Maklertarif!$J$1),3)","v":5.9279999999999999},{"$f":"ROUND('Tarifgruppe S'!J63*(1-Maklertarif!$J$1),3)","v":8.3409999999999993},{"$f":"ROUND('Tarifgruppe S'!K63*(1-Maklertarif!$J$1),3)","v":10.298},{"$f":"ROUND('Tarifgruppe S'!L63*(1-Maklertarif!$J$1),3)","v":4.665},{"$f":"ROUND('Tarifgruppe S'!M63*(1-Maklertarif!$J$1),3)","v":3.1259999999999999},{"$f":"ROUND('Tarifgruppe S'!N63*(1-Maklertarif!$J$1),3)","v":3.05},{"$f":"ROUND('Tarifgruppe S'!O63*(1-Maklertarif!$J$1),3)","v":36.479999999999997},null,50,{"$f":"ROUND('Tarif URP'!B59*(1-Maklertarif!$J$1),3)","v":3.2109999999999999},{"$f":"ROUND('Tarif URP'!C59*(1-Maklertarif!$J$1),3)","v":3.2589999999999999},{"$f":"ROUND('Tarif URP'!D59*(1-Maklertarif!$J$1),3)","v":5.9569999999999999},{"$f":"ROUND('Tarif URP'!E59*(1-Maklertarif!$J$1),3)","v":6.859}]
[114,{"$f":"ROUND('Tarifgruppe S'!B64*(1-Maklertarif!$J$1),3)","v":7.4669999999999996},{"$f":"ROUND('Tarifgruppe S'!C64*(1-Maklertarif!$J$1),3)","v":10.516999999999999},{"$f":"ROUND('Tarifgruppe S'!D64*(1-Maklertarif!$J$1),3)","v":12.977},{"$f":"ROUND('Tarifgruppe S'!E64*(1-Maklertarif!$J$1),3)","v":5.8710000000000004},{"$f":"ROUND('Tarifgruppe S'!F64*(1-Maklertarif!$J$1),3)","v":3.9329999999999998},{"$f":"ROUND('Tarifgruppe S'!G64*(1-Maklertarif!$J$1),3)","v":3.8380000000000001},{"$f":"ROUND('Tarifgruppe S'!H64*(1-Maklertarif!$J$1),3)","v":45.960999999999999},{"$f":"ROUND('Tarifgruppe S'!I64*(1-Maklertarif!$J$1),3)","v":6.2229999999999999},{"$f":"ROUND('Tarifgruppe S'!J64*(1-Maklertarif!$J$1),3)","v":8.7590000000000003},{"$f":"ROUND('Tarifgruppe S'!K64*(1-Maklertarif!$J$1),3)","v":10.811},{"$f":"ROUND('Tarifgruppe S'!L64*(1-Maklertarif!$J$1),3)","v":4.8929999999999998},{"$f":"ROUND('Tarifgruppe S'!M64*(1-Maklertarif!$J$1),3)","v":3.278},{"$f":"ROUND('Tarifgruppe S'!N64*(1-Maklertarif!$J$1),3)","v":3.202},{"$f":"ROUND('Tarifgruppe S'!O64*(1-Maklertarif!$J$1),3)","v":38.304000000000002},null,51,{"$f":"ROUND('Tarif URP'!B60*(1-Maklertarif!$J$1),3)","v":3.335},{"$f":"ROUND('Tarif URP'!C60*(1-Maklertarif!$J$1),3)","v":3.3730000000000002},{"$f":"ROUND('Tarif URP'!D60*(1-Maklertarif!$J$1),3)","v":6.4889999999999999},{"$f":"ROUND('Tarif URP'!E60*(1-Maklertarif!$J$1),3)","v":7.4290000000000003}]
[115,{"$f":"ROUND('Tarifgruppe S'!B65*(1-Maklertarif!$J$1),3)","v":7.8380000000000001},{"$f":"ROUND('Tarifgruppe S'!C65*(1-Maklertarif!$J$1),3)","v":11.039},{"$f":"ROUND('Tarifgruppe S'!D65*(1-Maklertarif!$J$1),3)","v":13.622999999999999},{"$f":"ROUND('Tarifgruppe S'!E65*(1-Maklertarif!$J$1),3)","v":6.1660000000000004},{"$f":"ROUND('Tarifgruppe S'!F65*(1-Maklertarif!$J$1),3)","v":4.133},{"$f":"ROUND('Tarifgruppe S'!G65*(1-Maklertarif!$J$1),3)","v":4.0279999999999996},{"$f":"ROUND('Tarifgruppe S'!H65*(1-Maklertarif!$J$1),3)","v":48.26},{"$f":"ROUND('Tarifgruppe S'!I65*(1-Maklertarif!$J$1),3)","v":6.5359999999999996},{"$f":"ROUND('Tarifgruppe S'!J65*(1-Maklertarif!$J$1),3)","v":9.1959999999999997},{"$f":"ROUND('Tarifgruppe S'!K65*(1-Maklertarif!$J$1),3)","v":11.353},{"$f":"ROUND('Tarifgruppe S'!L65*(1-Maklertarif!$J$1),3)","v":5.14},{"$f":"ROUND('Tarifgruppe S'!M65*(1-Maklertarif!$J$1),3)","v":3.4390000000000001},{"$f":"ROUND('Tarifgruppe S'!N65*(1-Maklertarif!$J$1),3)","v":3.363},{"$f":"ROUND('Tarifgruppe S'!O65*(1-Maklertarif!$J$1),3)","v":40.213999999999999},null,52,{"$f":"ROUND('Tarif URP'!B61*(1-Maklertarif!$J$1),3)","v":3.42},{"$f":"ROUND('Tarif URP'!C61*(1-Maklertarif!$J$1),3)","v":3.43},{"$f":"ROUND('Tarif URP'!D61*(1-Maklertarif!$J$1),3)","v":7.0209999999999999},{"$f":"ROUND('Tarif URP'!E61*(1-Maklertarif!$J$1),3)","v":8.0090000000000003}]
[116,{"$f":"ROUND('Tarifgruppe S'!B66*(1-Maklertarif!$J$1),3)","v":8.2370000000000001},{"$f":"ROUND('Tarifgruppe S'!C66*(1-Maklertarif!$J$1),3)","v":11.59},{"$f":"ROUND('Tarifgruppe S'!D66*(1-Maklertarif!$J$1),3)","v":14.307},{"$f":"ROUND('Tarifgruppe S'!E66*(1-Maklertarif!$J$1),3)","v":6.47},{"$f":"ROUND('Tarifgruppe S'!F66*(1-Maklertarif!$J$1),3)","v":4.3419999999999996},{"$f":"ROUND('Tarifgruppe S'!G66*(1-Maklertarif!$J$1),3)","v":4.2370000000000001},{"$f":"ROUND('Tarifgruppe S'!H66*(1-Maklertarif!$J$1),3)","v":50.673000000000002},{"$f":"ROUND('Tarifgruppe S'!I66*(1-Maklertarif!$J$1),3)","v":6.859},{"$f":"ROUND('Tarifgruppe S'!J66*(1-Maklertarif!$J$1),3)","v":9.6620000000000008},{"$f":"ROUND('Tarifgruppe S'!K66*(1-Maklertarif!$J$1),3)","v":11.923},{"$f":"ROUND('Tarifgruppe S'!L66*(1-Maklertarif!$J$1),3)","v":5.3959999999999999},{"$f":"ROUND('Tarifgruppe S'!M66*(1-Maklertarif!$J$1),3)","v":3.62},{"$f":"ROUND('Tarifgruppe S'!N66*(1-Maklertarif!$J$1),3)","v":3.5249999999999999},{"$f":"ROUND('Tarifgruppe S'!O66*(1-Maklertarif!$J$1),3)","v":42.228000000000002},null,53,{"$f":"ROUND('Tarif URP'!B62*(1-Maklertarif!$J$1),3)","v":3.4580000000000002},{"$f":"ROUND('Tarif URP'!C62*(1-Maklertarif!$J$1),3)","v":3.4580000000000002},{"$f":"ROUND('Tarif URP'!D62*(1-Maklertarif!$J$1),3)","v":7.6},{"$f":"ROUND('Tarif URP'!E62*(1-Maklertarif!$J$1),3)","v":8.6359999999999992}]
[117,{"$f":"ROUND('Tarifgruppe S'!B67*(1-Maklertarif!$J$1),3)","v":8.6449999999999996},{"$f":"ROUND('Tarifgruppe S'!C67*(1-Maklertarif!$J$1),3)","v":12.17},{"$f":"ROUND('Tarifgruppe S'!D67*(1-Maklertarif!$J$1),3)","v":15.02},{"$f":"ROUND('Tarifgruppe S'!E67*(1-Maklertarif!$J$1),3)","v":6.8019999999999996},{"$f":"ROUND('Tarifgruppe S'!F67*(1-Maklertarif!$J$1),3)","v":4.5599999999999996},{"$f":"ROUND('Tarifgruppe S'!G67*(1-Maklertarif!$J$1),3)","v":4.4459999999999997},{"$f":"ROUND('Tarifgruppe S'!H67*(1-Maklertarif!$J$1),3)","v":53.21},{"$f":"ROUND('Tarifgruppe S'!I67*(1-Maklertarif!$J$1),3)","v":7.2009999999999996},{"$f":"ROUND('Tarifgruppe S'!J67*(1-Maklertarif!$J$1),3)","v":10.146000000000001},{"$f":"ROUND('Tarifgruppe S'!K67*(1-Maklertarif!$J$1),3)","v":12.512},{"$f":"ROUND('Tarifgruppe S'!L67*(1-Maklertarif!$J$1),3)","v":5.6619999999999999},{"$f":"ROUND('Tarifgruppe S'!M67*(1-Maklertarif!$J$1),3)","v":3.8},{"$f":"ROUND('Tarifgruppe S'!N67*(1-Maklertarif!$J$1),3)","v":3.7050000000000001},{"$f":"ROUND('Tarifgruppe S'!O67*(1-Maklertarif!$J$1),3)","v":44.337000000000003},null,54,{"$f":"ROUND('Tarif URP'!B63*(1-Maklertarif!$J$1),3)","v":3.4580000000000002},{"$f":"ROUND('Tarif URP'!C63*(1-Maklertarif!$J$1),3)","v":3.4390000000000001},{"$f":"ROUND('Tarif URP'!D63*(1-Maklertarif!$J$1),3)","v":8.2370000000000001},{"$f":"ROUND('Tarif URP'!E63*(1-Maklertarif!$J$1),3)","v":9.3290000000000006}]
[118,{"$f":"ROUND('Tarifgruppe S'!B68*(1-Maklertarif!$J$1),3)","v":9.0730000000000004},{"$f":"ROUND('Tarifgruppe S'!C68*(1-Maklertarif!$J$1),3)","v":12.778},{"$f":"ROUND('Tarifgruppe S'!D68*(1-Maklertarif!$J$1),3)","v":15.77},{"$f":"ROUND('Tarifgruppe S'!E68*(1-Maklertarif!$J$1),3)","v":7.1349999999999998},{"$f":"ROUND('Tarifgruppe S'!F68*(1-Maklertarif!$J$1),3)","v":4.7880000000000003},{"$f":"ROUND('Tarifgruppe S'!G68*(1-Maklertarif!$J$1),3)","v":4.665},{"$f":"ROUND('Tarifgruppe S'!H68*(1-Maklertarif!$J$1),3)","v":55.87},{"$f":"ROUND('Tarifgruppe S'!I68*(1-Maklertarif!$J$1),3)","v":7.5620000000000003},{"$f":"ROUND('Tarifgruppe S'!J68*(1-Maklertarif!$J$1),3)","v":10.65},{"$f":"ROUND('Tarifgruppe S'!K68*(1-Maklertarif!$J$1),3)","v":13.138999999999999},{"$f":"ROUND('Tarifgruppe S'!L68*(1-Maklertarif!$J$1),3)","v":5.9470000000000001},{"$f":"ROUND('Tarifgruppe S'!M68*(1-Maklertarif!$J$1),3)","v":3.99},{"$f":"ROUND('Tarifgruppe S'!N68*(1-Maklertarif!$J$1),3)","v":3.8860000000000001},{"$f":"ROUND('Tarifgruppe S'!O68*(1-Maklertarif!$J$1),3)","v":46.56},null,55,{"$f":"ROUND('Tarif URP'!B64*(1-Maklertarif!$J$1),3)","v":3.3730000000000002},{"$f":"ROUND('Tarif URP'!C64*(1-Maklertarif!$J$1),3)","v":3.335},{"$f":"ROUND('Tarif URP'!D64*(1-Maklertarif!$J$1),3)","v":8.6929999999999996},{"$f":"ROUND('Tarif URP'!E64*(1-Maklertarif!$J$1),3)","v":9.7759999999999998}]
[119,{"$f":"ROUND('Tarifgruppe S'!B69*(1-Maklertarif!$J$1),3)","v":9.5289999999999999},{"$f":"ROUND('Tarifgruppe S'!C69*(1-Maklertarif!$J$1),3)","v":13.414},{"$f":"ROUND('Tarifgruppe S'!D69*(1-Maklertarif!$J$1),3)","v":16.559000000000001},{"$f":"ROUND('Tarifgruppe S'!E69*(1-Maklertarif!$J$1),3)","v":7.4960000000000004},{"$f":"ROUND('Tarifgruppe S'!F69*(1-Maklertarif!$J$1),3)","v":5.0259999999999998},{"$f":"ROUND('Tarifgruppe S'!G69*(1-Maklertarif!$J$1),3)","v":4.9020000000000001},{"$f":"ROUND('Tarifgruppe S'!H69*(1-Maklertarif!$J$1),3)","v":58.662999999999997},{"$f":"ROUND('Tarifgruppe S'!I69*(1-Maklertarif!$J$1),3)","v":7.9420000000000002},{"$f":"ROUND('Tarifgruppe S'!J69*(1-Maklertarif!$J$1),3)","v":11.182},{"$f":"ROUND('Tarifgruppe S'!K69*(1-Maklertarif!$J$1),3)","v":13.794},{"$f":"ROUND('Tarifgruppe S'!L69*(1-Maklertarif!$J$1),3)","v":6.242},{"$f":"ROUND('Tarifgruppe S'!M69*(1-Maklertarif!$J$1),3)","v":4.1900000000000004},{"$f":"ROUND('Tarifgruppe S'!N69*(1-Maklertarif!$J$1),3)","v":4.085},{"$f":"ROUND('Tarifgruppe S'!O69*(1-Maklertarif!$J$1),3)","v":48.887},null,56,{"$f":"ROUND('Tarif URP'!B65*(1-Maklertarif!$J$1),3)","v":3.278},{"$f":"ROUND('Tarif URP'!C65*(1-Maklertarif!$J$1),3)","v":3.23},{"$f":"ROUND('Tarif URP'!D65*(1-Maklertarif!$J$1),3)","v":9.4909999999999997},{"$f":"ROUND('Tarif URP'!E65*(1-Maklertarif!$J$1),3)","v":10.64}]
[120,{"$f":"ROUND('Tarifgruppe S'!B70*(1-Maklertarif!$J$1),3)","v":10.004},{"$f":"ROUND('Tarifgruppe S'!C70*(1-Maklertarif!$J$1),3)","v":14.089},{"$f":"ROUND('Tarifgruppe S'!D70*(1-Maklertarif!$J$1),3)","v":17.385000000000002},{"$f":"ROUND('Tarifgruppe S'!E70*(1-Maklertarif!$J$1),3)","v":7.8659999999999997},{"$f":"ROUND('Tarifgruppe S'!F70*(1-Maklertarif!$J$1),3)","v":5.2729999999999997},{"$f":"ROUND('Tarifgruppe S'!G70*(1-Maklertarif!$J$1),3)","v":5.149},{"$f":"ROUND('Tarifgruppe S'!H70*(1-Maklertarif!$J$1),3)","v":61.588999999999999},{"$f":"ROUND('Tarifgruppe S'!I70*(1-Maklertarif!$J$1),3)","v":8.3409999999999993},{"$f":"ROUND('Tarifgruppe S'!J70*(1-Maklertarif!$J$1),3)","v":11.742000000000001},{"$f":"ROUND('Tarifgruppe S'!K70*(1-Maklertarif!$J$1),3)","v":14.488},{"$f":"ROUND('Tarifgruppe S'!L70*(1-Maklertarif!$J$1),3)","v":6.5549999999999997},{"$f":"ROUND('Tarifgruppe S'!M70*(1-Maklertarif!$J$1),3)","v":4.399},{"$f":"ROUND('Tarifgruppe S'!N70*(1-Maklertarif!$J$1),3)","v":4.2850000000000001},{"$f":"ROUND('Tarifgruppe S'!O70*(1-Maklertarif!$J$1),3)","v":51.329000000000001},null,57,{"$f":"ROUND('Tarif URP'!B66*(1-Maklertarif!$J$1),3)","v":3.097},{"$f":"ROUND('Tarif URP'!C66*(1-Maklertarif!$J$1),3)","v":3.04},{"$f":"ROUND('Tarif URP'!D66*(1-Maklertarif!$J$1),3)","v":10.430999999999999},{"$f":"ROUND('Tarif URP'!E66*(1-Maklertarif!$J$1),3)","v":11.647}]
[121,{"$f":"ROUND('Tarifgruppe S'!B71*(1-Maklertarif!$J$1),3)","v":10.507},{"$f":"ROUND('Tarifgruppe S'!C71*(1-Maklertarif!$J$1),3)","v":14.792},{"$f":"ROUND('Tarifgruppe S'!D71*(1-Maklertarif!$J$1),3)","v":18.259},{"$f":"ROUND('Tarifgruppe S'!E71*(1-Maklertarif!$J$1),3)","v":8.2650000000000006},{"$f":"ROUND('Tarifgruppe S'!F71*(1-Maklertarif!$J$1),3)","v":5.5389999999999997},{"$f":"ROUND('Tarifgruppe S'!G71*(1-Maklertarif!$J$1),3)","v":5.4059999999999997},{"$f":"ROUND('Tarifgruppe S'!H71*(1-Maklertarif!$J$1),3)","v":64.676000000000002},{"$f":"ROUND('Tarifgruppe S'!I71*(1-Maklertarif!$J$1),3)","v":8.7590000000000003},{"$f":"ROUND('Tarifgruppe S'!J71*(1-Maklertarif!$J$1),3)","v":12.331},{"$f":"ROUND('Tarifgruppe S'!K71*(1-Maklertarif!$J$1),3)","v":15.21},{"$f":"ROUND('Tarifgruppe S'!L71*(1-Maklertarif!$J$1),3)","v":6.8879999999999999},{"$f":"ROUND('Tarifgruppe S'!M71*(1-Maklertarif!$J$1),3)","v":4.617},{"$f":"ROUND('Tarifgruppe S'!N71*(1-Maklertarif!$J$1),3)","v":4.5030000000000001},{"$f":"ROUND('Tarifgruppe S'!O71*(1-Maklertarif!$J$1),3)","v":53.893999999999998},null,58,{"$f":"ROUND('Tarif URP'!B67*(1-Maklertarif!$J$1),3)","v":2.2519999999999998},{"$f":"ROUND('Tarif URP'!C67*(1-Maklertarif!$J$1),3)","v":2.2040000000000002},{"$f":"ROUND('Tarif URP'!D67*(1-Maklertarif!$J$1),3)","v":11.542999999999999},{"$f":"ROUND('Tarif URP'!E67*(1-Maklertarif!$J$1),3)","v":12.853999999999999}]
[122,{"$f":"ROUND('Tarifgruppe S'!B72*(1-Maklertarif!$J$1),3)","v":11.03},{"$f":"ROUND('Tarifgruppe S'!C72*(1-Maklertarif!$J$1),3)","v":15.532999999999999},{"$f":"ROUND('Tarifgruppe S'!D72*(1-Maklertarif!$J$1),3)","v":19.170999999999999},{"$f":"ROUND('Tarifgruppe S'!E72*(1-Maklertarif!$J$1),3)","v":8.6739999999999995},{"$f":"ROUND('Tarifgruppe S'!F72*(1-Maklertarif!$J$1),3)","v":5.8140000000000001},{"$f":"ROUND('Tarifgruppe S'!G72*(1-Maklertarif!$J$1),3)","v":5.6719999999999997},{"$f":"ROUND('Tarifgruppe S'!H72*(1-Maklertarif!$J$1),3)","v":67.906000000000006},{"$f":"ROUND('Tarifgruppe S'!I72*(1-Maklertarif!$J$1),3)","v":9.1959999999999997},{"$f":"ROUND('Tarifgruppe S'!J72*(1-Maklertarif!$J$1),3)","v":12.939},{"$f":"ROUND('Tarifgruppe S'!K72*(1-Maklertarif!$J$1),3)","v":15.97},{"$f":"ROUND('Tarifgruppe S'!L72*(1-Maklertarif!$J$1),3)","v":7.23},{"$f":"ROUND('Tarifgruppe S'!M72*(1-Maklertarif!$J$1),3)","v":4.8449999999999998},{"$f":"ROUND('Tarifgruppe S'!N72*(1-Maklertarif!$J$1),3)","v":4.7309999999999999},{"$f":"ROUND('Tarifgruppe S'!O72*(1-Maklertarif!$J$1),3)","v":56.591999999999999},null,59,{"$f":"ROUND('Tarif URP'!B68*(1-Maklertarif!$J$1),3)","v":0.90300000000000002},{"$f":"ROUND('Tarif URP'!C68*(1-Maklertarif!$J$1),3)","v":0.88400000000000001},{"$f":"ROUND('Tarif URP'!D68*(1-Maklertarif!$J$1),3)","v":12.805999999999999},{"$f":"ROUND('Tarif URP'!E68*(1-Maklertarif!$J$1),3)","v":14.212}]
[123,{"$f":"ROUND('Tarifgruppe S'!B73*(1-Maklertarif!$J$1),3)","v":11.581},{"$f":"ROUND('Tarifgruppe S'!C73*(1-Maklertarif!$J$1),3)","v":16.312000000000001},{"$f":"ROUND('Tarifgruppe S'!D73*(1-Maklertarif!$J$1),3)","v":20.120999999999999},{"$f":"ROUND('Tarifgruppe S'!E73*(1-Maklertarif!$J$1),3)","v":9.1110000000000007},{"$f":"ROUND('Tarifgruppe S'!F73*(1-Maklertarif!$J$1),3)","v":6.109},{"$f":"ROUND('Tarifgruppe S'!G73*(1-Maklertarif!$J$1),3)","v":5.9569999999999999},{"$f":"ROUND('Tarifgruppe S'!H73*(1-Maklertarif!$J$1),3)","v":71.298000000000002},{"$f":"ROUND('Tarifgruppe S'!I73*(1-Maklertarif!$J$1),3)","v":9.6519999999999992},{"$f":"ROUND('Tarifgruppe S'!J73*(1-Maklertarif!$J$1),3)","v":13.595000000000001},{"$f":"ROUND('Tarifgruppe S'!K73*(1-Maklertarif!$J$1),3)","v":16.768000000000001},{"$f":"ROUND('Tarifgruppe S'!L73*(1-Maklertarif!$J$1),3)","v":7.5910000000000002},{"$f":"ROUND('Tarifgruppe S'!M73*(1-Maklertarif!$J$1),3)","v":5.0919999999999996},{"$f":"ROUND('Tarifgruppe S'!N73*(1-Maklertarif!$J$1),3)","v":4.9589999999999996},{"$f":"ROUND('Tarifgruppe S'!O73*(1-Maklertarif!$J$1),3)","v":59.423000000000002},null,60,null,null,{"$f":"ROUND('Tarif URP'!D69*(1-Maklertarif!$J$1),3)","v":13.69},{"$f":"ROUND('Tarif URP'!E69*(1-Maklertarif!$J$1),3)","v":15.077}]
[124,{"$f":"ROUND('Tarifgruppe S'!B74*(1-Maklertarif!$J$1),3)","v":12.16},{"$f":"ROUND('Tarifgruppe S'!C74*(1-Maklertarif!$J$1),3)","v":17.129000000000001},{"$f":"ROUND('Tarifgruppe S'!D74*(1-Maklertarif!$J$1),3)","v":21.128},{"$f":"ROUND('Tarifgruppe S'!E74*(1-Maklertarif!$J$1),3)","v":9.5670000000000002},{"$f":"ROUND('Tarifgruppe S'!F74*(1-Maklertarif!$J$1),3)","v":6.4130000000000003},{"$f":"ROUND('Tarifgruppe S'!G74*(1-Maklertarif!$J$1),3)","v":6.2510000000000003},{"$f":"ROUND('Tarifgruppe S'!H74*(1-Maklertarif!$J$1),3)","v":74.87},{"$f":"ROUND('Tarifgruppe S'!I74*(1-Maklertarif!$J$1),3)","v":10.137},{"$f":"ROUND('Tarifgruppe S'!J74*(1-Maklertarif!$J$1),3)","v":14.269},{"$f":"ROUND('Tarifgruppe S'!K74*(1-Maklertarif!$J$1),3)","v":17.613},{"$f":"ROUND('Tarifgruppe S'!L74*(1-Maklertarif!$J$1),3)","v":7.9710000000000001},{"$f":"ROUND('Tarifgruppe S'!M74*(1-Maklertarif!$J$1),3)","v":5.3390000000000004},{"$f":"ROUND('Tarifgruppe S'!N74*(1-Maklertarif!$J$1),3)","v":5.2160000000000002},{"$f":"ROUND('Tarifgruppe S'!O74*(1-Maklertarif!$J$1),3)","v":62.387},null,61,null,null,{"$f":"ROUND('Tarif URP'!D70*(1-Maklertarif!$J$1),3)","v":15.162000000000001},{"$f":"ROUND('Tarif URP'!E70*(1-Maklertarif!$J$1),3)","v":16.654}]
[125,{"$f":"ROUND('Tarifgruppe S'!B75*(1-Maklertarif!$J$1),3)","v":12.768000000000001},{"$f":"ROUND('Tarifgruppe S'!C75*(1-Maklertarif!$J$1),3)","v":17.984000000000002},{"$f":"ROUND('Tarifgruppe S'!D75*(1-Maklertarif!$J$1),3)","v":22.192},{"$f":"ROUND('Tarifgruppe S'!E75*(1-Maklertarif!$J$1),3)","v":10.042},{"$f":"ROUND('Tarifgruppe S'!F75*(1-Maklertarif!$J$1),3)","v":6.7359999999999998},{"$f":"ROUND('Tarifgruppe S'!G75*(1-Maklertarif!$J$1),3)","v":6.5650000000000004},{"$f":"ROUND('Tarifgruppe S'!H75*(1-Maklertarif!$J$1),3)","v":78.613},{"$f":"ROUND('Tarifgruppe S'!I75*(1-Maklertarif!$J$1),3)","v":10.64},{"$f":"ROUND('Tarifgruppe S'!J75*(1-Maklertarif!$J$1),3)","v":14.981999999999999},{"$f":"ROUND('Tarifgruppe S'!K75*(1-Maklertarif!$J$1),3)","v":18.486999999999998},{"$f":"ROUND('Tarifgruppe S'!L75*(1-Maklertarif!$J$1),3)","v":8.3699999999999992},{"$f":"ROUND('Tarifgruppe S'!M75*(1-Maklertarif!$J$1),3)","v":5.6050000000000004},{"$f":"ROUND('Tarifgruppe S'!N75*(1-Maklertarif!$J$1),3)","v":5.4720000000000004},{"$f":"ROUND('Tarifgruppe S'!O75*(1-Maklertarif!$J$1),3)","v":65.512},null,62,null,null,{"$f":"ROUND('Tarif URP'!D71*(1-Maklertarif!$J$1),3)","v":16.681999999999999},{"$f":"ROUND('Tarif URP'!E71*(1-Maklertarif!$J$1),3)","v":18.277999999999999}]
[null,null,null,null,null,null,null,null,null,null,null,null,null,null,null,null,63,null,null,{"$f":"ROUND('Tarif URP'!D72*(1-Maklertarif!$J$1),3)","v":18.173999999999999},{"$f":"ROUND('Tarif URP'!E72*(1-Maklertarif!$J$1),3)","v":19.873999999999999}]
[null,null,null,null,null,null,null,null,null,null,null,null,null,null,null,null,64,null,null,{"$f":"ROUND('Tarif URP'!D73*(1-Maklertarif!$J$1),3)","v":19.713000000000001},{"$f":"ROUND('Tarif URP'!E73*(1-Maklertarif!$J$1),3)","v":21.507999999999999}]
[null,null,null,null,null,null,null,null,null,null,null,null,null,null,null,null,65,null,null,{"$f":"ROUND('Tarif URP'!D74*(1-Maklertarif!$J$1),3)","v":20.501000000000001},{"$f":"ROUND('Tarif URP'!E74*(1-Maklertarif!$J$1),3)","v":22.210999999999999}]
[null,null,null,null,null,null,null,null,null,null,null,null,null,null,null,null,66,null,null,{"$f":"ROUND('Tarif URP'!D75*(1-Maklertarif!$J$1),3)","v":22.059000000000001},{"$f":"ROUND('Tarif URP'!E75*(1-Maklertarif!$J$1),3)","v":23.844999999999999}]

{"sheet":"V-Tarif","index":7,"n_rows":94,"n_cols":21,"rows_kept":94,"cut":false,"hidden":true,"merged":[[26,17,26,18],[26,19,26,20],[26,1,26,7],[26,8,26,14]]}
[null,null,null,null,null,null,null,null,"Nachlass",0.5]
[null,"Gefahrengruppe A, B, K für Einzelunfall"]
[null,"Leistungsarten Erwachsene Kinder",null,"A","B","K","S"]
["Progression","ohne","je 1.000 ",{"$f":"ROUND(Tarifgruppen!D3*(1-'V-Tarif'!$J$1),2)","v":0.33},{"$f":"ROUND(Tarifgruppen!E3*(1-'V-Tarif'!$J$1),2)","v":0.47},{"$f":"ROUND(Tarifgruppen!I3*(1-'V-Tarif'!$J$1),2)","v":0.16}]
["Progression",3.5,"je 1.000 ",{"$f":"ROUND(Tarifgruppen!D4*(1-'V-Tarif'!$J$1),2)","v":0.47},{"$f":"ROUND(Tarifgruppen!E4*(1-'V-Tarif'!$J$1),2)","v":0.67},{"$f":"ROUND(Tarifgruppen!I4*(1-'V-Tarif'!$J$1),2)","v":0.21}]
["Progression",6,"je 1.000 ",{"$f":"ROUND(Tarifgruppen!D5*(1-'V-Tarif'!$J$1),2)","v":0.57999999999999996},{"$f":"ROUND(Tarifgruppen!E5*(1-'V-Tarif'!$J$1),2)","v":0.84},{"$f":"ROUND(Tarifgruppen!I5*(1-'V-Tarif'!$J$1),2)","v":0.24}]
[null,"mit verbesserter Gliedertaxe für Ärzte UIVGT","je 1.000 ",{"$f":"ROUND(Tarifgruppen!D6*(1-'V-Tarif'!$J$1),2)","v":0.68}]
[null,"mit verbesserter Gliedertaxe für Ärzte mit UIVGP 350%","je 1.000 ",{"$f":"ROUND(Tarifgruppen!D7*(1-'V-Tarif'!$J$1),2)","v":1.46}]
[null,"Invaliditätsrente 0 – 59 Jahre UIR 65","je 10 ",{"$f":"ROUND(Tarifgruppen!D8*(1-'V-Tarif'!$J$1),2)","v":0.22},{"$f":"ROUND(Tarifgruppen!E8*(1-'V-Tarif'!$J$1),2)","v":0.41},{"$f":"ROUND(Tarifgruppen!I8*(1-'V-Tarif'!$J$1),2)","v":0.16}]
[null,"Invaliditätsrente 0 – 59 Jahre UIR (ein Leben lang)","je 10 ",{"$f":"ROUND(Tarifgruppen!D9*(1-'V-Tarif'!$J$1),2)","v":0.4},{"$f":"ROUND(Tarifgruppen!E9*(1-'V-Tarif'!$J$1),2)","v":0.65},{"$f":"ROUND(Tarifgruppen!I9*(1-'V-Tarif'!$J$1),2)","v":0.18},{"$f":"ROUND(Tarifgruppen!J9*(1-'V-Tarif'!$J$1),2)","v":0}]
[null,null,null,{"$f":"ROUND(Tarifgruppen!D10*(1-'V-Tarif'!$J$1),2)","v":0},{"$f":"ROUND(Tarifgruppen!E10*(1-'V-Tarif'!$J$1),2)","v":0},{"$f":"ROUND(Tarifgruppen!I10*(1-'V-Tarif'!$J$1),2)","v":0},{"$f":"ROUND(Tarifgruppen!J10*(1-'V-Tarif'!$J$1),2)","v":0}]
[null,"Tod UT","je 1.000 ",{"$f":"ROUND(Tarifgruppen!D11*(1-'V-Tarif'!$J$1),2)","v":0.26},{"$f":"ROUND(Tarifgruppen!E11*(1-'V-Tarif'!$J$1),2)","v":0.33},{"$f":"ROUND(Tarifgruppen!J11*(1-'V-Tarif'!$J$1),2)","v":0.17}]
[null,"Unfallkrankenhaustagegeld UKT","je 1",{"$f":"ROUND(Tarifgruppen!D12*(1-'V-Tarif'!$J$1),2)","v":0.18},{"$f":"ROUND(Tarifgruppen!E12*(1-'V-Tarif'!$J$1),2)","v":0.23},{"$f":"ROUND(Tarifgruppen!J12*(1-'V-Tarif'!$J$1),2)","v":0.11}]
[null,"Genesungsgeld GG ","je 1",{"$f":"ROUND(Tarifgruppen!D13*(1-'V-Tarif'!$J$1),2)","v":0.17},{"$f":"ROUND(Tarifgruppen!E13*(1-'V-Tarif'!$J$1),2)","v":0.23},{"$f":"ROUND(Tarifgruppen!J13*(1-'V-Tarif'!$J$1),2)","v":0.1}]
["Tagegeld","ab 8. Tag","je 1",{"$f":"ROUND(Tarifgruppen!D14*(1-'V-Tarif'!$J$1),2)","v":2.23},{"$f":"ROUND(Tarifgruppen!E14*(1-'V-Tarif'!$J$1),2)","v":3.47}]
["Tagegeld","ab 15. Tag","je 1",{"$f":"ROUND(Tarifgruppen!D15*(1-'V-Tarif'!$J$1),2)","v":2.04},{"$f":"ROUND(Tarifgruppen!E15*(1-'V-Tarif'!$J$1),2)","v":2.58}]
["Tagegeld","ab 29. Tag","je 1",{"$f":"ROUND(Tarifgruppen!D16*(1-'V-Tarif'!$J$1),2)","v":1.48},{"$f":"ROUND(Tarifgruppen!E16*(1-'V-Tarif'!$J$1),2)","v":2.19}]
["Tagegeld","ab 43. Tag","je 1",{"$f":"ROUND(Tarifgruppen!D17*(1-'V-Tarif'!$J$1),2)","v":1.4},{"$f":"ROUND(Tarifgruppen!E17*(1-'V-Tarif'!$J$1),2)","v":2.06}]
[null,"Tagegeld Spezial TGsp","je 1",{"$f":"ROUND(Tarifgruppen!D18*(1-'V-Tarif'!$J$1),2)","v":2.04},{"$f":"ROUND(Tarifgruppen!E18*(1-'V-Tarif'!$J$1),2)","v":2.58},{"$f":"ROUND(Tarifgruppen!I18*(1-'V-Tarif'!$J$1),2)","v":1.94}]
[null,"Kosmetische Operationen KOP","je 5.000",{"$f":"ROUND(Tarifgruppen!D19*(1-'V-Tarif'!$J$1),2)","v":3.35},{"$f":"ROUND(Tarifgruppen!E19*(1-'V-Tarif'!$J$1),2)","v":3.35},{"$f":"ROUND(Tarifgruppen!I19*(1-'V-Tarif'!$J$1),2)","v":1.68},{"$f":"ROUND(Tarifgruppen!J19*(1-'V-Tarif'!$J$1),2)","v":3.35}]
[null,"Bergungskosten BK bis 10.000 beitragsfrei","je 5.000",{"$f":"ROUND(Tarifgruppen!D20*(1-'V-Tarif'!$J$1),2)","v":2.4},{"$f":"ROUND(Tarifgruppen!E20*(1-'V-Tarif'!$J$1),2)","v":2.4},{"$f":"ROUND(Tarifgruppen!I20*(1-'V-Tarif'!$J$1),2)","v":1.2},{"$f":"ROUND(Tarifgruppen!J20*(1-'V-Tarif'!$J$1),2)","v":2.4}]
[null,"Baustein CuraPlus",null,{"$f":"ROUND(Tarifgruppen!D21*(1-'V-Tarif'!$J$1),2)","v":30},{"$f":"ROUND(Tarifgruppen!E21*(1-'V-Tarif'!$J$1),2)","v":30},{"$f":"ROUND(Tarifgruppen!I21*(1-'V-Tarif'!$J$1),2)","v":7.5},{"$f":"ROUND(Tarifgruppen!J21*(1-'V-Tarif'!$J$1),2)","v":60}]
[]
[]
[]
[null,"Gefahrengruppe Senioren für Einzelunfall"]
[null,"ohne Integralfranchise",null,null,null,null,null,null,"mit Integralfranchise",null,null,null,null,null,null,null,null,"URP 60",null,"URP lebenslang"]
["Alter","ohne Progression","350 Progression","600 Progression","Unfalltod","KHTG","GG","TG spez","ohne Progression","350 Progression","600 Progression","Unfalltod","KHTG","GG","TG spez",null,"Alter","ohne Passivdynamik","mit Passivdynamik","ohne Passivdynamik","mit Passivdynamik"]
[null,null,null,null,null,null,null,null,null,null,null,null,null,null,null,null,1,{"$f":"ROUND('Tarif URP'!B10*(1-'V-Tarif'!$J$1),2)","v":0.54},{"$f":"ROUND('Tarif URP'!C10*(1-'V-Tarif'!$J$1),2)","v":0.73},{"$f":"ROUND('Tarif URP'!D10*(1-'V-Tarif'!$J$1),2)","v":0.62},{"$f":"ROUND('Tarif URP'!E10*(1-'V-Tarif'!$J$1),2)","v":0.92}]
[null,null,null,null,null,null,null,null,null,null,null,null,null,null,null,null,2,{"$f":"ROUND('Tarif URP'!B11*(1-'V-Tarif'!$J$1),2)","v":0.54},{"$f":"ROUND('Tarif URP'!C11*(1-'V-Tarif'!$J$1),2)","v":0.73},{"$f":"ROUND('Tarif URP'!D11*(1-'V-Tarif'!$J$1),2)","v":0.62},{"$f":"ROUND('Tarif URP'!E11*(1-'V-Tarif'!$J$1),2)","v":0.92}]
[null,null,null,null,null,null,null,null,null,null,null,null,null,null,null,null,3,{"$f":"ROUND('Tarif URP'!B12*(1-'V-Tarif'!$J$1),2)","v":0.54},{"$f":"ROUND('Tarif URP'!C12*(1-'V-Tarif'!$J$1),2)","v":0.73},{"$f":"ROUND('Tarif URP'!D12*(1-'V-Tarif'!$J$1),2)","v":0.62},{"$f":"ROUND('Tarif URP'!E12*(1-'V-Tarif'!$J$1),2)","v":0.92}]
[67,{"$f":"ROUND('Tarifgruppe S'!B17*(1-'V-Tarif'!$J$1),2)","v":0.4},{"$f":"ROUND('Tarifgruppe S'!C17*(1-'V-Tarif'!$J$1),2)","v":0.56000000000000005},{"$f":"ROUND('Tarifgruppe S'!D17*(1-'V-Tarif'!$J$1),2)","v":0.69},{"$f":"ROUND('Tarifgruppe S'!E17*(1-'V-Tarif'!$J$1),2)","v":0.31},{"$f":"ROUND('Tarifgruppe S'!F17*(1-'V-Tarif'!$J$1),2)","v":0.21},{"$f":"ROUND('Tarifgruppe S'!G17*(1-'V-Tarif'!$J$1),2)","v":0.21},{"$f":"ROUND('Tarifgruppe S'!H17*(1-'V-Tarif'!$J$1),2)","v":2.44},{"$f":"ROUND('Tarifgruppe S'!I17*(1-'V-Tarif'!$J$1),2)","v":0.33},{"$f":"ROUND('Tarifgruppe S'!J17*(1-'V-Tarif'!$J$1),2)","v":0.47},{"$f":"ROUND('Tarifgruppe S'!K17*(1-'V-Tarif'!$J$1),2)","v":0.57999999999999996},{"$f":"ROUND('Tarifgruppe S'!L17*(1-'V-Tarif'!$J$1),2)","v":0.26},{"$f":"ROUND('Tarifgruppe S'!M17*(1-'V-Tarif'!$J$1),2)","v":0.18},{"$f":"ROUND('Tarifgruppe S'!N17*(1-'V-Tarif'!$J$1),2)","v":0.17},{"$f":"ROUND('Tarifgruppe S'!O17*(1-'V-Tarif'!$J$1),2)","v":2.04},null,4,{"$f":"ROUND('Tarif URP'!B13*(1-'V-Tarif'!$J$1),2)","v":0.54},{"$f":"ROUND('Tarif URP'!C13*(1-'V-Tarif'!$J$1),2)","v":0.73},{"$f":"ROUND('Tarif URP'!D13*(1-'V-Tarif'!$J$1),2)","v":0.62},{"$f":"ROUND('Tarif URP'!E13*(1-'V-Tarif'!$J$1),2)","v":0.92}]
[68,{"$f":"ROUND('Tarifgruppe S'!B18*(1-'V-Tarif'!$J$1),2)","v":0.42},{"$f":"ROUND('Tarifgruppe S'!C18*(1-'V-Tarif'!$J$1),2)","v":0.59},{"$f":"ROUND('Tarifgruppe S'!D18*(1-'V-Tarif'!$J$1),2)","v":0.73},{"$f":"ROUND('Tarifgruppe S'!E18*(1-'V-Tarif'!$J$1),2)","v":0.33},{"$f":"ROUND('Tarifgruppe S'!F18*(1-'V-Tarif'!$J$1),2)","v":0.22},{"$f":"ROUND('Tarifgruppe S'!G18*(1-'V-Tarif'!$J$1),2)","v":0.22},{"$f":"ROUND('Tarifgruppe S'!H18*(1-'V-Tarif'!$J$1),2)","v":2.57},{"$f":"ROUND('Tarifgruppe S'!I18*(1-'V-Tarif'!$J$1),2)","v":0.35},{"$f":"ROUND('Tarifgruppe S'!J18*(1-'V-Tarif'!$J$1),2)","v":0.49},{"$f":"ROUND('Tarifgruppe S'!K18*(1-'V-Tarif'!$J$1),2)","v":0.61},{"$f":"ROUND('Tarifgruppe S'!L18*(1-'V-Tarif'!$J$1),2)","v":0.28000000000000003},{"$f":"ROUND('Tarifgruppe S'!M18*(1-'V-Tarif'!$J$1),2)","v":0.19},{"$f":"ROUND('Tarifgruppe S'!N18*(1-'V-Tarif'!$J$1),2)","v":0.18},{"$f":"ROUND('Tarifgruppe S'!O18*(1-'V-Tarif'!$J$1),2)","v":2.14},null,5,{"$f":"ROUND('Tarif URP'!B14*(1-'V-Tarif'!$J$1),2)","v":0.54},{"$f":"ROUND('Tarif URP'!C14*(1-'V-Tarif'!$J$1),2)","v":0.73},{"$f":"ROUND('Tarif URP'!D14*(1-'V-Tarif'!$J$1),2)","v":0.62},{"$f":"ROUND('Tarif URP'!E14*(1-'V-Tarif'!$J$1),2)","v":0.92}]
[69,{"$f":"ROUND('Tarifgruppe S'!B19*(1-'V-Tarif'!$J$1),2)","v":0.44},{"$f":"ROUND('Tarifgruppe S'!C19*(1-'V-Tarif'!$J$1),2)","v":0.62},{"$f":"ROUND('Tarifgruppe S'!D19*(1-'V-Tarif'!$J$1),2)","v":0.76},{"$f":"ROUND('Tarifgruppe S'!E19*(1-'V-Tarif'!$J$1),2)","v":0.35},{"$f":"ROUND('Tarifgruppe S'!F19*(1-'V-Tarif'!$J$1),2)","v":0.23},{"$f":"ROUND('Tarifgruppe S'!G19*(1-'V-Tarif'!$J$1),2)","v":0.23},{"$f":"ROUND('Tarifgruppe S'!H19*(1-'V-Tarif'!$J$1),2)","v":2.69},{"$f":"ROUND('Tarifgruppe S'!I19*(1-'V-Tarif'!$J$1),2)","v":0.37},{"$f":"ROUND('Tarifgruppe S'!J19*(1-'V-Tarif'!$J$1),2)","v":0.52},{"$f":"ROUND('Tarifgruppe S'!K19*(1-'V-Tarif'!$J$1),2)","v":0.64},{"$f":"ROUND('Tarifgruppe S'!L19*(1-'V-Tarif'!$J$1),2)","v":0.28999999999999998},{"$f":"ROUND('Tarifgruppe S'!M19*(1-'V-Tarif'!$J$1),2)","v":0.19},{"$f":"ROUND('Tarifgruppe S'!N19*(1-'V-Tarif'!$J$1),2)","v":0.19},{"$f":"ROUND('Tarifgruppe S'!O19*(1-'V-Tarif'!$J$1),2)","v":2.25},null,6,{"$f":"ROUND('Tarif URP'!B15*(1-'V-Tarif'!$J$1),2)","v":0.54},{"$f":"ROUND('Tarif URP'!C15*(1-'V-Tarif'!$J$1),2)","v":0.73},{"$f":"ROUND('Tarif URP'!D15*(1-'V-Tarif'!$J$1),2)","v":0.62},{"$f":"ROUND('Tarif URP'!E15*(1-'V-Tarif'!$J$1),2)","v":0.92}]
[70,{"$f":"ROUND('Tarifgruppe S'!B20*(1-'V-Tarif'!$J$1),2)","v":0.46},{"$f":"ROUND('Tarifgruppe S'!C20*(1-'V-Tarif'!$J$1),2)","v":0.65},{"$f":"ROUND('Tarifgruppe S'!D20*(1-'V-Tarif'!$J$1),2)","v":0.8},{"$f":"ROUND('Tarifgruppe S'!E20*(1-'V-Tarif'!$J$1),2)","v":0.36},{"$f":"ROUND('Tarifgruppe S'!F20*(1-'V-Tarif'!$J$1),2)","v":0.24},{"$f":"ROUND('Tarifgruppe S'!G20*(1-'V-Tarif'!$J$1),2)","v":0.24},{"$f":"ROUND('Tarifgruppe S'!H20*(1-'V-Tarif'!$J$1),2)","v":2.83},{"$f":"ROUND('Tarifgruppe S'!I20*(1-'V-Tarif'!$J$1),2)","v":0.39},{"$f":"ROUND('Tarifgruppe S'!J20*(1-'V-Tarif'!$J$1),2)","v":0.54},{"$f":"ROUND('Tarifgruppe S'!K20*(1-'V-Tarif'!$J$1),2)","v":0.67},{"$f":"ROUND('Tarifgruppe S'!L20*(1-'V-Tarif'!$J$1),2)","v":0.3},{"$f":"ROUND('Tarifgruppe S'!M20*(1-'V-Tarif'!$J$1),2)","v":0.2},{"$f":"ROUND('Tarifgruppe S'!N20*(1-'V-Tarif'!$J$1),2)","v":0.2},{"$f":"ROUND('Tarifgruppe S'!O20*(1-'V-Tarif'!$J$1),2)","v":2.36},null,7,{"$f":"ROUND('Tarif URP'!B16*(1-'V-Tarif'!$J$1),2)","v":0.54},{"$f":"ROUND('Tarif URP'!C16*(1-'V-Tarif'!$J$1),2)","v":0.73},{"$f":"ROUND('Tarif URP'!D16*(1-'V-Tarif'!$J$1),2)","v":0.62},{"$f":"ROUND('Tarif URP'!E16*(1-'V-Tarif'!$J$1),2)","v":0.92}]
[71,{"$f":"ROUND('Tarifgruppe S'!B21*(1-'V-Tarif'!$J$1),2)","v":0.48},{"$f":"ROUND('Tarifgruppe S'!C21*(1-'V-Tarif'!$J$1),2)","v":0.68},{"$f":"ROUND('Tarifgruppe S'!D21*(1-'V-Tarif'!$J$1),2)","v":0.84},{"$f":"ROUND('Tarifgruppe S'!E21*(1-'V-Tarif'!$J$1),2)","v":0.38},{"$f":"ROUND('Tarifgruppe S'!F21*(1-'V-Tarif'!$J$1),2)","v":0.26},{"$f":"ROUND('Tarifgruppe S'!G21*(1-'V-Tarif'!$J$1),2)","v":0.25},{"$f":"ROUND('Tarifgruppe S'!H21*(1-'V-Tarif'!$J$1),2)","v":2.97},{"$f":"ROUND('Tarifgruppe S'!I21*(1-'V-Tarif'!$J$1),2)","v":0.4},{"$f":"ROUND('Tarifgruppe S'!J21*(1-'V-Tarif'!$J$1),2)","v":0.56999999999999995},{"$f":"ROUND('Tarifgruppe S'!K21*(1-'V-Tarif'!$J$1),2)","v":0.7},{"$f":"ROUND('Tarifgruppe S'!L21*(1-'V-Tarif'!$J$1),2)","v":0.32},{"$f":"ROUND('Tarifgruppe S'!M21*(1-'V-Tarif'!$J$1),2)","v":0.21},{"$f":"ROUND('Tarifgruppe S'!N21*(1-'V-Tarif'!$J$1),2)","v":0.21},{"$f":"ROUND('Tarifgruppe S'!O21*(1-'V-Tarif'!$J$1),2)","v":2.48},null,8,{"$f":"ROUND('Tarif URP'!B17*(1-'V-Tarif'!$J$1),2)","v":0.54},{"$f":"ROUND('Tarif URP'!C17*(1-'V-Tarif'!$J$1),2)","v":0.73},{"$f":"ROUND('Tarif URP'!D17*(1-'V-Tarif'!$J$1),2)","v":0.62},{"$f":"ROUND('Tarif URP'!E17*(1-'V-Tarif'!$J$1),2)","v":0.92}]
[72,{"$f":"ROUND('Tarifgruppe S'!B22*(1-'V-Tarif'!$J$1),2)","v":0.51},{"$f":"ROUND('Tarifgruppe S'!C22*(1-'V-Tarif'!$J$1),2)","v":0.72},{"$f":"ROUND('Tarifgruppe S'!D22*(1-'V-Tarif'!$J$1),2)","v":0.88},{"$f":"ROUND('Tarifgruppe S'!E22*(1-'V-Tarif'!$J$1),2)","v":0.4},{"$f":"ROUND('Tarifgruppe S'!F22*(1-'V-Tarif'!$J$1),2)","v":0.27},{"$f":"ROUND('Tarifgruppe S'!G22*(1-'V-Tarif'!$J$1),2)","v":0.26},{"$f":"ROUND('Tarifgruppe S'!H22*(1-'V-Tarif'!$J$1),2)","v":3.12},{"$f":"ROUND('Tarifgruppe S'!I22*(1-'V-Tarif'!$J$1),2)","v":0.42},{"$f":"ROUND('Tarifgruppe S'!J22*(1-'V-Tarif'!$J$1),2)","v":0.6},{"$f":"ROUND('Tarifgruppe S'!K22*(1-'V-Tarif'!$J$1),2)","v":0.74},{"$f":"ROUND('Tarifgruppe S'!L22*(1-'V-Tarif'!$J$1),2)","v":0.33},{"$f":"ROUND('Tarifgruppe S'!M22*(1-'V-Tarif'!$J$1),2)","v":0.22},{"$f":"ROUND('Tarifgruppe S'!N22*(1-'V-Tarif'!$J$1),2)","v":0.22},{"$f":"ROUND('Tarifgruppe S'!O22*(1-'V-Tarif'!$J$1),2)","v":2.6},null,9,{"$f":"ROUND('Tarif URP'!B18*(1-'V-Tarif'!$J$1),2)","v":0.54},{"$f":"ROUND('Tarif URP'!C18*(1-'V-Tarif'!$J$1),2)","v":0.73},{"$f":"ROUND('Tarif URP'!D18*(1-'V-Tarif'!$J$1),2)","v":0.62},{"$f":"ROUND('Tarif URP'!E18*(1-'V-Tarif'!$J$1),2)","v":0.92}]
[73,{"$f":"ROUND('Tarifgruppe S'!B23*(1-'V-Tarif'!$J$1),2)","v":0.53},{"$f":"ROUND('Tarifgruppe S'!C23*(1-'V-Tarif'!$J$1),2)","v":0.75},{"$f":"ROUND('Tarifgruppe S'!D23*(1-'V-Tarif'!$J$1),2)","v":0.93},{"$f":"ROUND('Tarifgruppe S'!E23*(1-'V-Tarif'!$J$1),2)","v":0.42},{"$f":"ROUND('Tarifgruppe S'!F23*(1-'V-Tarif'!$J$1),2)","v":0.28000000000000003},{"$f":"ROUND('Tarifgruppe S'!G23*(1-'V-Tarif'!$J$1),2)","v":0.28000000000000003},{"$f":"ROUND('Tarifgruppe S'!H23*(1-'V-Tarif'!$J$1),2)","v":3.28},{"$f":"ROUND('Tarifgruppe S'!I23*(1-'V-Tarif'!$J$1),2)","v":0.45},{"$f":"ROUND('Tarifgruppe S'!J23*(1-'V-Tarif'!$J$1),2)","v":0.63},{"$f":"ROUND('Tarifgruppe S'!K23*(1-'V-Tarif'!$J$1),2)","v":0.77},{"$f":"ROUND('Tarifgruppe S'!L23*(1-'V-Tarif'!$J$1),2)","v":0.35},{"$f":"ROUND('Tarifgruppe S'!M23*(1-'V-Tarif'!$J$1),2)","v":0.24},{"$f":"ROUND('Tarifgruppe S'!N23*(1-'V-Tarif'!$J$1),2)","v":0.23},{"$f":"ROUND('Tarifgruppe S'!O23*(1-'V-Tarif'!$J$1),2)","v":2.73},null,10,{"$f":"ROUND('Tarif URP'!B19*(1-'V-Tarif'!$J$1),2)","v":0.54},{"$f":"ROUND('Tarif URP'!C19*(1-'V-Tarif'!$J$1),2)","v":0.73},{"$f":"ROUND('Tarif URP'!D19*(1-'V-Tarif'!$J$1),2)","v":0.62},{"$f":"ROUND('Tarif URP'!E19*(1-'V-Tarif'!$J$1),2)","v":0.92}]
[74,{"$f":"ROUND('Tarifgruppe S'!B24*(1-'V-Tarif'!$J$1),2)","v":0.56000000000000005},{"$f":"ROUND('Tarifgruppe S'!C24*(1-'V-Tarif'!$J$1),2)","v":0.79},{"$f":"ROUND('Tarifgruppe S'!D24*(1-'V-Tarif'!$J$1),2)","v":0.97},{"$f":"ROUND('Tarifgruppe S'!E24*(1-'V-Tarif'!$J$1),2)","v":0.44},{"$f":"ROUND('Tarifgruppe S'!F24*(1-'V-Tarif'!$J$1),2)","v":0.3},{"$f":"ROUND('Tarifgruppe S'!G24*(1-'V-Tarif'!$J$1),2)","v":0.28999999999999998},{"$f":"ROUND('Tarifgruppe S'!H24*(1-'V-Tarif'!$J$1),2)","v":3.44},{"$f":"ROUND('Tarifgruppe S'!I24*(1-'V-Tarif'!$J$1),2)","v":0.47},{"$f":"ROUND('Tarifgruppe S'!J24*(1-'V-Tarif'!$J$1),2)","v":0.66},{"$f":"ROUND('Tarifgruppe S'!K24*(1-'V-Tarif'!$J$1),2)","v":0.81},{"$f":"ROUND('Tarifgruppe S'!L24*(1-'V-Tarif'!$J$1),2)","v":0.37},{"$f":"ROUND('Tarifgruppe S'!M24*(1-'V-Tarif'!$J$1),2)","v":0.25},{"$f":"ROUND('Tarifgruppe S'!N24*(1-'V-Tarif'!$J$1),2)","v":0.24},{"$f":"ROUND('Tarifgruppe S'!O24*(1-'V-Tarif'!$J$1),2)","v":2.87},null,11,{"$f":"ROUND('Tarif URP'!B20*(1-'V-Tarif'!$J$1),2)","v":0.54},{"$f":"ROUND('Tarif URP'!C20*(1-'V-Tarif'!$J$1),2)","v":0.73},{"$f":"ROUND('Tarif URP'!D20*(1-'V-Tarif'!$J$1),2)","v":0.62},{"$f":"ROUND('Tarif URP'!E20*(1-'V-Tarif'!$J$1),2)","v":0.92}]
[75,{"$f":"ROUND('Tarifgruppe S'!B25*(1-'V-Tarif'!$J$1),2)","v":0.59},{"$f":"ROUND('Tarifgruppe S'!C25*(1-'V-Tarif'!$J$1),2)","v":0.83},{"$f":"ROUND('Tarifgruppe S'!D25*(1-'V-Tarif'!$J$1),2)","v":1.02},{"$f":"ROUND('Tarifgruppe S'!E25*(1-'V-Tarif'!$J$1),2)","v":0.46},{"$f":"ROUND('Tarifgruppe S'!F25*(1-'V-Tarif'!$J$1),2)","v":0.31},{"$f":"ROUND('Tarifgruppe S'!G25*(1-'V-Tarif'!$J$1),2)","v":0.3},{"$f":"ROUND('Tarifgruppe S'!H25*(1-'V-Tarif'!$J$1),2)","v":3.61},{"$f":"ROUND('Tarifgruppe S'!I25*(1-'V-Tarif'!$J$1),2)","v":0.49},{"$f":"ROUND('Tarifgruppe S'!J25*(1-'V-Tarif'!$J$1),2)","v":0.69},{"$f":"ROUND('Tarifgruppe S'!K25*(1-'V-Tarif'!$J$1),2)","v":0.85},{"$f":"ROUND('Tarifgruppe S'!L25*(1-'V-Tarif'!$J$1),2)","v":0.39},{"$f":"ROUND('Tarifgruppe S'!M25*(1-'V-Tarif'!$J$1),2)","v":0.26},{"$f":"ROUND('Tarifgruppe S'!N25*(1-'V-Tarif'!$J$1),2)","v":0.25},{"$f":"ROUND('Tarifgruppe S'!O25*(1-'V-Tarif'!$J$1),2)","v":3.01},null,12,{"$f":"ROUND('Tarif URP'!B21*(1-'V-Tarif'!$J$1),2)","v":0.54},{"$f":"ROUND('Tarif URP'!C21*(1-'V-Tarif'!$J$1),2)","v":0.73},{"$f":"ROUND('Tarif URP'!D21*(1-'V-Tarif'!$J$1),2)","v":0.62},{"$f":"ROUND('Tarif URP'!E21*(1-'V-Tarif'!$J$1),2)","v":0.92}]
[76,{"$f":"ROUND('Tarifgruppe S'!B26*(1-'V-Tarif'!$J$1),2)","v":0.62},{"$f":"ROUND('Tarifgruppe S'!C26*(1-'V-Tarif'!$J$1),2)","v":0.87},{"$f":"ROUND('Tarifgruppe S'!D26*(1-'V-Tarif'!$J$1),2)","v":1.07},{"$f":"ROUND('Tarifgruppe S'!E26*(1-'V-Tarif'!$J$1),2)","v":0.49},{"$f":"ROUND('Tarifgruppe S'!F26*(1-'V-Tarif'!$J$1),2)","v":0.33},{"$f":"ROUND('Tarifgruppe S'!G26*(1-'V-Tarif'!$J$1),2)","v":0.32},{"$f":"ROUND('Tarifgruppe S'!H26*(1-'V-Tarif'!$J$1),2)","v":3.79},{"$f":"ROUND('Tarifgruppe S'!I26*(1-'V-Tarif'!$J$1),2)","v":0.52},{"$f":"ROUND('Tarifgruppe S'!J26*(1-'V-Tarif'!$J$1),2)","v":0.72},{"$f":"ROUND('Tarifgruppe S'!K26*(1-'V-Tarif'!$J$1),2)","v":0.89},{"$f":"ROUND('Tarifgruppe S'!L26*(1-'V-Tarif'!$J$1),2)","v":0.41},{"$f":"ROUND('Tarifgruppe S'!M26*(1-'V-Tarif'!$J$1),2)","v":0.27},{"$f":"ROUND('Tarifgruppe S'!N26*(1-'V-Tarif'!$J$1),2)","v":0.27},{"$f":"ROUND('Tarifgruppe S'!O26*(1-'V-Tarif'!$J$1),2)","v":3.16},null,13,{"$f":"ROUND('Tarif URP'!B22*(1-'V-Tarif'!$J$1),2)","v":0.54},{"$f":"ROUND('Tarif URP'!C22*(1-'V-Tarif'!$J$1),2)","v":0.73},{"$f":"ROUND('Tarif URP'!D22*(1-'V-Tarif'!$J$1),2)","v":0.62},{"$f":"ROUND('Tarif URP'!E22*(1-'V-Tarif'!$J$1),2)","v":0.92}]
[77,{"$f":"ROUND('Tarifgruppe S'!B27*(1-'V-Tarif'!$J$1),2)","v":0.65},{"$f":"ROUND('Tarifgruppe S'!C27*(1-'V-Tarif'!$J$1),2)","v":0.91},{"$f":"ROUND('Tarifgruppe S'!D27*(1-'V-Tarif'!$J$1),2)","v":1.1299999999999999},{"$f":"ROUND('Tarifgruppe S'!E27*(1-'V-Tarif'!$J$1),2)","v":0.51},{"$f":"ROUND('Tarifgruppe S'!F27*(1-'V-Tarif'!$J$1),2)","v":0.34},{"$f":"ROUND('Tarifgruppe S'!G27*(1-'V-Tarif'!$J$1),2)","v":0.33},{"$f":"ROUND('Tarifgruppe S'!H27*(1-'V-Tarif'!$J$1),2)","v":3.98},{"$f":"ROUND('Tarifgruppe S'!I27*(1-'V-Tarif'!$J$1),2)","v":0.54},{"$f":"ROUND('Tarifgruppe S'!J27*(1-'V-Tarif'!$J$1),2)","v":0.76},{"$f":"ROUND('Tarifgruppe S'!K27*(1-'V-Tarif'!$J$1),2)","v":0.94},{"$f":"ROUND('Tarifgruppe S'!L27*(1-'V-Tarif'!$J$1),2)","v":0.43},{"$f":"ROUND('Tarifgruppe S'!M27*(1-'V-Tarif'!$J$1),2)","v":0.28999999999999998},{"$f":"ROUND('Tarifgruppe S'!N27*(1-'V-Tarif'!$J$1),2)","v":0.28000000000000003},{"$f":"ROUND('Tarifgruppe S'!O27*(1-'V-Tarif'!$J$1),2)","v":3.32},null,14,{"$f":"ROUND('Tarif URP'!B23*(1-'V-Tarif'!$J$1),2)","v":0.54},{"$f":"ROUND('Tarif URP'!C23*(1-'V-Tarif'!$J$1),2)","v":0.73},{"$f":"ROUND('Tarif URP'!D23*(1-'V-Tarif'!$J$1),2)","v":0.62},{"$f":"ROUND('Tarif URP'!E23*(1-'V-Tarif'!$J$1),2)","v":0.92}]
[78,{"$f":"ROUND('Tarifgruppe S'!B28*(1-'V-Tarif'!$J$1),2)","v":0.68},{"$f":"ROUND('Tarifgruppe S'!C28*(1-'V-Tarif'!$J$1),2)","v":0.96},{"$f":"ROUND('Tarifgruppe S'!D28*(1-'V-Tarif'!$J$1),2)","v":1.18},{"$f":"ROUND('Tarifgruppe S'!E28*(1-'V-Tarif'!$J$1),2)","v":0.54},{"$f":"ROUND('Tarifgruppe S'!F28*(1-'V-Tarif'!$J$1),2)","v":0.36},{"$f":"ROUND('Tarifgruppe S'!G28*(1-'V-Tarif'!$J$1),2)","v":0.35},{"$f":"ROUND('Tarifgruppe S'!H28*(1-'V-Tarif'!$J$1),2)","v":4.18},{"$f":"ROUND('Tarifgruppe S'!I28*(1-'V-Tarif'!$J$1),2)","v":0.56999999999999995},{"$f":"ROUND('Tarifgruppe S'!J28*(1-'V-Tarif'!$J$1),2)","v":0.8},{"$f":"ROUND('Tarifgruppe S'!K28*(1-'V-Tarif'!$J$1),2)","v":0.98},{"$f":"ROUND('Tarifgruppe S'!L28*(1-'V-Tarif'!$J$1),2)","v":0.45},{"$f":"ROUND('Tarifgruppe S'!M28*(1-'V-Tarif'!$J$1),2)","v":0.3},{"$f":"ROUND('Tarifgruppe S'!N28*(1-'V-Tarif'!$J$1),2)","v":0.28999999999999998},{"$f":"ROUND('Tarifgruppe S'!O28*(1-'V-Tarif'!$J$1),2)","v":3.48},null,15,{"$f":"ROUND('Tarif URP'!B24*(1-'V-Tarif'!$J$1),2)","v":0.54},{"$f":"ROUND('Tarif URP'!C24*(1-'V-Tarif'!$J$1),2)","v":0.73},{"$f":"ROUND('Tarif URP'!D24*(1-'V-Tarif'!$J$1),2)","v":0.62},{"$f":"ROUND('Tarif URP'!E24*(1-'V-Tarif'!$J$1),2)","v":0.92}]
[79,{"$f":"ROUND('Tarifgruppe S'!B29*(1-'V-Tarif'!$J$1),2)","v":0.71},{"$f":"ROUND('Tarifgruppe S'!C29*(1-'V-Tarif'!$J$1),2)","v":1.01},{"$f":"ROUND('Tarifgruppe S'!D29*(1-'V-Tarif'!$J$1),2)","v":1.24},{"$f":"ROUND('Tarifgruppe S'!E29*(1-'V-Tarif'!$J$1),2)","v":0.56000000000000005},{"$f":"ROUND('Tarifgruppe S'!F29*(1-'V-Tarif'!$J$1),2)","v":0.38},{"$f":"ROUND('Tarifgruppe S'!G29*(1-'V-Tarif'!$J$1),2)","v":0.37},{"$f":"ROUND('Tarifgruppe S'!H29*(1-'V-Tarif'!$J$1),2)","v":4.3899999999999997},{"$f":"ROUND('Tarifgruppe S'!I29*(1-'V-Tarif'!$J$1),2)","v":0.6},{"$f":"ROUND('Tarifgruppe S'!J29*(1-'V-Tarif'!$J$1),2)","v":0.84},{"$f":"ROUND('Tarifgruppe S'!K29*(1-'V-Tarif'!$J$1),2)","v":1.03},{"$f":"ROUND('Tarifgruppe S'!L29*(1-'V-Tarif'!$J$1),2)","v":0.47},{"$f":"ROUND('Tarifgruppe S'!M29*(1-'V-Tarif'!$J$1),2)","v":0.32},{"$f":"ROUND('Tarifgruppe S'!N29*(1-'V-Tarif'!$J$1),2)","v":0.31},{"$f":"ROUND('Tarifgruppe S'!O29*(1-'V-Tarif'!$J$1),2)","v":3.66},null,16,{"$f":"ROUND('Tarif URP'!B25*(1-'V-Tarif'!$J$1),2)","v":0.54},{"$f":"ROUND('Tarif URP'!C25*(1-'V-Tarif'!$J$1),2)","v":0.73},{"$f":"ROUND('Tarif URP'!D25*(1-'V-Tarif'!$J$1),2)","v":0.62},{"$f":"ROUND('Tarif URP'!E25*(1-'V-Tarif'!$J$1),2)","v":0.92}]
[80,{"$f":"ROUND('Tarifgruppe S'!B30*(1-'V-Tarif'!$J$1),2)","v":0.75},{"$f":"ROUND('Tarifgruppe S'!C30*(1-'V-Tarif'!$J$1),2)","v":1.06},{"$f":"ROUND('Tarifgruppe S'!D30*(1-'V-Tarif'!$J$1),2)","v":1.3},{"$f":"ROUND('Tarifgruppe S'!E30*(1-'V-Tarif'!$J$1),2)","v":0.59},{"$f":"ROUND('Tarifgruppe S'!F30*(1-'V-Tarif'!$J$1),2)","v":0.4},{"$f":"ROUND('Tarifgruppe S'!G30*(1-'V-Tarif'!$J$1),2)","v":0.39},{"$f":"ROUND('Tarifgruppe S'!H30*(1-'V-Tarif'!$J$1),2)","v":4.6100000000000003},{"$f":"ROUND('Tarifgruppe S'!I30*(1-'V-Tarif'!$J$1),2)","v":0.63},{"$f":"ROUND('Tarifgruppe S'!J30*(1-'V-Tarif'!$J$1),2)","v":0.88},{"$f":"ROUND('Tarifgruppe S'!K30*(1-'V-Tarif'!$J$1),2)","v":1.0900000000000001},{"$f":"ROUND('Tarifgruppe S'!L30*(1-'V-Tarif'!$J$1),2)","v":0.49},{"$f":"ROUND('Tarifgruppe S'!M30*(1-'V-Tarif'!$J$1),2)","v":0.33},{"$f":"ROUND('Tarifgruppe S'!N30*(1-'V-Tarif'!$J$1),2)","v":0.32},{"$f":"ROUND('Tarifgruppe S'!O30*(1-'V-Tarif'!$J$1),2)","v":3.84},null,17,{"$f":"ROUND('Tarif URP'!B26*(1-'V-Tarif'!$J$1),2)","v":0.54},{"$f":"ROUND('Tarif URP'!C26*(1-'V-Tarif'!$J$1),2)","v":0.73},{"$f":"ROUND('Tarif URP'!D26*(1-'V-Tarif'!$J$1),2)","v":0.62},{"$f":"ROUND('Tarif URP'!E26*(1-'V-Tarif'!$J$1),2)","v":0.92}]
[81,{"$f":"ROUND('Tarifgruppe S'!B31*(1-'V-Tarif'!$J$1),2)","v":0.79},{"$f":"ROUND('Tarifgruppe S'!C31*(1-'V-Tarif'!$J$1),2)","v":1.1100000000000001},{"$f":"ROUND('Tarifgruppe S'!D31*(1-'V-Tarif'!$J$1),2)","v":1.37},{"$f":"ROUND('Tarifgruppe S'!E31*(1-'V-Tarif'!$J$1),2)","v":0.62},{"$f":"ROUND('Tarifgruppe S'!F31*(1-'V-Tarif'!$J$1),2)","v":0.42},{"$f":"ROUND('Tarifgruppe S'!G31*(1-'V-Tarif'!$J$1),2)","v":0.41},{"$f":"ROUND('Tarifgruppe S'!H31*(1-'V-Tarif'!$J$1),2)","v":4.84},{"$f":"ROUND('Tarifgruppe S'!I31*(1-'V-Tarif'!$J$1),2)","v":0.66},{"$f":"ROUND('Tarifgruppe S'!J31*(1-'V-Tarif'!$J$1),2)","v":0.92},{"$f":"ROUND('Tarifgruppe S'!K31*(1-'V-Tarif'!$J$1),2)","v":1.1399999999999999},{"$f":"ROUND('Tarifgruppe S'!L31*(1-'V-Tarif'!$J$1),2)","v":0.52},{"$f":"ROUND('Tarifgruppe S'!M31*(1-'V-Tarif'!$J$1),2)","v":0.35},{"$f":"ROUND('Tarifgruppe S'!N31*(1-'V-Tarif'!$J$1),2)","v":0.34},{"$f":"ROUND('Tarifgruppe S'!O31*(1-'V-Tarif'!$J$1),2)","v":4.03},null,18,{"$f":"ROUND('Tarif URP'!B27*(1-'V-Tarif'!$J$1),2)","v":0.75},{"$f":"ROUND('Tarif URP'!C27*(1-'V-Tarif'!$J$1),2)","v":0.91},{"$f":"ROUND('Tarif URP'!D27*(1-'V-Tarif'!$J$1),2)","v":0.92},{"$f":"ROUND('Tarif URP'!E27*(1-'V-Tarif'!$J$1),2)","v":1.32}]
[82,{"$f":"ROUND('Tarifgruppe S'!B32*(1-'V-Tarif'!$J$1),2)","v":0.83},{"$f":"ROUND('Tarifgruppe S'!C32*(1-'V-Tarif'!$J$1),2)","v":1.1599999999999999},{"$f":"ROUND('Tarifgruppe S'!D32*(1-'V-Tarif'!$J$1),2)","v":1.44},{"$f":"ROUND('Tarifgruppe S'!E32*(1-'V-Tarif'!$J$1),2)","v":0.65},{"$f":"ROUND('Tarifgruppe S'!F32*(1-'V-Tarif'!$J$1),2)","v":0.44},{"$f":"ROUND('Tarifgruppe S'!G32*(1-'V-Tarif'!$J$1),2)","v":0.43},{"$f":"ROUND('Tarifgruppe S'!H32*(1-'V-Tarif'!$J$1),2)","v":5.08},{"$f":"ROUND('Tarifgruppe S'!I32*(1-'V-Tarif'!$J$1),2)","v":0.69},{"$f":"ROUND('Tarifgruppe S'!J32*(1-'V-Tarif'!$J$1),2)","v":0.97},{"$f":"ROUND('Tarifgruppe S'!K32*(1-'V-Tarif'!$J$1),2)","v":1.2},{"$f":"ROUND('Tarifgruppe S'!L32*(1-'V-Tarif'!$J$1),2)","v":0.54},{"$f":"ROUND('Tarifgruppe S'!M32*(1-'V-Tarif'!$J$1),2)","v":0.36},{"$f":"ROUND('Tarifgruppe S'!N32*(1-'V-Tarif'!$J$1),2)","v":0.36},{"$f":"ROUND('Tarifgruppe S'!O32*(1-'V-Tarif'!$J$1),2)","v":4.2300000000000004},null,19,{"$f":"ROUND('Tarif URP'!B28*(1-'V-Tarif'!$J$1),2)","v":0.75},{"$f":"ROUND('Tarif URP'!C28*(1-'V-Tarif'!$J$1),2)","v":0.91},{"$f":"ROUND('Tarif URP'!D28*(1-'V-Tarif'!$J$1),2)","v":0.92},{"$f":"ROUND('Tarif URP'!E28*(1-'V-Tarif'!$J$1),2)","v":1.32}]
[83,{"$f":"ROUND('Tarifgruppe S'!B33*(1-'V-Tarif'!$J$1),2)","v":0.87},{"$f":"ROUND('Tarifgruppe S'!C33*(1-'V-Tarif'!$J$1),2)","v":1.22},{"$f":"ROUND('Tarifgruppe S'!D33*(1-'V-Tarif'!$J$1),2)","v":1.51},{"$f":"ROUND('Tarifgruppe S'!E33*(1-'V-Tarif'!$J$1),2)","v":0.68},{"$f":"ROUND('Tarifgruppe S'!F33*(1-'V-Tarif'!$J$1),2)","v":0.46},{"$f":"ROUND('Tarifgruppe S'!G33*(1-'V-Tarif'!$J$1),2)","v":0.45},{"$f":"ROUND('Tarifgruppe S'!H33*(1-'V-Tarif'!$J$1),2)","v":5.33},{"$f":"ROUND('Tarifgruppe S'!I33*(1-'V-Tarif'!$J$1),2)","v":0.72},{"$f":"ROUND('Tarifgruppe S'!J33*(1-'V-Tarif'!$J$1),2)","v":1.02},{"$f":"ROUND('Tarifgruppe S'!K33*(1-'V-Tarif'!$J$1),2)","v":1.26},{"$f":"ROUND('Tarifgruppe S'!L33*(1-'V-Tarif'!$J$1),2)","v":0.56999999999999995},{"$f":"ROUND('Tarifgruppe S'!M33*(1-'V-Tarif'!$J$1),2)","v":0.38},{"$f":"ROUND('Tarifgruppe S'!N33*(1-'V-Tarif'!$J$1),2)","v":0.37},{"$f":"ROUND('Tarifgruppe S'!O33*(1-'V-Tarif'!$J$1),2)","v":4.4400000000000004},null,20,{"$f":"ROUND('Tarif URP'!B29*(1-'V-Tarif'!$J$1),2)","v":0.75},{"$f":"ROUND('Tarif URP'!C29*(1-'V-Tarif'!$J$1),2)","v":0.91},{"$f":"ROUND('Tarif URP'!D29*(1-'V-Tarif'!$J$1),2)","v":0.92},{"$f":"ROUND('Tarif URP'!E29*(1-'V-Tarif'!$J$1),2)","v":1.32}]
[84,{"$f":"ROUND('Tarifgruppe S'!B34*(1-'V-Tarif'!$J$1),2)","v":0.91},{"$f":"ROUND('Tarifgruppe S'!C34*(1-'V-Tarif'!$J$1),2)","v":1.28},{"$f":"ROUND('Tarifgruppe S'!D34*(1-'V-Tarif'!$J$1),2)","v":1.58},{"$f":"ROUND('Tarifgruppe S'!E34*(1-'V-Tarif'!$J$1),2)","v":0.72},{"$f":"ROUND('Tarifgruppe S'!F34*(1-'V-Tarif'!$J$1),2)","v":0.48},{"$f":"ROUND('Tarifgruppe S'!G34*(1-'V-Tarif'!$J$1),2)","v":0.47},{"$f":"ROUND('Tarifgruppe S'!H34*(1-'V-Tarif'!$J$1),2)","v":5.6},{"$f":"ROUND('Tarifgruppe S'!I34*(1-'V-Tarif'!$J$1),2)","v":0.76},{"$f":"ROUND('Tarifgruppe S'!J34*(1-'V-Tarif'!$J$1),2)","v":1.07},{"$f":"ROUND('Tarifgruppe S'!K34*(1-'V-Tarif'!$J$1),2)","v":1.32},{"$f":"ROUND('Tarifgruppe S'!L34*(1-'V-Tarif'!$J$1),2)","v":0.6},{"$f":"ROUND('Tarifgruppe S'!M34*(1-'V-Tarif'!$J$1),2)","v":0.4},{"$f":"ROUND('Tarifgruppe S'!N34*(1-'V-Tarif'!$J$1),2)","v":0.39},{"$f":"ROUND('Tarifgruppe S'!O34*(1-'V-Tarif'!$J$1),2)","v":4.67},null,21,{"$f":"ROUND('Tarif URP'!B30*(1-'V-Tarif'!$J$1),2)","v":0.75},{"$f":"ROUND('Tarif URP'!C30*(1-'V-Tarif'!$J$1),2)","v":0.91},{"$f":"ROUND('Tarif URP'!D30*(1-'V-Tarif'!$J$1),2)","v":0.92},{"$f":"ROUND('Tarif URP'!E30*(1-'V-Tarif'!$J$1),2)","v":1.32}]
[85,{"$f":"ROUND('Tarifgruppe S'!B35*(1-'V-Tarif'!$J$1),2)","v":0.96},{"$f":"ROUND('Tarifgruppe S'!C35*(1-'V-Tarif'!$J$1),2)","v":1.35},{"$f":"ROUND('Tarifgruppe S'!D35*(1-'V-Tarif'!$J$1),2)","v":1.66},{"$f":"ROUND('Tarifgruppe S'!E35*(1-'V-Tarif'!$J$1),2)","v":0.75},{"$f":"ROUND('Tarifgruppe S'!F35*(1-'V-Tarif'!$J$1),2)","v":0.51},{"$f":"ROUND('Tarifgruppe S'!G35*(1-'V-Tarif'!$J$1),2)","v":0.49},{"$f":"ROUND('Tarifgruppe S'!H35*(1-'V-Tarif'!$J$1),2)","v":5.88},{"$f":"ROUND('Tarifgruppe S'!I35*(1-'V-Tarif'!$J$1),2)","v":0.8},{"$f":"ROUND('Tarifgruppe S'!J35*(1-'V-Tarif'!$J$1),2)","v":1.1200000000000001},{"$f":"ROUND('Tarifgruppe S'!K35*(1-'V-Tarif'!$J$1),2)","v":1.38},{"$f":"ROUND('Tarifgruppe S'!L35*(1-'V-Tarif'!$J$1),2)","v":0.63},{"$f":"ROUND('Tarifgruppe S'!M35*(1-'V-Tarif'!$J$1),2)","v":0.42},{"$f":"ROUND('Tarifgruppe S'!N35*(1-'V-Tarif'!$J$1),2)","v":0.41},{"$f":"ROUND('Tarifgruppe S'!O35*(1-'V-Tarif'!$J$1),2)","v":4.9000000000000004},null,22,{"$f":"ROUND('Tarif URP'!B31*(1-'V-Tarif'!$J$1),2)","v":0.75},{"$f":"ROUND('Tarif URP'!C31*(1-'V-Tarif'!$J$1),2)","v":0.91},{"$f":"ROUND('Tarif URP'!D31*(1-'V-Tarif'!$J$1),2)","v":0.92},{"$f":"ROUND('Tarif URP'!E31*(1-'V-Tarif'!$J$1),2)","v":1.32}]
[86,{"$f":"ROUND('Tarifgruppe S'!B36*(1-'V-Tarif'!$J$1),2)","v":1},{"$f":"ROUND('Tarifgruppe S'!C36*(1-'V-Tarif'!$J$1),2)","v":1.41},{"$f":"ROUND('Tarifgruppe S'!D36*(1-'V-Tarif'!$J$1),2)","v":1.74},{"$f":"ROUND('Tarifgruppe S'!E36*(1-'V-Tarif'!$J$1),2)","v":0.79},{"$f":"ROUND('Tarifgruppe S'!F36*(1-'V-Tarif'!$J$1),2)","v":0.53},{"$f":"ROUND('Tarifgruppe S'!G36*(1-'V-Tarif'!$J$1),2)","v":0.52},{"$f":"ROUND('Tarifgruppe S'!H36*(1-'V-Tarif'!$J$1),2)","v":6.17},{"$f":"ROUND('Tarifgruppe S'!I36*(1-'V-Tarif'!$J$1),2)","v":0.84},{"$f":"ROUND('Tarifgruppe S'!J36*(1-'V-Tarif'!$J$1),2)","v":1.18},{"$f":"ROUND('Tarifgruppe S'!K36*(1-'V-Tarif'!$J$1),2)","v":1.45},{"$f":"ROUND('Tarifgruppe S'!L36*(1-'V-Tarif'!$J$1),2)","v":0.66},{"$f":"ROUND('Tarifgruppe S'!M36*(1-'V-Tarif'!$J$1),2)","v":0.44},{"$f":"ROUND('Tarifgruppe S'!N36*(1-'V-Tarif'!$J$1),2)","v":0.43},{"$f":"ROUND('Tarifgruppe S'!O36*(1-'V-Tarif'!$J$1),2)","v":5.14},null,23,{"$f":"ROUND('Tarif URP'!B32*(1-'V-Tarif'!$J$1),2)","v":0.75},{"$f":"ROUND('Tarif URP'!C32*(1-'V-Tarif'!$J$1),2)","v":0.91},{"$f":"ROUND('Tarif URP'!D32*(1-'V-Tarif'!$J$1),2)","v":0.92},{"$f":"ROUND('Tarif URP'!E32*(1-'V-Tarif'!$J$1),2)","v":1.32}]
[87,{"$f":"ROUND('Tarifgruppe S'!B37*(1-'V-Tarif'!$J$1),2)","v":1.06},{"$f":"ROUND('Tarifgruppe S'!C37*(1-'V-Tarif'!$J$1),2)","v":1.48},{"$f":"ROUND('Tarifgruppe S'!D37*(1-'V-Tarif'!$J$1),2)","v":1.83},{"$f":"ROUND('Tarifgruppe S'!E37*(1-'V-Tarif'!$J$1),2)","v":0.83},{"$f":"ROUND('Tarifgruppe S'!F37*(1-'V-Tarif'!$J$1),2)","v":0.56000000000000005},{"$f":"ROUND('Tarifgruppe S'!G37*(1-'V-Tarif'!$J$1),2)","v":0.54},{"$f":"ROUND('Tarifgruppe S'!H37*(1-'V-Tarif'!$J$1),2)","v":6.48},{"$f":"ROUND('Tarifgruppe S'!I37*(1-'V-Tarif'!$J$1),2)","v":0.88},{"$f":"ROUND('Tarifgruppe S'!J37*(1-'V-Tarif'!$J$1),2)","v":1.24},{"$f":"ROUND('Tarifgruppe S'!K37*(1-'V-Tarif'!$J$1),2)","v":1.53},{"$f":"ROUND('Tarifgruppe S'!L37*(1-'V-Tarif'!$J$1),2)","v":0.69},{"$f":"ROUND('Tarifgruppe S'!M37*(1-'V-Tarif'!$J$1),2)","v":0.46},{"$f":"ROUND('Tarifgruppe S'!N37*(1-'V-Tarif'!$J$1),2)","v":0.45},{"$f":"ROUND('Tarifgruppe S'!O37*(1-'V-Tarif'!$J$1),2)","v":5.4},null,24,{"$f":"ROUND('Tarif URP'!B33*(1-'V-Tarif'!$J$1),2)","v":0.75},{"$f":"ROUND('Tarif URP'!C33*(1-'V-Tarif'!$J$1),2)","v":0.91},{"$f":"ROUND('Tarif URP'!D33*(1-'V-Tarif'!$J$1),2)","v":0.92},{"$f":"ROUND('Tarif URP'!E33*(1-'V-Tarif'!$J$1),2)","v":1.32}]
[88,{"$f":"ROUND('Tarifgruppe S'!B38*(1-'V-Tarif'!$J$1),2)","v":1.1100000000000001},{"$f":"ROUND('Tarifgruppe S'!C38*(1-'V-Tarif'!$J$1),2)","v":1.56},{"$f":"ROUND('Tarifgruppe S'!D38*(1-'V-Tarif'!$J$1),2)","v":1.92},{"$f":"ROUND('Tarifgruppe S'!E38*(1-'V-Tarif'!$J$1),2)","v":0.87},{"$f":"ROUND('Tarifgruppe S'!F38*(1-'V-Tarif'!$J$1),2)","v":0.59},{"$f":"ROUND('Tarifgruppe S'!G38*(1-'V-Tarif'!$J$1),2)","v":0.56999999999999995},{"$f":"ROUND('Tarifgruppe S'!H38*(1-'V-Tarif'!$J$1),2)","v":6.81},{"$f":"ROUND('Tarifgruppe S'!I38*(1-'V-Tarif'!$J$1),2)","v":0.92},{"$f":"ROUND('Tarifgruppe S'!J38*(1-'V-Tarif'!$J$1),2)","v":1.3},{"$f":"ROUND('Tarifgruppe S'!K38*(1-'V-Tarif'!$J$1),2)","v":1.6},{"$f":"ROUND('Tarifgruppe S'!L38*(1-'V-Tarif'!$J$1),2)","v":0.73},{"$f":"ROUND('Tarifgruppe S'!M38*(1-'V-Tarif'!$J$1),2)","v":0.49},{"$f":"ROUND('Tarifgruppe S'!N38*(1-'V-Tarif'!$J$1),2)","v":0.48},{"$f":"ROUND('Tarifgruppe S'!O38*(1-'V-Tarif'!$J$1),2)","v":5.67},null,25,{"$f":"ROUND('Tarif URP'!B34*(1-'V-Tarif'!$J$1),2)","v":0.75},{"$f":"ROUND('Tarif URP'!C34*(1-'V-Tarif'!$J$1),2)","v":0.91},{"$f":"ROUND('Tarif URP'!D34*(1-'V-Tarif'!$J$1),2)","v":0.92},{"$f":"ROUND('Tarif URP'!E34*(1-'V-Tarif'!$J$1),2)","v":1.32}]
[89,{"$f":"ROUND('Tarifgruppe S'!B39*(1-'V-Tarif'!$J$1),2)","v":1.1599999999999999},{"$f":"ROUND('Tarifgruppe S'!C39*(1-'V-Tarif'!$J$1),2)","v":1.64},{"$f":"ROUND('Tarifgruppe S'!D39*(1-'V-Tarif'!$J$1),2)","v":2.02},{"$f":"ROUND('Tarifgruppe S'!E39*(1-'V-Tarif'!$J$1),2)","v":0.92},{"$f":"ROUND('Tarifgruppe S'!F39*(1-'V-Tarif'!$J$1),2)","v":0.61},{"$f":"ROUND('Tarifgruppe S'!G39*(1-'V-Tarif'!$J$1),2)","v":0.6},{"$f":"ROUND('Tarifgruppe S'!H39*(1-'V-Tarif'!$J$1),2)","v":7.15},{"$f":"ROUND('Tarifgruppe S'!I39*(1-'V-Tarif'!$J$1),2)","v":0.97},{"$f":"ROUND('Tarifgruppe S'!J39*(1-'V-Tarif'!$J$1),2)","v":1.36},{"$f":"ROUND('Tarifgruppe S'!K39*(1-'V-Tarif'!$J$1),2)","v":1.68},{"$f":"ROUND('Tarifgruppe S'!L39*(1-'V-Tarif'!$J$1),2)","v":0.76},{"$f":"ROUND('Tarifgruppe S'!M39*(1-'V-Tarif'!$J$1),2)","v":0.51},{"$f":"ROUND('Tarifgruppe S'!N39*(1-'V-Tarif'!$J$1),2)","v":0.5},{"$f":"ROUND('Tarifgruppe S'!O39*(1-'V-Tarif'!$J$1),2)","v":5.96},null,26,{"$f":"ROUND('Tarif URP'!B35*(1-'V-Tarif'!$J$1),2)","v":0.75},{"$f":"ROUND('Tarif URP'!C35*(1-'V-Tarif'!$J$1),2)","v":0.91},{"$f":"ROUND('Tarif URP'!D35*(1-'V-Tarif'!$J$1),2)","v":0.92},{"$f":"ROUND('Tarif URP'!E35*(1-'V-Tarif'!$J$1),2)","v":1.32}]
[90,{"$f":"ROUND('Tarifgruppe S'!B40*(1-'V-Tarif'!$J$1),2)","v":1.22},{"$f":"ROUND('Tarifgruppe S'!C40*(1-'V-Tarif'!$J$1),2)","v":1.72},{"$f":"ROUND('Tarifgruppe S'!D40*(1-'V-Tarif'!$J$1),2)","v":2.12},{"$f":"ROUND('Tarifgruppe S'!E40*(1-'V-Tarif'!$J$1),2)","v":0.96},{"$f":"ROUND('Tarifgruppe S'!F40*(1-'V-Tarif'!$J$1),2)","v":0.64},{"$f":"ROUND('Tarifgruppe S'!G40*(1-'V-Tarif'!$J$1),2)","v":0.63},{"$f":"ROUND('Tarifgruppe S'!H40*(1-'V-Tarif'!$J$1),2)","v":7.5},{"$f":"ROUND('Tarifgruppe S'!I40*(1-'V-Tarif'!$J$1),2)","v":1.02},{"$f":"ROUND('Tarifgruppe S'!J40*(1-'V-Tarif'!$J$1),2)","v":1.43},{"$f":"ROUND('Tarifgruppe S'!K40*(1-'V-Tarif'!$J$1),2)","v":1.77},{"$f":"ROUND('Tarifgruppe S'!L40*(1-'V-Tarif'!$J$1),2)","v":0.8},{"$f":"ROUND('Tarifgruppe S'!M40*(1-'V-Tarif'!$J$1),2)","v":0.54},{"$f":"ROUND('Tarifgruppe S'!N40*(1-'V-Tarif'!$J$1),2)","v":0.52},{"$f":"ROUND('Tarifgruppe S'!O40*(1-'V-Tarif'!$J$1),2)","v":6.25},null,27,{"$f":"ROUND('Tarif URP'!B36*(1-'V-Tarif'!$J$1),2)","v":0.75},{"$f":"ROUND('Tarif URP'!C36*(1-'V-Tarif'!$J$1),2)","v":0.91},{"$f":"ROUND('Tarif URP'!D36*(1-'V-Tarif'!$J$1),2)","v":0.92},{"$f":"ROUND('Tarif URP'!E36*(1-'V-Tarif'!$J$1),2)","v":1.32}]
[91,{"$f":"ROUND('Tarifgruppe S'!B41*(1-'V-Tarif'!$J$1),2)","v":1.28},{"$f":"ROUND('Tarifgruppe S'!C41*(1-'V-Tarif'!$J$1),2)","v":1.8},{"$f":"ROUND('Tarifgruppe S'!D41*(1-'V-Tarif'!$J$1),2)","v":2.23},{"$f":"ROUND('Tarifgruppe S'!E41*(1-'V-Tarif'!$J$1),2)","v":1.01},{"$f":"ROUND('Tarifgruppe S'!F41*(1-'V-Tarif'!$J$1),2)","v":0.68},{"$f":"ROUND('Tarifgruppe S'!G41*(1-'V-Tarif'!$J$1),2)","v":0.66},{"$f":"ROUND('Tarifgruppe S'!H41*(1-'V-Tarif'!$J$1),2)","v":7.88},{"$f":"ROUND('Tarifgruppe S'!I41*(1-'V-Tarif'!$J$1),2)","v":1.07},{"$f":"ROUND('Tarifgruppe S'!J41*(1-'V-Tarif'!$J$1),2)","v":1.5},{"$f":"ROUND('Tarifgruppe S'!K41*(1-'V-Tarif'!$J$1),2)","v":1.85},{"$f":"ROUND('Tarifgruppe S'!L41*(1-'V-Tarif'!$J$1),2)","v":0.84},{"$f":"ROUND('Tarifgruppe S'!M41*(1-'V-Tarif'!$J$1),2)","v":0.56000000000000005},{"$f":"ROUND('Tarifgruppe S'!N41*(1-'V-Tarif'!$J$1),2)","v":0.55000000000000004},{"$f":"ROUND('Tarifgruppe S'!O41*(1-'V-Tarif'!$J$1),2)","v":6.57},null,28,{"$f":"ROUND('Tarif URP'!B37*(1-'V-Tarif'!$J$1),2)","v":0.75},{"$f":"ROUND('Tarif URP'!C37*(1-'V-Tarif'!$J$1),2)","v":0.91},{"$f":"ROUND('Tarif URP'!D37*(1-'V-Tarif'!$J$1),2)","v":0.92},{"$f":"ROUND('Tarif URP'!E37*(1-'V-Tarif'!$J$1),2)","v":1.32}]
[92,{"$f":"ROUND('Tarifgruppe S'!B42*(1-'V-Tarif'!$J$1),2)","v":1.35},{"$f":"ROUND('Tarifgruppe S'!C42*(1-'V-Tarif'!$J$1),2)","v":1.89},{"$f":"ROUND('Tarifgruppe S'!D42*(1-'V-Tarif'!$J$1),2)","v":2.34},{"$f":"ROUND('Tarifgruppe S'!E42*(1-'V-Tarif'!$J$1),2)","v":1.06},{"$f":"ROUND('Tarifgruppe S'!F42*(1-'V-Tarif'!$J$1),2)","v":0.71},{"$f":"ROUND('Tarifgruppe S'!G42*(1-'V-Tarif'!$J$1),2)","v":0.69},{"$f":"ROUND('Tarifgruppe S'!H42*(1-'V-Tarif'!$J$1),2)","v":8.27},{"$f":"ROUND('Tarifgruppe S'!I42*(1-'V-Tarif'!$J$1),2)","v":1.1200000000000001},{"$f":"ROUND('Tarifgruppe S'!J42*(1-'V-Tarif'!$J$1),2)","v":1.58},{"$f":"ROUND('Tarifgruppe S'!K42*(1-'V-Tarif'!$J$1),2)","v":1.95},{"$f":"ROUND('Tarifgruppe S'!L42*(1-'V-Tarif'!$J$1),2)","v":0.88},{"$f":"ROUND('Tarifgruppe S'!M42*(1-'V-Tarif'!$J$1),2)","v":0.59},{"$f":"ROUND('Tarifgruppe S'!N42*(1-'V-Tarif'!$J$1),2)","v":0.57999999999999996},{"$f":"ROUND('Tarifgruppe S'!O42*(1-'V-Tarif'!$J$1),2)","v":6.89},null,29,{"$f":"ROUND('Tarif URP'!B38*(1-'V-Tarif'!$J$1),2)","v":0.75},{"$f":"ROUND('Tarif URP'!C38*(1-'V-Tarif'!$J$1),2)","v":0.91},{"$f":"ROUND('Tarif URP'!D38*(1-'V-Tarif'!$J$1),2)","v":0.92},{"$f":"ROUND('Tarif URP'!E38*(1-'V-Tarif'!$J$1),2)","v":1.32}]
[93,{"$f":"ROUND('Tarifgruppe S'!B43*(1-'V-Tarif'!$J$1),2)","v":1.41},{"$f":"ROUND('Tarifgruppe S'!C43*(1-'V-Tarif'!$J$1),2)","v":1.99},{"$f":"ROUND('Tarifgruppe S'!D43*(1-'V-Tarif'!$J$1),2)","v":2.4500000000000002},{"$f":"ROUND('Tarifgruppe S'!E43*(1-'V-Tarif'!$J$1),2)","v":1.1100000000000001},{"$f":"ROUND('Tarifgruppe S'!F43*(1-'V-Tarif'!$J$1),2)","v":0.75},{"$f":"ROUND('Tarifgruppe S'!G43*(1-'V-Tarif'!$J$1),2)","v":0.73},{"$f":"ROUND('Tarifgruppe S'!H43*(1-'V-Tarif'!$J$1),2)","v":8.69},{"$f":"ROUND('Tarifgruppe S'!I43*(1-'V-Tarif'!$J$1),2)","v":1.18},{"$f":"ROUND('Tarifgruppe S'!J43*(1-'V-Tarif'!$J$1),2)","v":1.66},{"$f":"ROUND('Tarifgruppe S'!K43*(1-'V-Tarif'!$J$1),2)","v":2.04},{"$f":"ROUND('Tarifgruppe S'!L43*(1-'V-Tarif'!$J$1),2)","v":0.93},{"$f":"ROUND('Tarifgruppe S'!M43*(1-'V-Tarif'!$J$1),2)","v":0.62},{"$f":"ROUND('Tarifgruppe S'!N43*(1-'V-Tarif'!$J$1),2)","v":0.61},{"$f":"ROUND('Tarifgruppe S'!O43*(1-'V-Tarif'!$J$1),2)","v":7.24},null,30,{"$f":"ROUND('Tarif URP'!B39*(1-'V-Tarif'!$J$1),2)","v":0.75},{"$f":"ROUND('Tarif URP'!C39*(1-'V-Tarif'!$J$1),2)","v":0.91},{"$f":"ROUND('Tarif URP'!D39*(1-'V-Tarif'!$J$1),2)","v":0.92},{"$f":"ROUND('Tarif URP'!E39*(1-'V-Tarif'!$J$1),2)","v":1.32}]
[94,{"$f":"ROUND('Tarifgruppe S'!B44*(1-'V-Tarif'!$J$1),2)","v":1.48},{"$f":"ROUND('Tarifgruppe S'!C44*(1-'V-Tarif'!$J$1),2)","v":2.09},{"$f":"ROUND('Tarifgruppe S'!D44*(1-'V-Tarif'!$J$1),2)","v":2.58},{"$f":"ROUND('Tarifgruppe S'!E44*(1-'V-Tarif'!$J$1),2)","v":1.17},{"$f":"ROUND('Tarifgruppe S'!F44*(1-'V-Tarif'!$J$1),2)","v":0.78},{"$f":"ROUND('Tarifgruppe S'!G44*(1-'V-Tarif'!$J$1),2)","v":0.76},{"$f":"ROUND('Tarifgruppe S'!H44*(1-'V-Tarif'!$J$1),2)","v":9.1199999999999992},{"$f":"ROUND('Tarifgruppe S'!I44*(1-'V-Tarif'!$J$1),2)","v":1.24},{"$f":"ROUND('Tarifgruppe S'!J44*(1-'V-Tarif'!$J$1),2)","v":1.74},{"$f":"ROUND('Tarifgruppe S'!K44*(1-'V-Tarif'!$J$1),2)","v":2.15},{"$f":"ROUND('Tarifgruppe S'!L44*(1-'V-Tarif'!$J$1),2)","v":0.97},{"$f":"ROUND('Tarifgruppe S'!M44*(1-'V-Tarif'!$J$1),2)","v":0.65},{"$f":"ROUND('Tarifgruppe S'!N44*(1-'V-Tarif'!$J$1),2)","v":0.64},{"$f":"ROUND('Tarifgruppe S'!O44*(1-'V-Tarif'!$J$1),2)","v":7.6},null,31,{"$f":"ROUND('Tarif URP'!B40*(1-'V-Tarif'!$J$1),2)","v":0.75},{"$f":"ROUND('Tarif URP'!C40*(1-'V-Tarif'!$J$1),2)","v":0.91},{"$f":"ROUND('Tarif URP'!D40*(1-'V-Tarif'!$J$1),2)","v":0.92},{"$f":"ROUND('Tarif URP'!E40*(1-'V-Tarif'!$J$1),2)","v":1.32}]
[95,{"$f":"ROUND('Tarifgruppe S'!B45*(1-'V-Tarif'!$J$1),2)","v":1.56},{"$f":"ROUND('Tarifgruppe S'!C45*(1-'V-Tarif'!$J$1),2)","v":2.19},{"$f":"ROUND('Tarifgruppe S'!D45*(1-'V-Tarif'!$J$1),2)","v":2.7},{"$f":"ROUND('Tarifgruppe S'!E45*(1-'V-Tarif'!$J$1),2)","v":1.23},{"$f":"ROUND('Tarifgruppe S'!F45*(1-'V-Tarif'!$J$1),2)","v":0.82},{"$f":"ROUND('Tarifgruppe S'!G45*(1-'V-Tarif'!$J$1),2)","v":0.8},{"$f":"ROUND('Tarifgruppe S'!H45*(1-'V-Tarif'!$J$1),2)","v":9.58},{"$f":"ROUND('Tarifgruppe S'!I45*(1-'V-Tarif'!$J$1),2)","v":1.3},{"$f":"ROUND('Tarifgruppe S'!J45*(1-'V-Tarif'!$J$1),2)","v":1.83},{"$f":"ROUND('Tarifgruppe S'!K45*(1-'V-Tarif'!$J$1),2)","v":2.25},{"$f":"ROUND('Tarifgruppe S'!L45*(1-'V-Tarif'!$J$1),2)","v":1.02},{"$f":"ROUND('Tarifgruppe S'!M45*(1-'V-Tarif'!$J$1),2)","v":0.69},{"$f":"ROUND('Tarifgruppe S'!N45*(1-'V-Tarif'!$J$1),2)","v":0.67},{"$f":"ROUND('Tarifgruppe S'!O45*(1-'V-Tarif'!$J$1),2)","v":7.98},null,32,{"$f":"ROUND('Tarif URP'!B41*(1-'V-Tarif'!$J$1),2)","v":0.75},{"$f":"ROUND('Tarif URP'!C41*(1-'V-Tarif'!$J$1),2)","v":0.91},{"$f":"ROUND('Tarif URP'!D41*(1-'V-Tarif'!$J$1),2)","v":0.92},{"$f":"ROUND('Tarif URP'!E41*(1-'V-Tarif'!$J$1),2)","v":1.32}]
[96,{"$f":"ROUND('Tarifgruppe S'!B46*(1-'V-Tarif'!$J$1),2)","v":1.64},{"$f":"ROUND('Tarifgruppe S'!C46*(1-'V-Tarif'!$J$1),2)","v":2.2999999999999998},{"$f":"ROUND('Tarifgruppe S'!D46*(1-'V-Tarif'!$J$1),2)","v":2.84},{"$f":"ROUND('Tarifgruppe S'!E46*(1-'V-Tarif'!$J$1),2)","v":1.29},{"$f":"ROUND('Tarifgruppe S'!F46*(1-'V-Tarif'!$J$1),2)","v":0.86},{"$f":"ROUND('Tarifgruppe S'!G46*(1-'V-Tarif'!$J$1),2)","v":0.84},{"$f":"ROUND('Tarifgruppe S'!H46*(1-'V-Tarif'!$J$1),2)","v":10.050000000000001},{"$f":"ROUND('Tarifgruppe S'!I46*(1-'V-Tarif'!$J$1),2)","v":1.36},{"$f":"ROUND('Tarifgruppe S'!J46*(1-'V-Tarif'!$J$1),2)","v":1.92},{"$f":"ROUND('Tarifgruppe S'!K46*(1-'V-Tarif'!$J$1),2)","v":2.37},{"$f":"ROUND('Tarifgruppe S'!L46*(1-'V-Tarif'!$J$1),2)","v":1.07},{"$f":"ROUND('Tarifgruppe S'!M46*(1-'V-Tarif'!$J$1),2)","v":0.72},{"$f":"ROUND('Tarifgruppe S'!N46*(1-'V-Tarif'!$J$1),2)","v":0.7},{"$f":"ROUND('Tarifgruppe S'!O46*(1-'V-Tarif'!$J$1),2)","v":8.3800000000000008},null,33,{"$f":"ROUND('Tarif URP'!B42*(1-'V-Tarif'!$J$1),2)","v":0.75},{"$f":"ROUND('Tarif URP'!C42*(1-'V-Tarif'!$J$1),2)","v":0.91},{"$f":"ROUND('Tarif URP'!D42*(1-'V-Tarif'!$J$1),2)","v":0.93},{"$f":"ROUND('Tarif URP'!E42*(1-'V-Tarif'!$J$1),2)","v":1.32}]
[97,{"$f":"ROUND('Tarifgruppe S'!B47*(1-'V-Tarif'!$J$1),2)","v":1.72},{"$f":"ROUND('Tarifgruppe S'!C47*(1-'V-Tarif'!$J$1),2)","v":2.42},{"$f":"ROUND('Tarifgruppe S'!D47*(1-'V-Tarif'!$J$1),2)","v":2.98},{"$f":"ROUND('Tarifgruppe S'!E47*(1-'V-Tarif'!$J$1),2)","v":1.35},{"$f":"ROUND('Tarifgruppe S'!F47*(1-'V-Tarif'!$J$1),2)","v":0.91},{"$f":"ROUND('Tarifgruppe S'!G47*(1-'V-Tarif'!$J$1),2)","v":0.88},{"$f":"ROUND('Tarifgruppe S'!H47*(1-'V-Tarif'!$J$1),2)","v":10.56},{"$f":"ROUND('Tarifgruppe S'!I47*(1-'V-Tarif'!$J$1),2)","v":1.43},{"$f":"ROUND('Tarifgruppe S'!J47*(1-'V-Tarif'!$J$1),2)","v":2.0099999999999998},{"$f":"ROUND('Tarifgruppe S'!K47*(1-'V-Tarif'!$J$1),2)","v":2.4900000000000002},{"$f":"ROUND('Tarifgruppe S'!L47*(1-'V-Tarif'!$J$1),2)","v":1.1299999999999999},{"$f":"ROUND('Tarifgruppe S'!M47*(1-'V-Tarif'!$J$1),2)","v":0.76},{"$f":"ROUND('Tarifgruppe S'!N47*(1-'V-Tarif'!$J$1),2)","v":0.74},{"$f":"ROUND('Tarifgruppe S'!O47*(1-'V-Tarif'!$J$1),2)","v":8.8000000000000007},null,34,{"$f":"ROUND('Tarif URP'!B43*(1-'V-Tarif'!$J$1),2)","v":0.75},{"$f":"ROUND('Tarif URP'!C43*(1-'V-Tarif'!$J$1),2)","v":0.91},{"$f":"ROUND('Tarif URP'!D43*(1-'V-Tarif'!$J$1),2)","v":1},{"$f":"ROUND('Tarif URP'!E43*(1-'V-Tarif'!$J$1),2)","v":1.32}]
[98,{"$f":"ROUND('Tarifgruppe S'!B48*(1-'V-Tarif'!$J$1),2)","v":1.8},{"$f":"ROUND('Tarifgruppe S'!C48*(1-'V-Tarif'!$J$1),2)","v":2.54},{"$f":"ROUND('Tarifgruppe S'!D48*(1-'V-Tarif'!$J$1),2)","v":3.13},{"$f":"ROUND('Tarifgruppe S'!E48*(1-'V-Tarif'!$J$1),2)","v":1.42},{"$f":"ROUND('Tarifgruppe S'!F48*(1-'V-Tarif'!$J$1),2)","v":0.95},{"$f":"ROUND('Tarifgruppe S'!G48*(1-'V-Tarif'!$J$1),2)","v":0.93},{"$f":"ROUND('Tarifgruppe S'!H48*(1-'V-Tarif'!$J$1),2)","v":11.08},{"$f":"ROUND('Tarifgruppe S'!I48*(1-'V-Tarif'!$J$1),2)","v":1.5},{"$f":"ROUND('Tarifgruppe S'!J48*(1-'V-Tarif'!$J$1),2)","v":2.11},{"$f":"ROUND('Tarifgruppe S'!K48*(1-'V-Tarif'!$J$1),2)","v":2.61},{"$f":"ROUND('Tarifgruppe S'!L48*(1-'V-Tarif'!$J$1),2)","v":1.18},{"$f":"ROUND('Tarifgruppe S'!M48*(1-'V-Tarif'!$J$1),2)","v":0.79},{"$f":"ROUND('Tarifgruppe S'!N48*(1-'V-Tarif'!$J$1),2)","v":0.77},{"$f":"ROUND('Tarifgruppe S'!O48*(1-'V-Tarif'!$J$1),2)","v":9.24},null,35,{"$f":"ROUND('Tarif URP'!B44*(1-'V-Tarif'!$J$1),2)","v":0.76},{"$f":"ROUND('Tarif URP'!C44*(1-'V-Tarif'!$J$1),2)","v":0.91},{"$f":"ROUND('Tarif URP'!D44*(1-'V-Tarif'!$J$1),2)","v":1.05},{"$f":"ROUND('Tarif URP'!E44*(1-'V-Tarif'!$J$1),2)","v":1.32}]
[99,{"$f":"ROUND('Tarifgruppe S'!B49*(1-'V-Tarif'!$J$1),2)","v":1.89},{"$f":"ROUND('Tarifgruppe S'!C49*(1-'V-Tarif'!$J$1),2)","v":2.66},{"$f":"ROUND('Tarifgruppe S'!D49*(1-'V-Tarif'!$J$1),2)","v":3.29},{"$f":"ROUND('Tarifgruppe S'!E49*(1-'V-Tarif'!$J$1),2)","v":1.49},{"$f":"ROUND('Tarifgruppe S'!F49*(1-'V-Tarif'!$J$1),2)","v":1},{"$f":"ROUND('Tarifgruppe S'!G49*(1-'V-Tarif'!$J$1),2)","v":0.97},{"$f":"ROUND('Tarifgruppe S'!H49*(1-'V-Tarif'!$J$1),2)","v":11.64},{"$f":"ROUND('Tarifgruppe S'!I49*(1-'V-Tarif'!$J$1),2)","v":1.58},{"$f":"ROUND('Tarifgruppe S'!J49*(1-'V-Tarif'!$J$1),2)","v":2.2200000000000002},{"$f":"ROUND('Tarifgruppe S'!K49*(1-'V-Tarif'!$J$1),2)","v":2.74},{"$f":"ROUND('Tarifgruppe S'!L49*(1-'V-Tarif'!$J$1),2)","v":1.24},{"$f":"ROUND('Tarifgruppe S'!M49*(1-'V-Tarif'!$J$1),2)","v":0.83},{"$f":"ROUND('Tarifgruppe S'!N49*(1-'V-Tarif'!$J$1),2)","v":0.81},{"$f":"ROUND('Tarifgruppe S'!O49*(1-'V-Tarif'!$J$1),2)","v":9.6999999999999993},null,36,{"$f":"ROUND('Tarif URP'!B45*(1-'V-Tarif'!$J$1),2)","v":0.81},{"$f":"ROUND('Tarif URP'!C45*(1-'V-Tarif'!$J$1),2)","v":0.91},{"$f":"ROUND('Tarif URP'!D45*(1-'V-Tarif'!$J$1),2)","v":1.1299999999999999},{"$f":"ROUND('Tarif URP'!E45*(1-'V-Tarif'!$J$1),2)","v":1.41}]
[100,{"$f":"ROUND('Tarifgruppe S'!B50*(1-'V-Tarif'!$J$1),2)","v":1.99},{"$f":"ROUND('Tarifgruppe S'!C50*(1-'V-Tarif'!$J$1),2)","v":2.8},{"$f":"ROUND('Tarifgruppe S'!D50*(1-'V-Tarif'!$J$1),2)","v":3.45},{"$f":"ROUND('Tarifgruppe S'!E50*(1-'V-Tarif'!$J$1),2)","v":1.56},{"$f":"ROUND('Tarifgruppe S'!F50*(1-'V-Tarif'!$J$1),2)","v":1.05},{"$f":"ROUND('Tarifgruppe S'!G50*(1-'V-Tarif'!$J$1),2)","v":1.02},{"$f":"ROUND('Tarifgruppe S'!H50*(1-'V-Tarif'!$J$1),2)","v":12.22},{"$f":"ROUND('Tarifgruppe S'!I50*(1-'V-Tarif'!$J$1),2)","v":1.66},{"$f":"ROUND('Tarifgruppe S'!J50*(1-'V-Tarif'!$J$1),2)","v":2.33},{"$f":"ROUND('Tarifgruppe S'!K50*(1-'V-Tarif'!$J$1),2)","v":2.88},{"$f":"ROUND('Tarifgruppe S'!L50*(1-'V-Tarif'!$J$1),2)","v":1.3},{"$f":"ROUND('Tarifgruppe S'!M50*(1-'V-Tarif'!$J$1),2)","v":0.87},{"$f":"ROUND('Tarifgruppe S'!N50*(1-'V-Tarif'!$J$1),2)","v":0.85},{"$f":"ROUND('Tarifgruppe S'!O50*(1-'V-Tarif'!$J$1),2)","v":10.18},null,37,{"$f":"ROUND('Tarif URP'!B46*(1-'V-Tarif'!$J$1),2)","v":0.87},{"$f":"ROUND('Tarif URP'!C46*(1-'V-Tarif'!$J$1),2)","v":0.95},{"$f":"ROUND('Tarif URP'!D46*(1-'V-Tarif'!$J$1),2)","v":1.22},{"$f":"ROUND('Tarif URP'!E46*(1-'V-Tarif'!$J$1),2)","v":1.51}]
[101,{"$f":"ROUND('Tarifgruppe S'!B51*(1-'V-Tarif'!$J$1),2)","v":2.09},{"$f":"ROUND('Tarifgruppe S'!C51*(1-'V-Tarif'!$J$1),2)","v":2.94},{"$f":"ROUND('Tarifgruppe S'!D51*(1-'V-Tarif'!$J$1),2)","v":3.62},{"$f":"ROUND('Tarifgruppe S'!E51*(1-'V-Tarif'!$J$1),2)","v":1.64},{"$f":"ROUND('Tarifgruppe S'!F51*(1-'V-Tarif'!$J$1),2)","v":1.1000000000000001},{"$f":"ROUND('Tarifgruppe S'!G51*(1-'V-Tarif'!$J$1),2)","v":1.07},{"$f":"ROUND('Tarifgruppe S'!H51*(1-'V-Tarif'!$J$1),2)","v":12.83},{"$f":"ROUND('Tarifgruppe S'!I51*(1-'V-Tarif'!$J$1),2)","v":1.74},{"$f":"ROUND('Tarifgruppe S'!J51*(1-'V-Tarif'!$J$1),2)","v":2.4500000000000002},{"$f":"ROUND('Tarifgruppe S'!K51*(1-'V-Tarif'!$J$1),2)","v":3.02},{"$f":"ROUND('Tarifgruppe S'!L51*(1-'V-Tarif'!$J$1),2)","v":1.37},{"$f":"ROUND('Tarifgruppe S'!M51*(1-'V-Tarif'!$J$1),2)","v":0.92},{"$f":"ROUND('Tarifgruppe S'!N51*(1-'V-Tarif'!$J$1),2)","v":0.9},{"$f":"ROUND('Tarifgruppe S'!O51*(1-'V-Tarif'!$J$1),2)","v":10.69},null,38,{"$f":"ROUND('Tarif URP'!B47*(1-'V-Tarif'!$J$1),2)","v":0.92},{"$f":"ROUND('Tarif URP'!C47*(1-'V-Tarif'!$J$1),2)","v":1},{"$f":"ROUND('Tarif URP'!D47*(1-'V-Tarif'!$J$1),2)","v":1.31},{"$f":"ROUND('Tarif URP'!E47*(1-'V-Tarif'!$J$1),2)","v":1.61}]
[102,{"$f":"ROUND('Tarifgruppe S'!B52*(1-'V-Tarif'!$J$1),2)","v":2.19},{"$f":"ROUND('Tarifgruppe S'!C52*(1-'V-Tarif'!$J$1),2)","v":3.08},{"$f":"ROUND('Tarifgruppe S'!D52*(1-'V-Tarif'!$J$1),2)","v":3.8},{"$f":"ROUND('Tarifgruppe S'!E52*(1-'V-Tarif'!$J$1),2)","v":1.72},{"$f":"ROUND('Tarifgruppe S'!F52*(1-'V-Tarif'!$J$1),2)","v":1.1599999999999999},{"$f":"ROUND('Tarifgruppe S'!G52*(1-'V-Tarif'!$J$1),2)","v":1.1299999999999999},{"$f":"ROUND('Tarifgruppe S'!H52*(1-'V-Tarif'!$J$1),2)","v":13.47},{"$f":"ROUND('Tarifgruppe S'!I52*(1-'V-Tarif'!$J$1),2)","v":1.83},{"$f":"ROUND('Tarifgruppe S'!J52*(1-'V-Tarif'!$J$1),2)","v":2.57},{"$f":"ROUND('Tarifgruppe S'!K52*(1-'V-Tarif'!$J$1),2)","v":3.17},{"$f":"ROUND('Tarifgruppe S'!L52*(1-'V-Tarif'!$J$1),2)","v":1.44},{"$f":"ROUND('Tarifgruppe S'!M52*(1-'V-Tarif'!$J$1),2)","v":0.96},{"$f":"ROUND('Tarifgruppe S'!N52*(1-'V-Tarif'!$J$1),2)","v":0.94},{"$f":"ROUND('Tarifgruppe S'!O52*(1-'V-Tarif'!$J$1),2)","v":11.23},null,39,{"$f":"ROUND('Tarif URP'!B48*(1-'V-Tarif'!$J$1),2)","v":0.97},{"$f":"ROUND('Tarif URP'!C48*(1-'V-Tarif'!$J$1),2)","v":1.05},{"$f":"ROUND('Tarif URP'!D48*(1-'V-Tarif'!$J$1),2)","v":1.4},{"$f":"ROUND('Tarif URP'!E48*(1-'V-Tarif'!$J$1),2)","v":1.71}]
[103,{"$f":"ROUND('Tarifgruppe S'!B53*(1-'V-Tarif'!$J$1),2)","v":2.2999999999999998},{"$f":"ROUND('Tarifgruppe S'!C53*(1-'V-Tarif'!$J$1),2)","v":3.24},{"$f":"ROUND('Tarifgruppe S'!D53*(1-'V-Tarif'!$J$1),2)","v":3.99},{"$f":"ROUND('Tarifgruppe S'!E53*(1-'V-Tarif'!$J$1),2)","v":1.81},{"$f":"ROUND('Tarifgruppe S'!F53*(1-'V-Tarif'!$J$1),2)","v":1.21},{"$f":"ROUND('Tarifgruppe S'!G53*(1-'V-Tarif'!$J$1),2)","v":1.18},{"$f":"ROUND('Tarifgruppe S'!H53*(1-'V-Tarif'!$J$1),2)","v":14.15},{"$f":"ROUND('Tarifgruppe S'!I53*(1-'V-Tarif'!$J$1),2)","v":1.92},{"$f":"ROUND('Tarifgruppe S'!J53*(1-'V-Tarif'!$J$1),2)","v":2.7},{"$f":"ROUND('Tarifgruppe S'!K53*(1-'V-Tarif'!$J$1),2)","v":3.33},{"$f":"ROUND('Tarifgruppe S'!L53*(1-'V-Tarif'!$J$1),2)","v":1.51},{"$f":"ROUND('Tarifgruppe S'!M53*(1-'V-Tarif'!$J$1),2)","v":1.01},{"$f":"ROUND('Tarifgruppe S'!N53*(1-'V-Tarif'!$J$1),2)","v":0.99},{"$f":"ROUND('Tarifgruppe S'!O53*(1-'V-Tarif'!$J$1),2)","v":11.79},null,40,{"$f":"ROUND('Tarif URP'!B49*(1-'V-Tarif'!$J$1),2)","v":1},{"$f":"ROUND('Tarif URP'!C49*(1-'V-Tarif'!$J$1),2)","v":1.08},{"$f":"ROUND('Tarif URP'!D49*(1-'V-Tarif'!$J$1),2)","v":1.46},{"$f":"ROUND('Tarif URP'!E49*(1-'V-Tarif'!$J$1),2)","v":1.77}]
[104,{"$f":"ROUND('Tarifgruppe S'!B54*(1-'V-Tarif'!$J$1),2)","v":2.42},{"$f":"ROUND('Tarifgruppe S'!C54*(1-'V-Tarif'!$J$1),2)","v":3.4},{"$f":"ROUND('Tarifgruppe S'!D54*(1-'V-Tarif'!$J$1),2)","v":4.1900000000000004},{"$f":"ROUND('Tarifgruppe S'!E54*(1-'V-Tarif'!$J$1),2)","v":1.9},{"$f":"ROUND('Tarifgruppe S'!F54*(1-'V-Tarif'!$J$1),2)","v":1.27},{"$f":"ROUND('Tarifgruppe S'!G54*(1-'V-Tarif'!$J$1),2)","v":1.24},{"$f":"ROUND('Tarifgruppe S'!H54*(1-'V-Tarif'!$J$1),2)","v":14.85},{"$f":"ROUND('Tarifgruppe S'!I54*(1-'V-Tarif'!$J$1),2)","v":2.0099999999999998},{"$f":"ROUND('Tarifgruppe S'!J54*(1-'V-Tarif'!$J$1),2)","v":2.83},{"$f":"ROUND('Tarifgruppe S'!K54*(1-'V-Tarif'!$J$1),2)","v":3.5},{"$f":"ROUND('Tarifgruppe S'!L54*(1-'V-Tarif'!$J$1),2)","v":1.58},{"$f":"ROUND('Tarifgruppe S'!M54*(1-'V-Tarif'!$J$1),2)","v":1.06},{"$f":"ROUND('Tarifgruppe S'!N54*(1-'V-Tarif'!$J$1),2)","v":1.04},{"$f":"ROUND('Tarifgruppe S'!O54*(1-'V-Tarif'!$J$1),2)","v":12.38},null,41,{"$f":"ROUND('Tarif URP'!B50*(1-'V-Tarif'!$J$1),2)","v":1.06},{"$f":"ROUND('Tarif URP'!C50*(1-'V-Tarif'!$J$1),2)","v":1.1399999999999999},{"$f":"ROUND('Tarif URP'!D50*(1-'V-Tarif'!$J$1),2)","v":1.57},{"$f":"ROUND('Tarif URP'!E50*(1-'V-Tarif'!$J$1),2)","v":1.9}]
[105,{"$f":"ROUND('Tarifgruppe S'!B55*(1-'V-Tarif'!$J$1),2)","v":2.54},{"$f":"ROUND('Tarifgruppe S'!C55*(1-'V-Tarif'!$J$1),2)","v":3.57},{"$f":"ROUND('Tarifgruppe S'!D55*(1-'V-Tarif'!$J$1),2)","v":4.4000000000000004},{"$f":"ROUND('Tarifgruppe S'!E55*(1-'V-Tarif'!$J$1),2)","v":1.99},{"$f":"ROUND('Tarifgruppe S'!F55*(1-'V-Tarif'!$J$1),2)","v":1.34},{"$f":"ROUND('Tarifgruppe S'!G55*(1-'V-Tarif'!$J$1),2)","v":1.31},{"$f":"ROUND('Tarifgruppe S'!H55*(1-'V-Tarif'!$J$1),2)","v":15.6},{"$f":"ROUND('Tarifgruppe S'!I55*(1-'V-Tarif'!$J$1),2)","v":2.11},{"$f":"ROUND('Tarifgruppe S'!J55*(1-'V-Tarif'!$J$1),2)","v":2.97},{"$f":"ROUND('Tarifgruppe S'!K55*(1-'V-Tarif'!$J$1),2)","v":3.67},{"$f":"ROUND('Tarifgruppe S'!L55*(1-'V-Tarif'!$J$1),2)","v":1.66},{"$f":"ROUND('Tarifgruppe S'!M55*(1-'V-Tarif'!$J$1),2)","v":1.1200000000000001},{"$f":"ROUND('Tarifgruppe S'!N55*(1-'V-Tarif'!$J$1),2)","v":1.0900000000000001},{"$f":"ROUND('Tarifgruppe S'!O55*(1-'V-Tarif'!$J$1),2)","v":13},null,42,{"$f":"ROUND('Tarif URP'!B51*(1-'V-Tarif'!$J$1),2)","v":1.1299999999999999},{"$f":"ROUND('Tarif URP'!C51*(1-'V-Tarif'!$J$1),2)","v":1.2},{"$f":"ROUND('Tarif URP'!D51*(1-'V-Tarif'!$J$1),2)","v":1.69},{"$f":"ROUND('Tarif URP'!E51*(1-'V-Tarif'!$J$1),2)","v":2.0299999999999998}]
[106,{"$f":"ROUND('Tarifgruppe S'!B56*(1-'V-Tarif'!$J$1),2)","v":2.66},{"$f":"ROUND('Tarifgruppe S'!C56*(1-'V-Tarif'!$J$1),2)","v":3.75},{"$f":"ROUND('Tarifgruppe S'!D56*(1-'V-Tarif'!$J$1),2)","v":4.62},{"$f":"ROUND('Tarifgruppe S'!E56*(1-'V-Tarif'!$J$1),2)","v":2.09},{"$f":"ROUND('Tarifgruppe S'!F56*(1-'V-Tarif'!$J$1),2)","v":1.4},{"$f":"ROUND('Tarifgruppe S'!G56*(1-'V-Tarif'!$J$1),2)","v":1.37},{"$f":"ROUND('Tarifgruppe S'!H56*(1-'V-Tarif'!$J$1),2)","v":16.38},{"$f":"ROUND('Tarifgruppe S'!I56*(1-'V-Tarif'!$J$1),2)","v":2.2200000000000002},{"$f":"ROUND('Tarifgruppe S'!J56*(1-'V-Tarif'!$J$1),2)","v":3.12},{"$f":"ROUND('Tarifgruppe S'!K56*(1-'V-Tarif'!$J$1),2)","v":3.85},{"$f":"ROUND('Tarifgruppe S'!L56*(1-'V-Tarif'!$J$1),2)","v":1.75},{"$f":"ROUND('Tarifgruppe S'!M56*(1-'V-Tarif'!$J$1),2)","v":1.17},{"$f":"ROUND('Tarifgruppe S'!N56*(1-'V-Tarif'!$J$1),2)","v":1.1399999999999999},{"$f":"ROUND('Tarifgruppe S'!O56*(1-'V-Tarif'!$J$1),2)","v":13.65},null,43,{"$f":"ROUND('Tarif URP'!B52*(1-'V-Tarif'!$J$1),2)","v":1.2},{"$f":"ROUND('Tarif URP'!C52*(1-'V-Tarif'!$J$1),2)","v":1.27},{"$f":"ROUND('Tarif URP'!D52*(1-'V-Tarif'!$J$1),2)","v":1.83},{"$f":"ROUND('Tarif URP'!E52*(1-'V-Tarif'!$J$1),2)","v":2.19}]
[107,{"$f":"ROUND('Tarifgruppe S'!B57*(1-'V-Tarif'!$J$1),2)","v":2.8},{"$f":"ROUND('Tarifgruppe S'!C57*(1-'V-Tarif'!$J$1),2)","v":3.93},{"$f":"ROUND('Tarifgruppe S'!D57*(1-'V-Tarif'!$J$1),2)","v":4.8600000000000003},{"$f":"ROUND('Tarifgruppe S'!E57*(1-'V-Tarif'!$J$1),2)","v":2.2000000000000002},{"$f":"ROUND('Tarifgruppe S'!F57*(1-'V-Tarif'!$J$1),2)","v":1.47},{"$f":"ROUND('Tarifgruppe S'!G57*(1-'V-Tarif'!$J$1),2)","v":1.44},{"$f":"ROUND('Tarifgruppe S'!H57*(1-'V-Tarif'!$J$1),2)","v":17.190000000000001},{"$f":"ROUND('Tarifgruppe S'!I57*(1-'V-Tarif'!$J$1),2)","v":2.33},{"$f":"ROUND('Tarifgruppe S'!J57*(1-'V-Tarif'!$J$1),2)","v":3.28},{"$f":"ROUND('Tarifgruppe S'!K57*(1-'V-Tarif'!$J$1),2)","v":4.05},{"$f":"ROUND('Tarifgruppe S'!L57*(1-'V-Tarif'!$J$1),2)","v":1.83},{"$f":"ROUND('Tarifgruppe S'!M57*(1-'V-Tarif'!$J$1),2)","v":1.23},{"$f":"ROUND('Tarifgruppe S'!N57*(1-'V-Tarif'!$J$1),2)","v":1.2},{"$f":"ROUND('Tarifgruppe S'!O57*(1-'V-Tarif'!$J$1),2)","v":14.33},null,44,{"$f":"ROUND('Tarif URP'!B53*(1-'V-Tarif'!$J$1),2)","v":1.27},{"$f":"ROUND('Tarif URP'!C53*(1-'V-Tarif'!$J$1),2)","v":1.34},{"$f":"ROUND('Tarif URP'!D53*(1-'V-Tarif'!$J$1),2)","v":1.99},{"$f":"ROUND('Tarif URP'!E53*(1-'V-Tarif'!$J$1),2)","v":2.36}]
[108,{"$f":"ROUND('Tarifgruppe S'!B58*(1-'V-Tarif'!$J$1),2)","v":2.94},{"$f":"ROUND('Tarifgruppe S'!C58*(1-'V-Tarif'!$J$1),2)","v":4.13},{"$f":"ROUND('Tarifgruppe S'!D58*(1-'V-Tarif'!$J$1),2)","v":5.0999999999999996},{"$f":"ROUND('Tarifgruppe S'!E58*(1-'V-Tarif'!$J$1),2)","v":2.31},{"$f":"ROUND('Tarifgruppe S'!F58*(1-'V-Tarif'!$J$1),2)","v":1.55},{"$f":"ROUND('Tarifgruppe S'!G58*(1-'V-Tarif'!$J$1),2)","v":1.51},{"$f":"ROUND('Tarifgruppe S'!H58*(1-'V-Tarif'!$J$1),2)","v":18.05},{"$f":"ROUND('Tarifgruppe S'!I58*(1-'V-Tarif'!$J$1),2)","v":2.4500000000000002},{"$f":"ROUND('Tarifgruppe S'!J58*(1-'V-Tarif'!$J$1),2)","v":3.44},{"$f":"ROUND('Tarifgruppe S'!K58*(1-'V-Tarif'!$J$1),2)","v":4.25},{"$f":"ROUND('Tarifgruppe S'!L58*(1-'V-Tarif'!$J$1),2)","v":1.92},{"$f":"ROUND('Tarifgruppe S'!M58*(1-'V-Tarif'!$J$1),2)","v":1.29},{"$f":"ROUND('Tarifgruppe S'!N58*(1-'V-Tarif'!$J$1),2)","v":1.26},{"$f":"ROUND('Tarifgruppe S'!O58*(1-'V-Tarif'!$J$1),2)","v":15.05},null,45,{"$f":"ROUND('Tarif URP'!B54*(1-'V-Tarif'!$J$1),2)","v":1.32},{"$f":"ROUND('Tarif URP'!C54*(1-'V-Tarif'!$J$1),2)","v":1.38},{"$f":"ROUND('Tarif URP'!D54*(1-'V-Tarif'!$J$1),2)","v":2.1},{"$f":"ROUND('Tarif URP'!E54*(1-'V-Tarif'!$J$1),2)","v":2.48}]
[109,{"$f":"ROUND('Tarifgruppe S'!B59*(1-'V-Tarif'!$J$1),2)","v":3.08},{"$f":"ROUND('Tarifgruppe S'!C59*(1-'V-Tarif'!$J$1),2)","v":4.34},{"$f":"ROUND('Tarifgruppe S'!D59*(1-'V-Tarif'!$J$1),2)","v":5.35},{"$f":"ROUND('Tarifgruppe S'!E59*(1-'V-Tarif'!$J$1),2)","v":2.42},{"$f":"ROUND('Tarifgruppe S'!F59*(1-'V-Tarif'!$J$1),2)","v":1.63},{"$f":"ROUND('Tarifgruppe S'!G59*(1-'V-Tarif'!$J$1),2)","v":1.59},{"$f":"ROUND('Tarifgruppe S'!H59*(1-'V-Tarif'!$J$1),2)","v":18.96},{"$f":"ROUND('Tarifgruppe S'!I59*(1-'V-Tarif'!$J$1),2)","v":2.57},{"$f":"ROUND('Tarifgruppe S'!J59*(1-'V-Tarif'!$J$1),2)","v":3.62},{"$f":"ROUND('Tarifgruppe S'!K59*(1-'V-Tarif'!$J$1),2)","v":4.46},{"$f":"ROUND('Tarifgruppe S'!L59*(1-'V-Tarif'!$J$1),2)","v":2.02},{"$f":"ROUND('Tarifgruppe S'!M59*(1-'V-Tarif'!$J$1),2)","v":1.35},{"$f":"ROUND('Tarifgruppe S'!N59*(1-'V-Tarif'!$J$1),2)","v":1.32},{"$f":"ROUND('Tarifgruppe S'!O59*(1-'V-Tarif'!$J$1),2)","v":15.8},null,46,{"$f":"ROUND('Tarif URP'!B55*(1-'V-Tarif'!$J$1),2)","v":1.4},{"$f":"ROUND('Tarif URP'!C55*(1-'V-Tarif'!$J$1),2)","v":1.45},{"$f":"ROUND('Tarif URP'!D55*(1-'V-Tarif'!$J$1),2)","v":2.2799999999999998},{"$f":"ROUND('Tarif URP'!E55*(1-'V-Tarif'!$J$1),2)","v":2.68}]
[110,{"$f":"ROUND('Tarifgruppe S'!B60*(1-'V-Tarif'!$J$1),2)","v":3.24},{"$f":"ROUND('Tarifgruppe S'!C60*(1-'V-Tarif'!$J$1),2)","v":4.55},{"$f":"ROUND('Tarifgruppe S'!D60*(1-'V-Tarif'!$J$1),2)","v":5.62},{"$f":"ROUND('Tarifgruppe S'!E60*(1-'V-Tarif'!$J$1),2)","v":2.5499999999999998},{"$f":"ROUND('Tarifgruppe S'!F60*(1-'V-Tarif'!$J$1),2)","v":1.71},{"$f":"ROUND('Tarifgruppe S'!G60*(1-'V-Tarif'!$J$1),2)","v":1.67},{"$f":"ROUND('Tarifgruppe S'!H60*(1-'V-Tarif'!$J$1),2)","v":19.899999999999999},{"$f":"ROUND('Tarifgruppe S'!I60*(1-'V-Tarif'!$J$1),2)","v":2.7},{"$f":"ROUND('Tarifgruppe S'!J60*(1-'V-Tarif'!$J$1),2)","v":3.8},{"$f":"ROUND('Tarifgruppe S'!K60*(1-'V-Tarif'!$J$1),2)","v":4.68},{"$f":"ROUND('Tarifgruppe S'!L60*(1-'V-Tarif'!$J$1),2)","v":2.12},{"$f":"ROUND('Tarifgruppe S'!M60*(1-'V-Tarif'!$J$1),2)","v":1.42},{"$f":"ROUND('Tarifgruppe S'!N60*(1-'V-Tarif'!$J$1),2)","v":1.39},{"$f":"ROUND('Tarifgruppe S'!O60*(1-'V-Tarif'!$J$1),2)","v":16.59},null,47,{"$f":"ROUND('Tarif URP'!B56*(1-'V-Tarif'!$J$1),2)","v":1.48},{"$f":"ROUND('Tarif URP'!C56*(1-'V-Tarif'!$J$1),2)","v":1.53},{"$f":"ROUND('Tarif URP'!D56*(1-'V-Tarif'!$J$1),2)","v":2.48},{"$f":"ROUND('Tarif URP'!E56*(1-'V-Tarif'!$J$1),2)","v":2.9}]
[111,{"$f":"ROUND('Tarifgruppe S'!B61*(1-'V-Tarif'!$J$1),2)","v":3.4},{"$f":"ROUND('Tarifgruppe S'!C61*(1-'V-Tarif'!$J$1),2)","v":4.78},{"$f":"ROUND('Tarifgruppe S'!D61*(1-'V-Tarif'!$J$1),2)","v":5.9},{"$f":"ROUND('Tarifgruppe S'!E61*(1-'V-Tarif'!$J$1),2)","v":2.67},{"$f":"ROUND('Tarifgruppe S'!F61*(1-'V-Tarif'!$J$1),2)","v":1.79},{"$f":"ROUND('Tarifgruppe S'!G61*(1-'V-Tarif'!$J$1),2)","v":1.75},{"$f":"ROUND('Tarifgruppe S'!H61*(1-'V-Tarif'!$J$1),2)","v":20.9},{"$f":"ROUND('Tarifgruppe S'!I61*(1-'V-Tarif'!$J$1),2)","v":2.83},{"$f":"ROUND('Tarifgruppe S'!J61*(1-'V-Tarif'!$J$1),2)","v":3.99},{"$f":"ROUND('Tarifgruppe S'!K61*(1-'V-Tarif'!$J$1),2)","v":4.92},{"$f":"ROUND('Tarifgruppe S'!L61*(1-'V-Tarif'!$J$1),2)","v":2.23},{"$f":"ROUND('Tarifgruppe S'!M61*(1-'V-Tarif'!$J$1),2)","v":1.49},{"$f":"ROUND('Tarifgruppe S'!N61*(1-'V-Tarif'!$J$1),2)","v":1.46},{"$f":"ROUND('Tarifgruppe S'!O61*(1-'V-Tarif'!$J$1),2)","v":17.420000000000002},null,48,{"$f":"ROUND('Tarif URP'!B57*(1-'V-Tarif'!$J$1),2)","v":1.56},{"$f":"ROUND('Tarif URP'!C57*(1-'V-Tarif'!$J$1),2)","v":1.61},{"$f":"ROUND('Tarif URP'!D57*(1-'V-Tarif'!$J$1),2)","v":2.71},{"$f":"ROUND('Tarif URP'!E57*(1-'V-Tarif'!$J$1),2)","v":3.15}]
[112,{"$f":"ROUND('Tarifgruppe S'!B62*(1-'V-Tarif'!$J$1),2)","v":3.57},{"$f":"ROUND('Tarifgruppe S'!C62*(1-'V-Tarif'!$J$1),2)","v":5.0199999999999996},{"$f":"ROUND('Tarifgruppe S'!D62*(1-'V-Tarif'!$J$1),2)","v":6.2},{"$f":"ROUND('Tarifgruppe S'!E62*(1-'V-Tarif'!$J$1),2)","v":2.81},{"$f":"ROUND('Tarifgruppe S'!F62*(1-'V-Tarif'!$J$1),2)","v":1.88},{"$f":"ROUND('Tarifgruppe S'!G62*(1-'V-Tarif'!$J$1),2)","v":1.84},{"$f":"ROUND('Tarifgruppe S'!H62*(1-'V-Tarif'!$J$1),2)","v":21.94},{"$f":"ROUND('Tarifgruppe S'!I62*(1-'V-Tarif'!$J$1),2)","v":2.97},{"$f":"ROUND('Tarifgruppe S'!J62*(1-'V-Tarif'!$J$1),2)","v":4.18},{"$f":"ROUND('Tarifgruppe S'!K62*(1-'V-Tarif'!$J$1),2)","v":5.16},{"$f":"ROUND('Tarifgruppe S'!L62*(1-'V-Tarif'!$J$1),2)","v":2.34},{"$f":"ROUND('Tarifgruppe S'!M62*(1-'V-Tarif'!$J$1),2)","v":1.57},{"$f":"ROUND('Tarifgruppe S'!N62*(1-'V-Tarif'!$J$1),2)","v":1.53},{"$f":"ROUND('Tarifgruppe S'!O62*(1-'V-Tarif'!$J$1),2)","v":18.29},null,49,{"$f":"ROUND('Tarif URP'!B58*(1-'V-Tarif'!$J$1),2)","v":1.65},{"$f":"ROUND('Tarif URP'!C58*(1-'V-Tarif'!$J$1),2)","v":1.68},{"$f":"ROUND('Tarif URP'!D58*(1-'V-Tarif'!$J$1),2)","v":2.95},{"$f":"ROUND('Tarif URP'!E58*(1-'V-Tarif'!$J$1),2)","v":3.42}]
[113,{"$f":"ROUND('Tarifgruppe S'!B63*(1-'V-Tarif'!$J$1),2)","v":3.75},{"$f":"ROUND('Tarifgruppe S'!C63*(1-'V-Tarif'!$J$1),2)","v":5.27},{"$f":"ROUND('Tarifgruppe S'!D63*(1-'V-Tarif'!$J$1),2)","v":6.51},{"$f":"ROUND('Tarifgruppe S'!E63*(1-'V-Tarif'!$J$1),2)","v":2.95},{"$f":"ROUND('Tarifgruppe S'!F63*(1-'V-Tarif'!$J$1),2)","v":1.98},{"$f":"ROUND('Tarifgruppe S'!G63*(1-'V-Tarif'!$J$1),2)","v":1.93},{"$f":"ROUND('Tarifgruppe S'!H63*(1-'V-Tarif'!$J$1),2)","v":23.04},{"$f":"ROUND('Tarifgruppe S'!I63*(1-'V-Tarif'!$J$1),2)","v":3.12},{"$f":"ROUND('Tarifgruppe S'!J63*(1-'V-Tarif'!$J$1),2)","v":4.3899999999999997},{"$f":"ROUND('Tarifgruppe S'!K63*(1-'V-Tarif'!$J$1),2)","v":5.42},{"$f":"ROUND('Tarifgruppe S'!L63*(1-'V-Tarif'!$J$1),2)","v":2.46},{"$f":"ROUND('Tarifgruppe S'!M63*(1-'V-Tarif'!$J$1),2)","v":1.65},{"$f":"ROUND('Tarifgruppe S'!N63*(1-'V-Tarif'!$J$1),2)","v":1.61},{"$f":"ROUND('Tarifgruppe S'!O63*(1-'V-Tarif'!$J$1),2)","v":19.2},null,50,{"$f":"ROUND('Tarif URP'!B59*(1-'V-Tarif'!$J$1),2)","v":1.69},{"$f":"ROUND('Tarif URP'!C59*(1-'V-Tarif'!$J$1),2)","v":1.72},{"$f":"ROUND('Tarif URP'!D59*(1-'V-Tarif'!$J$1),2)","v":3.14},{"$f":"ROUND('Tarif URP'!E59*(1-'V-Tarif'!$J$1),2)","v":3.61}]
[114,{"$f":"ROUND('Tarifgruppe S'!B64*(1-'V-Tarif'!$J$1),2)","v":3.93},{"$f":"ROUND('Tarifgruppe S'!C64*(1-'V-Tarif'!$J$1),2)","v":5.54},{"$f":"ROUND('Tarifgruppe S'!D64*(1-'V-Tarif'!$J$1),2)","v":6.83},{"$f":"ROUND('Tarifgruppe S'!E64*(1-'V-Tarif'!$J$1),2)","v":3.09},{"$f":"ROUND('Tarifgruppe S'!F64*(1-'V-Tarif'!$J$1),2)","v":2.0699999999999998},{"$f":"ROUND('Tarifgruppe S'!G64*(1-'V-Tarif'!$J$1),2)","v":2.02},{"$f":"ROUND('Tarifgruppe S'!H64*(1-'V-Tarif'!$J$1),2)","v":24.19},{"$f":"ROUND('Tarifgruppe S'!I64*(1-'V-Tarif'!$J$1),2)","v":3.28},{"$f":"ROUND('Tarifgruppe S'!J64*(1-'V-Tarif'!$J$1),2)","v":4.6100000000000003},{"$f":"ROUND('Tarifgruppe S'!K64*(1-'V-Tarif'!$J$1),2)","v":5.69},{"$f":"ROUND('Tarifgruppe S'!L64*(1-'V-Tarif'!$J$1),2)","v":2.58},{"$f":"ROUND('Tarifgruppe S'!M64*(1-'V-Tarif'!$J$1),2)","v":1.73},{"$f":"ROUND('Tarifgruppe S'!N64*(1-'V-Tarif'!$J$1),2)","v":1.69},{"$f":"ROUND('Tarifgruppe S'!O64*(1-'V-Tarif'!$J$1),2)","v":20.16},null,51,{"$f":"ROUND('Tarif URP'!B60*(1-'V-Tarif'!$J$1),2)","v":1.76},{"$f":"ROUND('Tarif URP'!C60*(1-'V-Tarif'!$J$1),2)","v":1.78},{"$f":"ROUND('Tarif URP'!D60*(1-'V-Tarif'!$J$1),2)","v":3.42},{"$f":"ROUND('Tarif URP'!E60*(1-'V-Tarif'!$J$1),2)","v":3.91}]
[115,{"$f":"ROUND('Tarifgruppe S'!B65*(1-'V-Tarif'!$J$1),2)","v":4.13},{"$f":"ROUND('Tarifgruppe S'!C65*(1-'V-Tarif'!$J$1),2)","v":5.81},{"$f":"ROUND('Tarifgruppe S'!D65*(1-'V-Tarif'!$J$1),2)","v":7.17},{"$f":"ROUND('Tarifgruppe S'!E65*(1-'V-Tarif'!$J$1),2)","v":3.25},{"$f":"ROUND('Tarifgruppe S'!F65*(1-'V-Tarif'!$J$1),2)","v":2.1800000000000002},{"$f":"ROUND('Tarifgruppe S'!G65*(1-'V-Tarif'!$J$1),2)","v":2.12},{"$f":"ROUND('Tarifgruppe S'!H65*(1-'V-Tarif'!$J$1),2)","v":25.4},{"$f":"ROUND('Tarifgruppe S'!I65*(1-'V-Tarif'!$J$1),2)","v":3.44},{"$f":"ROUND('Tarifgruppe S'!J65*(1-'V-Tarif'!$J$1),2)","v":4.84},{"$f":"ROUND('Tarifgruppe S'!K65*(1-'V-Tarif'!$J$1),2)","v":5.98},{"$f":"ROUND('Tarifgruppe S'!L65*(1-'V-Tarif'!$J$1),2)","v":2.71},{"$f":"ROUND('Tarifgruppe S'!M65*(1-'V-Tarif'!$J$1),2)","v":1.81},{"$f":"ROUND('Tarifgruppe S'!N65*(1-'V-Tarif'!$J$1),2)","v":1.77},{"$f":"ROUND('Tarifgruppe S'!O65*(1-'V-Tarif'!$J$1),2)","v":21.17},null,52,{"$f":"ROUND('Tarif URP'!B61*(1-'V-Tarif'!$J$1),2)","v":1.8},{"$f":"ROUND('Tarif URP'!C61*(1-'V-Tarif'!$J$1),2)","v":1.81},{"$f":"ROUND('Tarif URP'!D61*(1-'V-Tarif'!$J$1),2)","v":3.7},{"$f":"ROUND('Tarif URP'!E61*(1-'V-Tarif'!$J$1),2)","v":4.22}]
[116,{"$f":"ROUND('Tarifgruppe S'!B66*(1-'V-Tarif'!$J$1),2)","v":4.34},{"$f":"ROUND('Tarifgruppe S'!C66*(1-'V-Tarif'!$J$1),2)","v":6.1},{"$f":"ROUND('Tarifgruppe S'!D66*(1-'V-Tarif'!$J$1),2)","v":7.53},{"$f":"ROUND('Tarifgruppe S'!E66*(1-'V-Tarif'!$J$1),2)","v":3.41},{"$f":"ROUND('Tarifgruppe S'!F66*(1-'V-Tarif'!$J$1),2)","v":2.29},{"$f":"ROUND('Tarifgruppe S'!G66*(1-'V-Tarif'!$J$1),2)","v":2.23},{"$f":"ROUND('Tarifgruppe S'!H66*(1-'V-Tarif'!$J$1),2)","v":26.67},{"$f":"ROUND('Tarifgruppe S'!I66*(1-'V-Tarif'!$J$1),2)","v":3.61},{"$f":"ROUND('Tarifgruppe S'!J66*(1-'V-Tarif'!$J$1),2)","v":5.09},{"$f":"ROUND('Tarifgruppe S'!K66*(1-'V-Tarif'!$J$1),2)","v":6.28},{"$f":"ROUND('Tarifgruppe S'!L66*(1-'V-Tarif'!$J$1),2)","v":2.84},{"$f":"ROUND('Tarifgruppe S'!M66*(1-'V-Tarif'!$J$1),2)","v":1.91},{"$f":"ROUND('Tarifgruppe S'!N66*(1-'V-Tarif'!$J$1),2)","v":1.86},{"$f":"ROUND('Tarifgruppe S'!O66*(1-'V-Tarif'!$J$1),2)","v":22.23},null,53,{"$f":"ROUND('Tarif URP'!B62*(1-'V-Tarif'!$J$1),2)","v":1.82},{"$f":"ROUND('Tarif URP'!C62*(1-'V-Tarif'!$J$1),2)","v":1.82},{"$f":"ROUND('Tarif URP'!D62*(1-'V-Tarif'!$J$1),2)","v":4},{"$f":"ROUND('Tarif URP'!E62*(1-'V-Tarif'!$J$1),2)","v":4.55}]
[117,{"$f":"ROUND('Tarifgruppe S'!B67*(1-'V-Tarif'!$J$1),2)","v":4.55},{"$f":"ROUND('Tarifgruppe S'!C67*(1-'V-Tarif'!$J$1),2)","v":6.41},{"$f":"ROUND('Tarifgruppe S'!D67*(1-'V-Tarif'!$J$1),2)","v":7.91},{"$f":"ROUND('Tarifgruppe S'!E67*(1-'V-Tarif'!$J$1),2)","v":3.58},{"$f":"ROUND('Tarifgruppe S'!F67*(1-'V-Tarif'!$J$1),2)","v":2.4},{"$f":"ROUND('Tarifgruppe S'!G67*(1-'V-Tarif'!$J$1),2)","v":2.34},{"$f":"ROUND('Tarifgruppe S'!H67*(1-'V-Tarif'!$J$1),2)","v":28.01},{"$f":"ROUND('Tarifgruppe S'!I67*(1-'V-Tarif'!$J$1),2)","v":3.79},{"$f":"ROUND('Tarifgruppe S'!J67*(1-'V-Tarif'!$J$1),2)","v":5.34},{"$f":"ROUND('Tarifgruppe S'!K67*(1-'V-Tarif'!$J$1),2)","v":6.59},{"$f":"ROUND('Tarifgruppe S'!L67*(1-'V-Tarif'!$J$1),2)","v":2.98},{"$f":"ROUND('Tarifgruppe S'!M67*(1-'V-Tarif'!$J$1),2)","v":2},{"$f":"ROUND('Tarifgruppe S'!N67*(1-'V-Tarif'!$J$1),2)","v":1.95},{"$f":"ROUND('Tarifgruppe S'!O67*(1-'V-Tarif'!$J$1),2)","v":23.34},null,54,{"$f":"ROUND('Tarif URP'!B63*(1-'V-Tarif'!$J$1),2)","v":1.82},{"$f":"ROUND('Tarif URP'!C63*(1-'V-Tarif'!$J$1),2)","v":1.81},{"$f":"ROUND('Tarif URP'!D63*(1-'V-Tarif'!$J$1),2)","v":4.34},{"$f":"ROUND('Tarif URP'!E63*(1-'V-Tarif'!$J$1),2)","v":4.91}]
[118,{"$f":"ROUND('Tarifgruppe S'!B68*(1-'V-Tarif'!$J$1),2)","v":4.78},{"$f":"ROUND('Tarifgruppe S'!C68*(1-'V-Tarif'!$J$1),2)","v":6.73},{"$f":"ROUND('Tarifgruppe S'!D68*(1-'V-Tarif'!$J$1),2)","v":8.3000000000000007},{"$f":"ROUND('Tarifgruppe S'!E68*(1-'V-Tarif'!$J$1),2)","v":3.76},{"$f":"ROUND('Tarifgruppe S'!F68*(1-'V-Tarif'!$J$1),2)","v":2.52},{"$f":"ROUND('Tarifgruppe S'!G68*(1-'V-Tarif'!$J$1),2)","v":2.46},{"$f":"ROUND('Tarifgruppe S'!H68*(1-'V-Tarif'!$J$1),2)","v":29.41},{"$f":"ROUND('Tarifgruppe S'!I68*(1-'V-Tarif'!$J$1),2)","v":3.98},{"$f":"ROUND('Tarifgruppe S'!J68*(1-'V-Tarif'!$J$1),2)","v":5.61},{"$f":"ROUND('Tarifgruppe S'!K68*(1-'V-Tarif'!$J$1),2)","v":6.92},{"$f":"ROUND('Tarifgruppe S'!L68*(1-'V-Tarif'!$J$1),2)","v":3.13},{"$f":"ROUND('Tarifgruppe S'!M68*(1-'V-Tarif'!$J$1),2)","v":2.1},{"$f":"ROUND('Tarifgruppe S'!N68*(1-'V-Tarif'!$J$1),2)","v":2.0499999999999998},{"$f":"ROUND('Tarifgruppe S'!O68*(1-'V-Tarif'!$J$1),2)","v":24.51},null,55,{"$f":"ROUND('Tarif URP'!B64*(1-'V-Tarif'!$J$1),2)","v":1.78},{"$f":"ROUND('Tarif URP'!C64*(1-'V-Tarif'!$J$1),2)","v":1.76},{"$f":"ROUND('Tarif URP'!D64*(1-'V-Tarif'!$J$1),2)","v":4.58},{"$f":"ROUND('Tarif URP'!E64*(1-'V-Tarif'!$J$1),2)","v":5.15}]
[119,{"$f":"ROUND('Tarifgruppe S'!B69*(1-'V-Tarif'!$J$1),2)","v":5.0199999999999996},{"$f":"ROUND('Tarifgruppe S'!C69*(1-'V-Tarif'!$J$1),2)","v":7.06},{"$f":"ROUND('Tarifgruppe S'!D69*(1-'V-Tarif'!$J$1),2)","v":8.7200000000000006},{"$f":"ROUND('Tarifgruppe S'!E69*(1-'V-Tarif'!$J$1),2)","v":3.95},{"$f":"ROUND('Tarifgruppe S'!F69*(1-'V-Tarif'!$J$1),2)","v":2.65},{"$f":"ROUND('Tarifgruppe S'!G69*(1-'V-Tarif'!$J$1),2)","v":2.58},{"$f":"ROUND('Tarifgruppe S'!H69*(1-'V-Tarif'!$J$1),2)","v":30.88},{"$f":"ROUND('Tarifgruppe S'!I69*(1-'V-Tarif'!$J$1),2)","v":4.18},{"$f":"ROUND('Tarifgruppe S'!J69*(1-'V-Tarif'!$J$1),2)","v":5.89},{"$f":"ROUND('Tarifgruppe S'!K69*(1-'V-Tarif'!$J$1),2)","v":7.26},{"$f":"ROUND('Tarifgruppe S'!L69*(1-'V-Tarif'!$J$1),2)","v":3.29},{"$f":"ROUND('Tarifgruppe S'!M69*(1-'V-Tarif'!$J$1),2)","v":2.21},{"$f":"ROUND('Tarifgruppe S'!N69*(1-'V-Tarif'!$J$1),2)","v":2.15},{"$f":"ROUND('Tarifgruppe S'!O69*(1-'V-Tarif'!$J$1),2)","v":25.73},null,56,{"$f":"ROUND('Tarif URP'!B65*(1-'V-Tarif'!$J$1),2)","v":1.73},{"$f":"ROUND('Tarif URP'!C65*(1-'V-Tarif'!$J$1),2)","v":1.7},{"$f":"ROUND('Tarif URP'!D65*(1-'V-Tarif'!$J$1),2)","v":5},{"$f":"ROUND('Tarif URP'!E65*(1-'V-Tarif'!$J$1),2)","v":5.6}]
[120,{"$f":"ROUND('Tarifgruppe S'!B70*(1-'V-Tarif'!$J$1),2)","v":5.27},{"$f":"ROUND('Tarifgruppe S'!C70*(1-'V-Tarif'!$J$1),2)","v":7.42},{"$f":"ROUND('Tarifgruppe S'!D70*(1-'V-Tarif'!$J$1),2)","v":9.15},{"$f":"ROUND('Tarifgruppe S'!E70*(1-'V-Tarif'!$J$1),2)","v":4.1399999999999997},{"$f":"ROUND('Tarifgruppe S'!F70*(1-'V-Tarif'!$J$1),2)","v":2.78},{"$f":"ROUND('Tarifgruppe S'!G70*(1-'V-Tarif'!$J$1),2)","v":2.71},{"$f":"ROUND('Tarifgruppe S'!H70*(1-'V-Tarif'!$J$1),2)","v":32.42},{"$f":"ROUND('Tarifgruppe S'!I70*(1-'V-Tarif'!$J$1),2)","v":4.3899999999999997},{"$f":"ROUND('Tarifgruppe S'!J70*(1-'V-Tarif'!$J$1),2)","v":6.18},{"$f":"ROUND('Tarifgruppe S'!K70*(1-'V-Tarif'!$J$1),2)","v":7.63},{"$f":"ROUND('Tarifgruppe S'!L70*(1-'V-Tarif'!$J$1),2)","v":3.45},{"$f":"ROUND('Tarifgruppe S'!M70*(1-'V-Tarif'!$J$1),2)","v":2.3199999999999998},{"$f":"ROUND('Tarifgruppe S'!N70*(1-'V-Tarif'!$J$1),2)","v":2.2599999999999998},{"$f":"ROUND('Tarifgruppe S'!O70*(1-'V-Tarif'!$J$1),2)","v":27.02},null,57,{"$f":"ROUND('Tarif URP'!B66*(1-'V-Tarif'!$J$1),2)","v":1.63},{"$f":"ROUND('Tarif URP'!C66*(1-'V-Tarif'!$J$1),2)","v":1.6},{"$f":"ROUND('Tarif URP'!D66*(1-'V-Tarif'!$J$1),2)","v":5.49},{"$f":"ROUND('Tarif URP'!E66*(1-'V-Tarif'!$J$1),2)","v":6.13}]
[121,{"$f":"ROUND('Tarifgruppe S'!B71*(1-'V-Tarif'!$J$1),2)","v":5.53},{"$f":"ROUND('Tarifgruppe S'!C71*(1-'V-Tarif'!$J$1),2)","v":7.79},{"$f":"ROUND('Tarifgruppe S'!D71*(1-'V-Tarif'!$J$1),2)","v":9.61},{"$f":"ROUND('Tarifgruppe S'!E71*(1-'V-Tarif'!$J$1),2)","v":4.3499999999999996},{"$f":"ROUND('Tarifgruppe S'!F71*(1-'V-Tarif'!$J$1),2)","v":2.92},{"$f":"ROUND('Tarifgruppe S'!G71*(1-'V-Tarif'!$J$1),2)","v":2.85},{"$f":"ROUND('Tarifgruppe S'!H71*(1-'V-Tarif'!$J$1),2)","v":34.04},{"$f":"ROUND('Tarifgruppe S'!I71*(1-'V-Tarif'!$J$1),2)","v":4.6100000000000003},{"$f":"ROUND('Tarifgruppe S'!J71*(1-'V-Tarif'!$J$1),2)","v":6.49},{"$f":"ROUND('Tarifgruppe S'!K71*(1-'V-Tarif'!$J$1),2)","v":8.01},{"$f":"ROUND('Tarifgruppe S'!L71*(1-'V-Tarif'!$J$1),2)","v":3.63},{"$f":"ROUND('Tarifgruppe S'!M71*(1-'V-Tarif'!$J$1),2)","v":2.4300000000000002},{"$f":"ROUND('Tarifgruppe S'!N71*(1-'V-Tarif'!$J$1),2)","v":2.37},{"$f":"ROUND('Tarifgruppe S'!O71*(1-'V-Tarif'!$J$1),2)","v":28.37},null,58,{"$f":"ROUND('Tarif URP'!B67*(1-'V-Tarif'!$J$1),2)","v":1.19},{"$f":"ROUND('Tarif URP'!C67*(1-'V-Tarif'!$J$1),2)","v":1.1599999999999999},{"$f":"ROUND('Tarif URP'!D67*(1-'V-Tarif'!$J$1),2)","v":6.08},{"$f":"ROUND('Tarif URP'!E67*(1-'V-Tarif'!$J$1),2)","v":6.77}]
[122,{"$f":"ROUND('Tarifgruppe S'!B72*(1-'V-Tarif'!$J$1),2)","v":5.81},{"$f":"ROUND('Tarifgruppe S'!C72*(1-'V-Tarif'!$J$1),2)","v":8.18},{"$f":"ROUND('Tarifgruppe S'!D72*(1-'V-Tarif'!$J$1),2)","v":10.09},{"$f":"ROUND('Tarifgruppe S'!E72*(1-'V-Tarif'!$J$1),2)","v":4.57},{"$f":"ROUND('Tarifgruppe S'!F72*(1-'V-Tarif'!$J$1),2)","v":3.06},{"$f":"ROUND('Tarifgruppe S'!G72*(1-'V-Tarif'!$J$1),2)","v":2.99},{"$f":"ROUND('Tarifgruppe S'!H72*(1-'V-Tarif'!$J$1),2)","v":35.74},{"$f":"ROUND('Tarifgruppe S'!I72*(1-'V-Tarif'!$J$1),2)","v":4.84},{"$f":"ROUND('Tarifgruppe S'!J72*(1-'V-Tarif'!$J$1),2)","v":6.81},{"$f":"ROUND('Tarifgruppe S'!K72*(1-'V-Tarif'!$J$1),2)","v":8.41},{"$f":"ROUND('Tarifgruppe S'!L72*(1-'V-Tarif'!$J$1),2)","v":3.81},{"$f":"ROUND('Tarifgruppe S'!M72*(1-'V-Tarif'!$J$1),2)","v":2.5499999999999998},{"$f":"ROUND('Tarifgruppe S'!N72*(1-'V-Tarif'!$J$1),2)","v":2.4900000000000002},{"$f":"ROUND('Tarifgruppe S'!O72*(1-'V-Tarif'!$J$1),2)","v":29.79},null,59,{"$f":"ROUND('Tarif URP'!B68*(1-'V-Tarif'!$J$1),2)","v":0.48},{"$f":"ROUND('Tarif URP'!C68*(1-'V-Tarif'!$J$1),2)","v":0.47},{"$f":"ROUND('Tarif URP'!D68*(1-'V-Tarif'!$J$1),2)","v":6.74},{"$f":"ROUND('Tarif URP'!E68*(1-'V-Tarif'!$J$1),2)","v":7.48}]
[123,{"$f":"ROUND('Tarifgruppe S'!B73*(1-'V-Tarif'!$J$1),2)","v":6.1},{"$f":"ROUND('Tarifgruppe S'!C73*(1-'V-Tarif'!$J$1),2)","v":8.59},{"$f":"ROUND('Tarifgruppe S'!D73*(1-'V-Tarif'!$J$1),2)","v":10.59},{"$f":"ROUND('Tarifgruppe S'!E73*(1-'V-Tarif'!$J$1),2)","v":4.8},{"$f":"ROUND('Tarifgruppe S'!F73*(1-'V-Tarif'!$J$1),2)","v":3.22},{"$f":"ROUND('Tarifgruppe S'!G73*(1-'V-Tarif'!$J$1),2)","v":3.14},{"$f":"ROUND('Tarifgruppe S'!H73*(1-'V-Tarif'!$J$1),2)","v":37.53},{"$f":"ROUND('Tarifgruppe S'!I73*(1-'V-Tarif'!$J$1),2)","v":5.08},{"$f":"ROUND('Tarifgruppe S'!J73*(1-'V-Tarif'!$J$1),2)","v":7.16},{"$f":"ROUND('Tarifgruppe S'!K73*(1-'V-Tarif'!$J$1),2)","v":8.83},{"$f":"ROUND('Tarifgruppe S'!L73*(1-'V-Tarif'!$J$1),2)","v":4},{"$f":"ROUND('Tarifgruppe S'!M73*(1-'V-Tarif'!$J$1),2)","v":2.68},{"$f":"ROUND('Tarifgruppe S'!N73*(1-'V-Tarif'!$J$1),2)","v":2.61},{"$f":"ROUND('Tarifgruppe S'!O73*(1-'V-Tarif'!$J$1),2)","v":31.28},null,60,null,null,{"$f":"ROUND('Tarif URP'!D69*(1-'V-Tarif'!$J$1),2)","v":7.21},{"$f":"ROUND('Tarif URP'!E69*(1-'V-Tarif'!$J$1),2)","v":7.94}]
[124,{"$f":"ROUND('Tarifgruppe S'!B74*(1-'V-Tarif'!$J$1),2)","v":6.4},{"$f":"ROUND('Tarifgruppe S'!C74*(1-'V-Tarif'!$J$1),2)","v":9.02},{"$f":"ROUND('Tarifgruppe S'!D74*(1-'V-Tarif'!$J$1),2)","v":11.12},{"$f":"ROUND('Tarifgruppe S'!E74*(1-'V-Tarif'!$J$1),2)","v":5.04},{"$f":"ROUND('Tarifgruppe S'!F74*(1-'V-Tarif'!$J$1),2)","v":3.38},{"$f":"ROUND('Tarifgruppe S'!G74*(1-'V-Tarif'!$J$1),2)","v":3.29},{"$f":"ROUND('Tarifgruppe S'!H74*(1-'V-Tarif'!$J$1),2)","v":39.409999999999997},{"$f":"ROUND('Tarifgruppe S'!I74*(1-'V-Tarif'!$J$1),2)","v":5.34},{"$f":"ROUND('Tarifgruppe S'!J74*(1-'V-Tarif'!$J$1),2)","v":7.51},{"$f":"ROUND('Tarifgruppe S'!K74*(1-'V-Tarif'!$J$1),2)","v":9.27},{"$f":"ROUND('Tarifgruppe S'!L74*(1-'V-Tarif'!$J$1),2)","v":4.2},{"$f":"ROUND('Tarifgruppe S'!M74*(1-'V-Tarif'!$J$1),2)","v":2.81},{"$f":"ROUND('Tarifgruppe S'!N74*(1-'V-Tarif'!$J$1),2)","v":2.75},{"$f":"ROUND('Tarifgruppe S'!O74*(1-'V-Tarif'!$J$1),2)","v":32.840000000000003},null,61,null,null,{"$f":"ROUND('Tarif URP'!D70*(1-'V-Tarif'!$J$1),2)","v":7.98},{"$f":"ROUND('Tarif URP'!E70*(1-'V-Tarif'!$J$1),2)","v":8.77}]
[125,{"$f":"ROUND('Tarifgruppe S'!B75*(1-'V-Tarif'!$J$1),2)","v":6.72},{"$f":"ROUND('Tarifgruppe S'!C75*(1-'V-Tarif'!$J$1),2)","v":9.4700000000000006},{"$f":"ROUND('Tarifgruppe S'!D75*(1-'V-Tarif'!$J$1),2)","v":11.68},{"$f":"ROUND('Tarifgruppe S'!E75*(1-'V-Tarif'!$J$1),2)","v":5.29},{"$f":"ROUND('Tarifgruppe S'!F75*(1-'V-Tarif'!$J$1),2)","v":3.55},{"$f":"ROUND('Tarifgruppe S'!G75*(1-'V-Tarif'!$J$1),2)","v":3.46},{"$f":"ROUND('Tarifgruppe S'!H75*(1-'V-Tarif'!$J$1),2)","v":41.38},{"$f":"ROUND('Tarifgruppe S'!I75*(1-'V-Tarif'!$J$1),2)","v":5.6},{"$f":"ROUND('Tarifgruppe S'!J75*(1-'V-Tarif'!$J$1),2)","v":7.89},{"$f":"ROUND('Tarifgruppe S'!K75*(1-'V-Tarif'!$J$1),2)","v":9.73},{"$f":"ROUND('Tarifgruppe S'!L75*(1-'V-Tarif'!$J$1),2)","v":4.41},{"$f":"ROUND('Tarifgruppe S'!M75*(1-'V-Tarif'!$J$1),2)","v":2.95},{"$f":"ROUND('Tarifgruppe S'!N75*(1-'V-Tarif'!$J$1),2)","v":2.88},{"$f":"ROUND('Tarifgruppe S'!O75*(1-'V-Tarif'!$J$1),2)","v":34.479999999999997},null,62,null,null,{"$f":"ROUND('Tarif URP'!D71*(1-'V-Tarif'!$J$1),2)","v":8.7799999999999994},{"$f":"ROUND('Tarif URP'!E71*(1-'V-Tarif'!$J$1),2)","v":9.6199999999999992}]
[null,null,null,null,null,null,null,null,null,null,null,null,null,null,null,null,63,null,null,{"$f":"ROUND('Tarif URP'!D72*(1-'V-Tarif'!$J$1),2)","v":9.57},{"$f":"ROUND('Tarif URP'!E72*(1-'V-Tarif'!$J$1),2)","v":10.46}]
[null,null,null,null,null,null,null,null,null,null,null,null,null,null,null,null,64,null,null,{"$f":"ROUND('Tarif URP'!D73*(1-'V-Tarif'!$J$1),2)","v":10.38},{"$f":"ROUND('Tarif URP'!E73*(1-'V-Tarif'!$J$1),2)","v":11.32}]
[null,null,null,null,null,null,null,null,null,null,null,null,null,null,null,null,65,null,null,{"$f":"ROUND('Tarif URP'!D74*(1-'V-Tarif'!$J$1),2)","v":10.79},{"$f":"ROUND('Tarif URP'!E74*(1-'V-Tarif'!$J$1),2)","v":11.69}]
[null,null,null,null,null,null,null,null,null,null,null,null,null,null,null,null,66,null,null,{"$f":"ROUND('Tarif URP'!D75*(1-'V-Tarif'!$J$1),2)","v":11.61},{"$f":"ROUND('Tarif URP'!E75*(1-'V-Tarif'!$J$1),2)","v":12.55}]